BEGIN:VCALENDAR
VERSION:2.0
PRODID:-//Eglise ADD Istres - ECPv6.15.17//NONSGML v1.0//EN
CALSCALE:GREGORIAN
METHOD:PUBLISH
X-ORIGINAL-URL:https://www.addistres.fr
X-WR-CALDESC:Évènements pour Eglise ADD Istres
REFRESH-INTERVAL;VALUE=DURATION:PT1H
X-Robots-Tag:noindex
X-PUBLISHED-TTL:PT1H
BEGIN:VTIMEZONE
TZID:Europe/Paris
BEGIN:DAYLIGHT
TZOFFSETFROM:+0100
TZOFFSETTO:+0200
TZNAME:CEST
DTSTART:20180325T010000
END:DAYLIGHT
BEGIN:STANDARD
TZOFFSETFROM:+0200
TZOFFSETTO:+0100
TZNAME:CET
DTSTART:20181028T010000
END:STANDARD
BEGIN:DAYLIGHT
TZOFFSETFROM:+0100
TZOFFSETTO:+0200
TZNAME:CEST
DTSTART:20190331T010000
END:DAYLIGHT
BEGIN:STANDARD
TZOFFSETFROM:+0200
TZOFFSETTO:+0100
TZNAME:CET
DTSTART:20191027T010000
END:STANDARD
BEGIN:DAYLIGHT
TZOFFSETFROM:+0100
TZOFFSETTO:+0200
TZNAME:CEST
DTSTART:20200329T010000
END:DAYLIGHT
BEGIN:STANDARD
TZOFFSETFROM:+0200
TZOFFSETTO:+0100
TZNAME:CET
DTSTART:20201025T010000
END:STANDARD
END:VTIMEZONE
BEGIN:VEVENT
DTSTART;VALUE=DATE:20191005
DTEND;VALUE=DATE:20191007
DTSTAMP:20260421T001336
CREATED:20190527T140127Z
LAST-MODIFIED:20190527T140820Z
UID:12161-1570233600-1570406399@www.addistres.fr
SUMMARY:Camp d'église
DESCRIPTION:Thème : La Famille \n \nLes 5 et 6 octobre 2019\, toute l’église se réunira au Plan d’Aups – Sainte baume le temps d’un week-end. À 1h30 d’Istres\, situé sur la Sainte Baume dominant Marseille\, le centre chrétien « La pastorale » peut accueillir jusqu’à 130 personnes dans ses locaux composés de dortoirs et de chambres de 2 à 4 personnes. \nDes espaces verts et luxuriants\, des salles communes conviviales\, des espaces détentes sont autant d’atouts qui font le charme de ce centre situé au calme\, dans la Provence verte. \nLe planning et les tarifs en pension complète du week-end sont encore à confirmer. \nLes inscriptions sont ouvertes à tous\, situés sur le tableau de l’église. N’oubliez pas de réservez votre week-end. \n  \nLa culte du dimanche sera normalement assuré pour le reste de l’église.
URL:https://www.addistres.fr/event/camp-deglise/
LOCATION:Plan d’Aups\, Plan d'aups\, Saint Baume\, 83640\, France
CATEGORIES:Divers
ATTACH;FMTTYPE=image/jpeg:https://www.addistres.fr/wp-content/uploads/2019/05/OCT-19-Camp-déglise.jpg
ORGANIZER;CN="Assembl%C3%A9e de Dieu d'Istres":MAILTO:addistres@gmail.com
END:VEVENT
END:VCALENDAR