BEGIN:VCALENDAR
VERSION:2.0
PRODID:-//Eglise ADD Istres - ECPv6.15.17//NONSGML v1.0//EN
CALSCALE:GREGORIAN
METHOD:PUBLISH
X-ORIGINAL-URL:https://www.addistres.fr
X-WR-CALDESC:Évènements pour Eglise ADD Istres
REFRESH-INTERVAL;VALUE=DURATION:PT1H
X-Robots-Tag:noindex
X-PUBLISHED-TTL:PT1H
BEGIN:VTIMEZONE
TZID:Europe/Paris
BEGIN:DAYLIGHT
TZOFFSETFROM:+0100
TZOFFSETTO:+0200
TZNAME:CEST
DTSTART:20180325T010000
END:DAYLIGHT
BEGIN:STANDARD
TZOFFSETFROM:+0200
TZOFFSETTO:+0100
TZNAME:CET
DTSTART:20181028T010000
END:STANDARD
BEGIN:DAYLIGHT
TZOFFSETFROM:+0100
TZOFFSETTO:+0200
TZNAME:CEST
DTSTART:20190331T010000
END:DAYLIGHT
BEGIN:STANDARD
TZOFFSETFROM:+0200
TZOFFSETTO:+0100
TZNAME:CET
DTSTART:20191027T010000
END:STANDARD
BEGIN:DAYLIGHT
TZOFFSETFROM:+0100
TZOFFSETTO:+0200
TZNAME:CEST
DTSTART:20200329T010000
END:DAYLIGHT
BEGIN:STANDARD
TZOFFSETFROM:+0200
TZOFFSETTO:+0100
TZNAME:CET
DTSTART:20201025T010000
END:STANDARD
END:VTIMEZONE
BEGIN:VEVENT
DTSTART;TZID=Europe/Paris:20190606T170000
DTEND;TZID=Europe/Paris:20190606T180000
DTSTAMP:20260419T230930
CREATED:20190526T221237Z
LAST-MODIFIED:20190526T221237Z
UID:12102-1559840400-1559844000@www.addistres.fr
SUMMARY:Réunion de bureau CAJEF Provence
DESCRIPTION:Réunion du bureau de l’association CAJEF Provence\, à 17h.
URL:https://www.addistres.fr/event/reunion-de-bureau-cajef-provence/
LOCATION:Église FPMA de Marseille\, 258 Bd Romain Rolland\, Marseille\, 13009\, France
CATEGORIES:Conseil d'Administration
ATTACH;FMTTYPE=image/jpeg:https://www.addistres.fr/wp-content/uploads/2019/05/JUIN-19-CAJEF-réunion-bureau.jpg
ORGANIZER;CN="Assembl%C3%A9e de Dieu d'Istres":MAILTO:addistres@gmail.com
END:VEVENT
BEGIN:VEVENT
DTSTART;TZID=Europe/Paris:20190616T120000
DTEND;TZID=Europe/Paris:20190616T140000
DTSTAMP:20260419T230930
CREATED:20190526T214525Z
LAST-MODIFIED:20190526T214525Z
UID:12088-1560686400-1560693600@www.addistres.fr
SUMMARY:Agape
DESCRIPTION:Dans l’église primitive\, l’agape était un repas fraternel pris en commun entre amis chrétiens. A chacun de nous donc\, de ramener un plat salé ou sucré et une boisson . \nNous partagerons ce repas entre amis et frères et sœurs dans l’église\, vers midi\, juste après le culte. La seule participation demandée sera votre présence ainsi qu’une aide à placer et ranger les tables.
URL:https://www.addistres.fr/event/agape-14/
LOCATION:Église FPMA de Marseille\, 258 Bd Romain Rolland\, Marseille\, 13009\, France
CATEGORIES:Agape
ATTACH;FMTTYPE=image/jpeg:https://www.addistres.fr/wp-content/uploads/2018/11/DEC-18-16-Agape-1.jpg
ORGANIZER;CN="Assembl%C3%A9e de Dieu d'Istres":MAILTO:addistres@gmail.com
END:VEVENT
BEGIN:VEVENT
DTSTART;TZID=Europe/Paris:20190620T173000
DTEND;TZID=Europe/Paris:20190620T183000
DTSTAMP:20260419T230930
CREATED:20190526T223814Z
LAST-MODIFIED:20190526T223814Z
UID:12124-1561051800-1561055400@www.addistres.fr
SUMMARY:Réunion de bureau
DESCRIPTION:Réunion des membres du conseil d’administration de l’église à 17h30.
URL:https://www.addistres.fr/event/reunion-de-bureau-2/
LOCATION:Église FPMA de Marseille\, 258 Bd Romain Rolland\, Marseille\, 13009\, France
CATEGORIES:Conseil d'Administration
ATTACH;FMTTYPE=image/jpeg:https://www.addistres.fr/wp-content/uploads/2019/05/JUIN-19-Réunion-du-bureau.jpg
ORGANIZER;CN="Assembl%C3%A9e de Dieu d'Istres":MAILTO:addistres@gmail.com
END:VEVENT
BEGIN:VEVENT
DTSTART;TZID=Europe/Paris:20190622T120000
DTEND;TZID=Europe/Paris:20190622T170000
DTSTAMP:20260419T230930
CREATED:20190526T224746Z
LAST-MODIFIED:20190526T224746Z
UID:12130-1561204800-1561222800@www.addistres.fr
SUMMARY:Repas des animateurs
DESCRIPTION:Le samedi 22 juin est organisée chez Michèle Lauricella\, un repas de fin d’année pour les animateurs et leur famille\, du club des enfants.
URL:https://www.addistres.fr/event/repas-des-animateurs-2/
LOCATION:Add Istres\, Impasse du Rouquier\, Istres\, Bouches-du-Rhône\, 13800\, France
CATEGORIES:Agape
ATTACH;FMTTYPE=image/jpeg:https://www.addistres.fr/wp-content/uploads/2019/05/JUIN-19-Club-Repas-animateurs.jpg
ORGANIZER;CN="Assembl%C3%A9e de Dieu d'Istres":MAILTO:addistres@gmail.com
END:VEVENT
BEGIN:VEVENT
DTSTART;TZID=Europe/Paris:20190623T110000
DTEND;TZID=Europe/Paris:20190623T113000
DTSTAMP:20260419T230930
CREATED:20190526T220925Z
LAST-MODIFIED:20190526T220925Z
UID:12099-1561287600-1561289400@www.addistres.fr
SUMMARY:Assemblée Générale CAJEF Provence
DESCRIPTION:À partir de 11h aura lieue l’assemblée générale annuelle de l’association CAJEF Provence. \nÀ l’ordre du jour : bilan moral et bilan financier. \nLa présence des membres adhérents est souhaitée.
URL:https://www.addistres.fr/event/assemblee-generale-cajef-provence/
LOCATION:Église FPMA de Marseille\, 258 Bd Romain Rolland\, Marseille\, 13009\, France
CATEGORIES:Assemblée Générale
ATTACH;FMTTYPE=image/jpeg:https://www.addistres.fr/wp-content/uploads/2019/05/JUIN-19-CAJEF-AG.jpg
END:VEVENT
BEGIN:VEVENT
DTSTART;TZID=Europe/Paris:20190628T143000
DTEND;TZID=Europe/Paris:20190628T163000
DTSTAMP:20260419T230930
CREATED:20190526T225203Z
LAST-MODIFIED:20190622T201434Z
UID:12133-1561732200-1561739400@www.addistres.fr
SUMMARY:Conseil d'ancien
DESCRIPTION:Réunion du conseil des anciens à 14h30.
URL:https://www.addistres.fr/event/conseil-dancien/
LOCATION:Église FPMA de Marseille\, 258 Bd Romain Rolland\, Marseille\, 13009\, France
CATEGORIES:Conseil d'ancien
ATTACH;FMTTYPE=image/jpeg:https://www.addistres.fr/wp-content/uploads/2019/05/JUN-19-Réunion-du-conseil.jpg
ORGANIZER;CN="Assembl%C3%A9e de Dieu d'Istres":MAILTO:addistres@gmail.com
END:VEVENT
BEGIN:VEVENT
DTSTART;TZID=Europe/Paris:20190629T120000
DTEND;TZID=Europe/Paris:20190629T170000
DTSTAMP:20260419T230930
CREATED:20190526T225444Z
LAST-MODIFIED:20190526T225444Z
UID:12136-1561809600-1561827600@www.addistres.fr
SUMMARY:Repas de femmes O'Féminin
DESCRIPTION:Repas de fin d’année pour les femmes du groupe O’Féminin\, organisé chez Raymonde Bernard\, le 29 juin à 12h.
URL:https://www.addistres.fr/event/repas-de-femmes-ofeminin/
LOCATION:Bouches-du-Rhône
CATEGORIES:Agape
ATTACH;FMTTYPE=image/jpeg:https://www.addistres.fr/wp-content/uploads/2019/05/JUIN-19-Femmes-Repas.jpg
END:VEVENT
END:VCALENDAR