BEGIN:VCALENDAR
VERSION:2.0
PRODID:-//Eglise ADD Istres - ECPv6.15.17//NONSGML v1.0//EN
CALSCALE:GREGORIAN
METHOD:PUBLISH
X-WR-CALNAME:Eglise ADD Istres
X-ORIGINAL-URL:https://www.addistres.fr
X-WR-CALDESC:Évènements pour Eglise ADD Istres
REFRESH-INTERVAL;VALUE=DURATION:PT1H
X-Robots-Tag:noindex
X-PUBLISHED-TTL:PT1H
BEGIN:VTIMEZONE
TZID:Europe/Paris
BEGIN:DAYLIGHT
TZOFFSETFROM:+0100
TZOFFSETTO:+0200
TZNAME:CEST
DTSTART:20180325T010000
END:DAYLIGHT
BEGIN:STANDARD
TZOFFSETFROM:+0200
TZOFFSETTO:+0100
TZNAME:CET
DTSTART:20181028T010000
END:STANDARD
BEGIN:DAYLIGHT
TZOFFSETFROM:+0100
TZOFFSETTO:+0200
TZNAME:CEST
DTSTART:20190331T010000
END:DAYLIGHT
BEGIN:STANDARD
TZOFFSETFROM:+0200
TZOFFSETTO:+0100
TZNAME:CET
DTSTART:20191027T010000
END:STANDARD
BEGIN:DAYLIGHT
TZOFFSETFROM:+0100
TZOFFSETTO:+0200
TZNAME:CEST
DTSTART:20200329T010000
END:DAYLIGHT
BEGIN:STANDARD
TZOFFSETFROM:+0200
TZOFFSETTO:+0100
TZNAME:CET
DTSTART:20201025T010000
END:STANDARD
END:VTIMEZONE
BEGIN:VEVENT
DTSTART;TZID=Europe/Paris:20190124T170000
DTEND;TZID=Europe/Paris:20190124T183000
DTSTAMP:20260419T150159
CREATED:20190104T213939Z
LAST-MODIFIED:20190104T214707Z
UID:3443-1548349200-1548354600@www.addistres.fr
SUMMARY:Réunion CAJEF
DESCRIPTION:Réunion du bureau des membres de la CAJEF. \nJeudi 24 janvier à 17h.
URL:https://www.addistres.fr/event/reunion-cajef-2/
LOCATION:Église FPMA de Marseille\, 258 Bd Romain Rolland\, Marseille\, 13009\, France
CATEGORIES:Conseil d'Administration
ATTACH;FMTTYPE=image/jpeg:https://www.addistres.fr/wp-content/uploads/2019/01/JAN-19-Réunion-bureau-CAJEF.jpg
ORGANIZER;CN="Assembl%C3%A9e de Dieu d'Istres":MAILTO:addistres@gmail.com
END:VEVENT
BEGIN:VEVENT
DTSTART;TZID=Europe/Paris:20190124T183000
DTEND;TZID=Europe/Paris:20190124T200000
DTSTAMP:20260419T150159
CREATED:20190104T215035Z
LAST-MODIFIED:20190104T215035Z
UID:3446-1548354600-1548360000@www.addistres.fr
SUMMARY:Conseil d'administration
DESCRIPTION:Réunion des membres du bureau du conseil d’administration de l’église. \nJeudi 24 janvier à 18h30.
URL:https://www.addistres.fr/event/conseil-dadministration/
LOCATION:Église FPMA de Marseille\, 258 Bd Romain Rolland\, Marseille\, 13009\, France
CATEGORIES:Conseil d'Administration
ATTACH;FMTTYPE=image/jpeg:https://www.addistres.fr/wp-content/uploads/2019/01/JAN-19-Réunion-du-CA.jpg
ORGANIZER;CN="Assembl%C3%A9e de Dieu d'Istres":MAILTO:addistres@gmail.com
END:VEVENT
END:VCALENDAR