BEGIN:VCALENDAR
VERSION:2.0
PRODID:-//Eglise ADD Istres - ECPv6.15.17//NONSGML v1.0//EN
CALSCALE:GREGORIAN
METHOD:PUBLISH
X-WR-CALNAME:Eglise ADD Istres
X-ORIGINAL-URL:https://www.addistres.fr
X-WR-CALDESC:Évènements pour Eglise ADD Istres
REFRESH-INTERVAL;VALUE=DURATION:PT1H
X-Robots-Tag:noindex
X-PUBLISHED-TTL:PT1H
BEGIN:VTIMEZONE
TZID:Europe/Paris
BEGIN:DAYLIGHT
TZOFFSETFROM:+0100
TZOFFSETTO:+0200
TZNAME:CEST
DTSTART:20170326T010000
END:DAYLIGHT
BEGIN:STANDARD
TZOFFSETFROM:+0200
TZOFFSETTO:+0100
TZNAME:CET
DTSTART:20171029T010000
END:STANDARD
BEGIN:DAYLIGHT
TZOFFSETFROM:+0100
TZOFFSETTO:+0200
TZNAME:CEST
DTSTART:20180325T010000
END:DAYLIGHT
BEGIN:STANDARD
TZOFFSETFROM:+0200
TZOFFSETTO:+0100
TZNAME:CET
DTSTART:20181028T010000
END:STANDARD
BEGIN:DAYLIGHT
TZOFFSETFROM:+0100
TZOFFSETTO:+0200
TZNAME:CEST
DTSTART:20190331T010000
END:DAYLIGHT
BEGIN:STANDARD
TZOFFSETFROM:+0200
TZOFFSETTO:+0100
TZNAME:CET
DTSTART:20191027T010000
END:STANDARD
END:VTIMEZONE
BEGIN:VEVENT
DTSTART;TZID=Europe/Paris:20180401T095000
DTEND;TZID=Europe/Paris:20180401T113000
DTSTAMP:20260423T054109
CREATED:20180306T211545Z
LAST-MODIFIED:20180306T212946Z
UID:2639-1522576200-1522582200@www.addistres.fr
SUMMARY:Culte
DESCRIPTION:Culte de louange et d’adoration. Message apporté par le pasteur Joël Prudent. \nPouponnière pour les nourrissons jusqu’à 1 an. \nClub des enfants de 1 à 4 ans\, de 5 à 9 ans et de 10 à 12 ans.
URL:https://www.addistres.fr/event/culte-27/
LOCATION:Église FPMA de Marseille\, 258 Bd Romain Rolland\, Marseille\, 13009\, France
CATEGORIES:Culte
ORGANIZER;CN="Assembl%C3%A9e de Dieu d'Istres":MAILTO:addistres@gmail.com
END:VEVENT
BEGIN:VEVENT
DTSTART;TZID=Europe/Paris:20180401T153000
DTEND;TZID=Europe/Paris:20180401T163000
DTSTAMP:20260423T054109
CREATED:20180309T165517Z
LAST-MODIFIED:20180309T165517Z
UID:2745-1522596600-1522600200@www.addistres.fr
SUMMARY:Réunion d'évangélisation
DESCRIPTION:Réunion d’évangélisation le dimanche 1er avril à 15h30. \nAmenez vos amis et votre famille afin de leur faire écouter le message de l’évangile\, apporté par le pasteur Joël Prudent. \n  \nEntrée libre et gratuite.
URL:https://www.addistres.fr/event/reunion-devangelisation-33/
LOCATION:Église FPMA de Marseille\, 258 Bd Romain Rolland\, Marseille\, 13009\, France
CATEGORIES:Evangélisation
ORGANIZER;CN="Assembl%C3%A9e de Dieu d'Istres":MAILTO:addistres@gmail.com
END:VEVENT
BEGIN:VEVENT
DTSTART;TZID=Europe/Paris:20180403T190000
DTEND;TZID=Europe/Paris:20180403T203000
DTSTAMP:20260423T054109
CREATED:20180309T171423Z
LAST-MODIFIED:20180309T171423Z
UID:2766-1522782000-1522787400@www.addistres.fr
SUMMARY:Réunion de prières
DESCRIPTION:Réunion de prières et d’intercessions. \nUne étude biblique est ensuite apportée afin d’édifier le peuple de Dieu. \nMessage apporté par le pasteur Joël Prudent.
URL:https://www.addistres.fr/event/reunion-de-prieres-25/
LOCATION:Église FPMA de Marseille\, 258 Bd Romain Rolland\, Marseille\, 13009\, France
CATEGORIES:Prière
ORGANIZER;CN="Assembl%C3%A9e de Dieu d'Istres":MAILTO:addistres@gmail.com
END:VEVENT
BEGIN:VEVENT
DTSTART;TZID=Europe/Paris:20180406T190000
DTEND;TZID=Europe/Paris:20180406T200000
DTSTAMP:20260423T054109
CREATED:20180309T170654Z
LAST-MODIFIED:20180309T170654Z
UID:2754-1523041200-1523044800@www.addistres.fr
SUMMARY:Réunion d'évangélisation
DESCRIPTION:Chaque vendredi à 19h00\, le pasteur Joël Prudent parle librement de la bible et de la vie de Jésus-Christ notre Sauveur.
URL:https://www.addistres.fr/event/reunion-devangelisation-34/
LOCATION:Église FPMA de Marseille\, 258 Bd Romain Rolland\, Marseille\, 13009\, France
CATEGORIES:Evangélisation
ORGANIZER;CN="Assembl%C3%A9e de Dieu d'Istres":MAILTO:addistres@gmail.com
END:VEVENT
BEGIN:VEVENT
DTSTART;TZID=Europe/Paris:20180407T173000
DTEND;TZID=Europe/Paris:20180407T190000
DTSTAMP:20260423T054109
CREATED:20180309T172824Z
LAST-MODIFIED:20180314T001345Z
UID:2774-1523122200-1523127600@www.addistres.fr
SUMMARY:Réunion de jeunesse
DESCRIPTION:Le 7 avril\, les jeunes de l’église se réuniront afin de passer un moment agréable autour de la parole de Dieu. \nCe sera aussi l’occasion pour eux de mieux se connaître et ainsi créer des liens fraternels et d’amitiés. \nMessage apporté par le pasteur Joël Prudent.
URL:https://www.addistres.fr/event/reunion-de-jeunesse-12/
LOCATION:Église FPMA de Marseille\, 258 Bd Romain Rolland\, Marseille\, 13009\, France
CATEGORIES:Jeunesse
ATTACH;FMTTYPE=image/jpeg:https://www.addistres.fr/wp-content/uploads/2018/03/Réunion-de-jeunesse-Istres-07-avril.jpg
ORGANIZER;CN="Assembl%C3%A9e de Dieu d'Istres":MAILTO:addistres@gmail.com
END:VEVENT
BEGIN:VEVENT
DTSTART;TZID=Europe/Paris:20180408T095000
DTEND;TZID=Europe/Paris:20180408T113000
DTSTAMP:20260423T054109
CREATED:20180309T142056Z
LAST-MODIFIED:20180314T001317Z
UID:2710-1523181000-1523187000@www.addistres.fr
SUMMARY:Culte
DESCRIPTION:Culte de louange et d’adoration. Message apporté par le pasteur Saïd Oujibou. \nPouponnière pour les nourrissons jusqu’à 1 an. \nClub des enfants de 1 à 4 ans\, de 5 à 9 ans et de 10 à 12 ans.
URL:https://www.addistres.fr/event/culte-28/
LOCATION:Église FPMA de Marseille\, 258 Bd Romain Rolland\, Marseille\, 13009\, France
CATEGORIES:Culte
ORGANIZER;CN="Assembl%C3%A9e de Dieu d'Istres":MAILTO:addistres@gmail.com
END:VEVENT
BEGIN:VEVENT
DTSTART;TZID=Europe/Paris:20180408T140000
DTEND;TZID=Europe/Paris:20180408T170000
DTSTAMP:20260423T054109
CREATED:20180309T151854Z
LAST-MODIFIED:20180314T001308Z
UID:2731-1523196000-1523206800@www.addistres.fr
SUMMARY:Formation Evangélisation
DESCRIPTION:Formation à l’évangélisation par le pasteur Saïd Oujibou. Ancien musulman convertit à Jésus\, il est à même d’édifier et de former les chrétiens afin d’aller à la rencontre des musulmans. \n« A la rencontre du Musulman\, mon prochain » sera donc le thème de cette formation dispensée à partir de 14h\, et ouverte à tous.
URL:https://www.addistres.fr/event/formation-evangelisation/
LOCATION:Église FPMA de Marseille\, 258 Bd Romain Rolland\, Marseille\, 13009\, France
CATEGORIES:Formation
ATTACH;FMTTYPE=image/jpeg:https://www.addistres.fr/wp-content/uploads/2018/03/Formation-dévangélisation-8-avril.jpg
ORGANIZER;CN="Assembl%C3%A9e de Dieu d'Istres":MAILTO:addistres@gmail.com
END:VEVENT
BEGIN:VEVENT
DTSTART;TZID=Europe/Paris:20180410T190000
DTEND;TZID=Europe/Paris:20180410T203000
DTSTAMP:20260423T054109
CREATED:20180309T171307Z
LAST-MODIFIED:20180309T171307Z
UID:2764-1523386800-1523392200@www.addistres.fr
SUMMARY:Réunion de prières
DESCRIPTION:Réunion de prières et d’intercessions. \nUne étude biblique est ensuite apportée afin d’édifier le peuple de Dieu. \nMessage apporté par le pasteur Joël Prudent.
URL:https://www.addistres.fr/event/reunion-de-prieres-24/
LOCATION:Église FPMA de Marseille\, 258 Bd Romain Rolland\, Marseille\, 13009\, France
CATEGORIES:Prière
ORGANIZER;CN="Assembl%C3%A9e de Dieu d'Istres":MAILTO:addistres@gmail.com
END:VEVENT
BEGIN:VEVENT
DTSTART;TZID=Europe/Paris:20180413T190000
DTEND;TZID=Europe/Paris:20180413T200000
DTSTAMP:20260423T054109
CREATED:20180309T170816Z
LAST-MODIFIED:20180309T170816Z
UID:2756-1523646000-1523649600@www.addistres.fr
SUMMARY:Réunion d'évangélisation
DESCRIPTION:Chaque vendredi à 19h00\, le pasteur Joël Prudent parle librement de la bible et de la vie de Jésus-Christ notre Sauveur.
URL:https://www.addistres.fr/event/reunion-devangelisation-35/
LOCATION:Église FPMA de Marseille\, 258 Bd Romain Rolland\, Marseille\, 13009\, France
CATEGORIES:Evangélisation
ORGANIZER;CN="Assembl%C3%A9e de Dieu d'Istres":MAILTO:addistres@gmail.com
END:VEVENT
BEGIN:VEVENT
DTSTART;TZID=Europe/Paris:20180415T093000
DTEND;TZID=Europe/Paris:20180415T110000
DTSTAMP:20260423T054109
CREATED:20180309T145909Z
LAST-MODIFIED:20180314T001151Z
UID:2720-1523784600-1523790000@www.addistres.fr
SUMMARY:Culte
DESCRIPTION:ATTENTION\, début du culte à 9h30 ! Suivi de l’assemblée générale de l’association cultuelle à 11h. \nCulte de louange et d’adoration. Message apporté par le pasteur Joël Prudent. \nPouponnière pour les nourrissons jusqu’à 1 an. \nClub des enfants de 1 à 4 ans\, de 5 à 9 ans et de 10 à 12 ans. \n  \nPas d’agape ce jour.
URL:https://www.addistres.fr/event/culte-29/
LOCATION:Église FPMA de Marseille\, 258 Bd Romain Rolland\, Marseille\, 13009\, France
CATEGORIES:Culte
ORGANIZER;CN="Assembl%C3%A9e de Dieu d'Istres":MAILTO:addistres@gmail.com
END:VEVENT
BEGIN:VEVENT
DTSTART;TZID=Europe/Paris:20180417T190000
DTEND;TZID=Europe/Paris:20180417T203000
DTSTAMP:20260423T054109
CREATED:20180309T172223Z
LAST-MODIFIED:20180309T172223Z
UID:2772-1523991600-1523997000@www.addistres.fr
SUMMARY:Réunion de prières
DESCRIPTION:Réunion de prières et d’intercessions. \nUne étude biblique est ensuite apportée afin d’édifier le peuple de Dieu. \nMessage apporté par le pasteur Joël Prudent.
URL:https://www.addistres.fr/event/reunion-de-prieres-28/
LOCATION:Église FPMA de Marseille\, 258 Bd Romain Rolland\, Marseille\, 13009\, France
CATEGORIES:Prière
ORGANIZER;CN="Assembl%C3%A9e de Dieu d'Istres":MAILTO:addistres@gmail.com
END:VEVENT
BEGIN:VEVENT
DTSTART;TZID=Europe/Paris:20180419T090000
DTEND;TZID=Europe/Paris:20180419T100000
DTSTAMP:20260423T054109
CREATED:20180309T174628Z
LAST-MODIFIED:20180414T115822Z
UID:2781-1524128400-1524132000@www.addistres.fr
SUMMARY:Réunion de femmes
DESCRIPTION:Le jeudi 19 avril de 9h à 10h et de 18h30 à 19h30\, les soeurs de l’église d’Istres se réunissent pour une réunion de prières réservée aux femmes. \nUne pensée est aussi apportée pour l’édification de chacune.
URL:https://www.addistres.fr/event/reunion-de-femmes-12/
LOCATION:Église FPMA de Marseille\, 258 Bd Romain Rolland\, Marseille\, 13009\, France
CATEGORIES:Femmes
ATTACH;FMTTYPE=image/jpeg:https://www.addistres.fr/wp-content/uploads/2018/03/Réunion-de-femmes-19-avril.jpg
ORGANIZER;CN="Assembl%C3%A9e de Dieu d'Istres":MAILTO:addistres@gmail.com
END:VEVENT
BEGIN:VEVENT
DTSTART;TZID=Europe/Paris:20180419T183000
DTEND;TZID=Europe/Paris:20180419T193000
DTSTAMP:20260423T054109
CREATED:20180309T174827Z
LAST-MODIFIED:20180414T115718Z
UID:2784-1524162600-1524166200@www.addistres.fr
SUMMARY:Réunion de femmes
DESCRIPTION:Le jeudi 19 avril de 9h à 10h et de 18h30 à 19h30\, les soeurs de l’église d’Istres se réunissent pour une réunion de prières réservée aux femmes. \nUne pensée est aussi apportée pour l’édification de chacune.
URL:https://www.addistres.fr/event/reunion-de-femmes-13/
LOCATION:Église FPMA de Marseille\, 258 Bd Romain Rolland\, Marseille\, 13009\, France
CATEGORIES:Femmes
ATTACH;FMTTYPE=image/jpeg:https://www.addistres.fr/wp-content/uploads/2018/03/Réunion-de-femmes-19-avril.jpg
ORGANIZER;CN="Assembl%C3%A9e de Dieu d'Istres":MAILTO:addistres@gmail.com
END:VEVENT
BEGIN:VEVENT
DTSTART;TZID=Europe/Paris:20180420T190000
DTEND;TZID=Europe/Paris:20180420T200000
DTSTAMP:20260423T054109
CREATED:20180309T170935Z
LAST-MODIFIED:20180309T170935Z
UID:2758-1524250800-1524254400@www.addistres.fr
SUMMARY:Réunion d'évangélisation
DESCRIPTION:Chaque vendredi à 19h00\, le pasteur Joël Prudent parle librement de la bible et de la vie de Jésus-Christ notre Sauveur.
URL:https://www.addistres.fr/event/reunion-devangelisation-36/
LOCATION:Église FPMA de Marseille\, 258 Bd Romain Rolland\, Marseille\, 13009\, France
CATEGORIES:Evangélisation
ORGANIZER;CN="Assembl%C3%A9e de Dieu d'Istres":MAILTO:addistres@gmail.com
END:VEVENT
BEGIN:VEVENT
DTSTART;TZID=Europe/Paris:20180421T173000
DTEND;TZID=Europe/Paris:20180421T190000
DTSTAMP:20260423T054109
CREATED:20180309T173432Z
LAST-MODIFIED:20180314T001127Z
UID:2777-1524331800-1524337200@www.addistres.fr
SUMMARY:Réunion de jeunesse
DESCRIPTION:Le 21 avril\, les jeunes de l’église se réuniront afin de passer un moment agréable autour de la parole de Dieu. \nCe sera aussi l’occasion pour eux de mieux se connaître et ainsi créer des liens fraternels et d’amitiés. \nMessage apporté par le pasteur Joël Prudent.
URL:https://www.addistres.fr/event/reunion-de-jeunesse-13/
LOCATION:Église FPMA de Marseille\, 258 Bd Romain Rolland\, Marseille\, 13009\, France
CATEGORIES:Jeunesse
ATTACH;FMTTYPE=image/jpeg:https://www.addistres.fr/wp-content/uploads/2018/03/Réunion-de-jeunesse-Istres-21-avril.jpg
ORGANIZER;CN="Assembl%C3%A9e de Dieu d'Istres":MAILTO:addistres@gmail.com
END:VEVENT
BEGIN:VEVENT
DTSTART;TZID=Europe/Paris:20180422T095000
DTEND;TZID=Europe/Paris:20180422T113000
DTSTAMP:20260423T054109
CREATED:20180309T150052Z
LAST-MODIFIED:20180314T001115Z
UID:2722-1524390600-1524396600@www.addistres.fr
SUMMARY:Culte
DESCRIPTION:Culte de louange et d’adoration. Message apporté par le pasteur Joël Prudent. \nPouponnière pour les nourrissons jusqu’à 1 an. \nClub des enfants de 1 à 4 ans\, de 5 à 9 ans et de 10 à 12 ans.
URL:https://www.addistres.fr/event/culte-30/
LOCATION:Église FPMA de Marseille\, 258 Bd Romain Rolland\, Marseille\, 13009\, France
CATEGORIES:Culte
ORGANIZER;CN="Assembl%C3%A9e de Dieu d'Istres":MAILTO:addistres@gmail.com
END:VEVENT
BEGIN:VEVENT
DTSTART;TZID=Europe/Paris:20180424T190000
DTEND;TZID=Europe/Paris:20180424T203000
DTSTAMP:20260423T054109
CREATED:20180309T172101Z
LAST-MODIFIED:20180309T172101Z
UID:2770-1524596400-1524601800@www.addistres.fr
SUMMARY:Réunion de prières
DESCRIPTION:Réunion de prières et d’intercessions. \nUne étude biblique est ensuite apportée afin d’édifier le peuple de Dieu. \nMessage apporté par le pasteur Joël Prudent.
URL:https://www.addistres.fr/event/reunion-de-prieres-27/
LOCATION:Église FPMA de Marseille\, 258 Bd Romain Rolland\, Marseille\, 13009\, France
CATEGORIES:Prière
ORGANIZER;CN="Assembl%C3%A9e de Dieu d'Istres":MAILTO:addistres@gmail.com
END:VEVENT
BEGIN:VEVENT
DTSTART;TZID=Europe/Paris:20180427T190000
DTEND;TZID=Europe/Paris:20180427T200000
DTSTAMP:20260423T054109
CREATED:20180309T171029Z
LAST-MODIFIED:20180309T171029Z
UID:2760-1524855600-1524859200@www.addistres.fr
SUMMARY:Réunion d'évangélisation
DESCRIPTION:Chaque vendredi à 19h00\, le pasteur Joël Prudent parle librement de la bible et de la vie de Jésus-Christ notre Sauveur.
URL:https://www.addistres.fr/event/reunion-devangelisation-37/
LOCATION:Église FPMA de Marseille\, 258 Bd Romain Rolland\, Marseille\, 13009\, France
CATEGORIES:Evangélisation
ORGANIZER;CN="Assembl%C3%A9e de Dieu d'Istres":MAILTO:addistres@gmail.com
END:VEVENT
BEGIN:VEVENT
DTSTART;TZID=Europe/Paris:20180429T095000
DTEND;TZID=Europe/Paris:20180429T113000
DTSTAMP:20260423T054109
CREATED:20180309T150156Z
LAST-MODIFIED:20180314T001042Z
UID:2724-1524995400-1525001400@www.addistres.fr
SUMMARY:Culte
DESCRIPTION:Culte de louange et d’adoration. Message apporté par le pasteur Joël Prudent. \nPouponnière pour les nourrissons jusqu’à 1 an. \nClub des enfants de 1 à 4 ans\, de 5 à 9 ans et de 10 à 12 ans.
URL:https://www.addistres.fr/event/culte-31/
LOCATION:Église FPMA de Marseille\, 258 Bd Romain Rolland\, Marseille\, 13009\, France
CATEGORIES:Culte
ORGANIZER;CN="Assembl%C3%A9e de Dieu d'Istres":MAILTO:addistres@gmail.com
END:VEVENT
END:VCALENDAR