BEGIN:VCALENDAR
VERSION:2.0
PRODID:-//Eglise ADD Istres - ECPv6.15.17//NONSGML v1.0//EN
CALSCALE:GREGORIAN
METHOD:PUBLISH
X-WR-CALNAME:Eglise ADD Istres
X-ORIGINAL-URL:https://www.addistres.fr
X-WR-CALDESC:Évènements pour Eglise ADD Istres
REFRESH-INTERVAL;VALUE=DURATION:PT1H
X-Robots-Tag:noindex
X-PUBLISHED-TTL:PT1H
BEGIN:VTIMEZONE
TZID:Europe/Paris
BEGIN:DAYLIGHT
TZOFFSETFROM:+0100
TZOFFSETTO:+0200
TZNAME:CEST
DTSTART:20170326T010000
END:DAYLIGHT
BEGIN:STANDARD
TZOFFSETFROM:+0200
TZOFFSETTO:+0100
TZNAME:CET
DTSTART:20171029T010000
END:STANDARD
BEGIN:DAYLIGHT
TZOFFSETFROM:+0100
TZOFFSETTO:+0200
TZNAME:CEST
DTSTART:20180325T010000
END:DAYLIGHT
BEGIN:STANDARD
TZOFFSETFROM:+0200
TZOFFSETTO:+0100
TZNAME:CET
DTSTART:20181028T010000
END:STANDARD
BEGIN:DAYLIGHT
TZOFFSETFROM:+0100
TZOFFSETTO:+0200
TZNAME:CEST
DTSTART:20190331T010000
END:DAYLIGHT
BEGIN:STANDARD
TZOFFSETFROM:+0200
TZOFFSETTO:+0100
TZNAME:CET
DTSTART:20191027T010000
END:STANDARD
END:VTIMEZONE
BEGIN:VEVENT
DTSTART;TZID=Europe/Paris:20181002T190000
DTEND;TZID=Europe/Paris:20181002T203000
DTSTAMP:20260422T164109
CREATED:20180831T155113Z
LAST-MODIFIED:20180831T155517Z
UID:2978-1538506800-1538512200@www.addistres.fr
SUMMARY:Réunion de prières
DESCRIPTION:Tous les mardis à 19h00\, les chrétiens se réunissent dans la prière et l’intercession. Une étude biblique est ensuite apportée afin d’édifier le peuple de Dieu.
URL:https://www.addistres.fr/event/reunion-de-prieres-32/
LOCATION:Église FPMA de Marseille\, 258 Bd Romain Rolland\, Marseille\, 13009\, France
CATEGORIES:Prière
ORGANIZER;CN="Assembl%C3%A9e de Dieu d'Istres":MAILTO:addistres@gmail.com
END:VEVENT
BEGIN:VEVENT
DTSTART;TZID=Europe/Paris:20181005T190000
DTEND;TZID=Europe/Paris:20181005T203000
DTSTAMP:20260422T164109
CREATED:20180831T153621Z
LAST-MODIFIED:20180831T153621Z
UID:2962-1538766000-1538771400@www.addistres.fr
SUMMARY:Réunion d'évangélisation
DESCRIPTION:Chaque vendredi à 19h00 le pasteur Joël Prudent parle librement de la bible et de la vie de Jésus-Christ notre Sauveur.
URL:https://www.addistres.fr/event/reunion-devangelisation-42/
LOCATION:Église FPMA de Marseille\, 258 Bd Romain Rolland\, Marseille\, 13009\, France
CATEGORIES:Evangélisation
ORGANIZER;CN="Assembl%C3%A9e de Dieu d'Istres":MAILTO:addistres@gmail.com
END:VEVENT
BEGIN:VEVENT
DTSTART;TZID=Europe/Paris:20181006T173000
DTEND;TZID=Europe/Paris:20181006T190000
DTSTAMP:20260422T164109
CREATED:20180908T174905Z
LAST-MODIFIED:20180916T145208Z
UID:3028-1538847000-1538852400@www.addistres.fr
SUMMARY:Réunion de jeunesse
DESCRIPTION:Le 6 octobre\, les jeunes de l’église se réuniront afin de passer un moment agréable autour de la parole de Dieu. \nCe sera aussi l’occasion pour eux de mieux se connaître et ainsi créer des liens fraternels et d’amitiés.
URL:https://www.addistres.fr/event/reunion-de-jeunesse-15/
LOCATION:Église FPMA de Marseille\, 258 Bd Romain Rolland\, Marseille\, 13009\, France
CATEGORIES:Jeunesse
ATTACH;FMTTYPE=application/pdf:https://www.addistres.fr/wp-content/uploads/2018/09/OCT-18-06-Réunion-de-jeunesse-Istres-.pdf
ORGANIZER;CN="Assembl%C3%A9e de Dieu d'Istres":MAILTO:addistres@gmail.com
END:VEVENT
BEGIN:VEVENT
DTSTART;TZID=Europe/Paris:20181007T095000
DTEND;TZID=Europe/Paris:20181007T113000
DTSTAMP:20260422T164109
CREATED:20180831T152011Z
LAST-MODIFIED:20180918T114556Z
UID:2946-1538905800-1538911800@www.addistres.fr
SUMMARY:Culte
DESCRIPTION:Culte de louange et d’adoration. Le message de l’évangile sera apporté par le pasteur Pascal Lajoux de l’église de Vitrolles. \nPouponnière pour les nourrissons jusqu’à 1 an. \nClub des enfants de 1 à 4 ans\, de 5 à 9 ans et de 10 à 12 ans. \n  \nService de baptême l’après-midi à 15h30.
URL:https://www.addistres.fr/event/culte-37/
LOCATION:Église FPMA de Marseille\, 258 Bd Romain Rolland\, Marseille\, 13009\, France
CATEGORIES:Culte
ORGANIZER;CN="Assembl%C3%A9e de Dieu d'Istres":MAILTO:addistres@gmail.com
END:VEVENT
BEGIN:VEVENT
DTSTART;TZID=Europe/Paris:20181007T153000
DTEND;TZID=Europe/Paris:20181007T170000
DTSTAMP:20260422T164109
CREATED:20180908T175743Z
LAST-MODIFIED:20180918T114720Z
UID:3032-1538926200-1538931600@www.addistres.fr
SUMMARY:Service de baptême
DESCRIPTION:A partir de 15h30 aura lieu un service de baptême. Ces adultes qui ont donné leur cœur au Seigneur\, ont décidé de témoigner publiquement de l’amour qu’ils ont pour leur Sauveur\, Jésus-Christ\, fils de Dieu. \nChants puis message apporté par le pasteur Pascal Lajoux de l’église de Vitrolles \nPrésence du pasteur Joël Prudent. \nVenez nombreux célébrer cet évènement majeur dans la vie du chrétien.
URL:https://www.addistres.fr/event/service-de-bapteme-2/
LOCATION:Église FPMA de Marseille\, 258 Bd Romain Rolland\, Marseille\, 13009\, France
CATEGORIES:Baptême
ATTACH;FMTTYPE=image/jpeg:https://www.addistres.fr/wp-content/uploads/2018/09/OCT-18-Baptêmes.jpg
ORGANIZER;CN="Assembl%C3%A9e de Dieu d'Istres":MAILTO:addistres@gmail.com
END:VEVENT
BEGIN:VEVENT
DTSTART;TZID=Europe/Paris:20181009T190000
DTEND;TZID=Europe/Paris:20181009T203000
DTSTAMP:20260422T164109
CREATED:20180831T155655Z
LAST-MODIFIED:20180831T155655Z
UID:2980-1539111600-1539117000@www.addistres.fr
SUMMARY:Réunion de prières
DESCRIPTION:Tous les mardis à 19h00\, les chrétiens se réunissent dans la prière et l’intercession. Une étude biblique est ensuite apportée afin d’édifier le peuple de Dieu.
URL:https://www.addistres.fr/event/reunion-de-prieres-33/
LOCATION:Église FPMA de Marseille\, 258 Bd Romain Rolland\, Marseille\, 13009\, France
CATEGORIES:Prière
ORGANIZER;CN="Assembl%C3%A9e de Dieu d'Istres":MAILTO:addistres@gmail.com
END:VEVENT
BEGIN:VEVENT
DTSTART;TZID=Europe/Paris:20181012T190000
DTEND;TZID=Europe/Paris:20181012T203000
DTSTAMP:20260422T164109
CREATED:20180831T153733Z
LAST-MODIFIED:20180831T153733Z
UID:2964-1539370800-1539376200@www.addistres.fr
SUMMARY:Réunion d'évangélisation
DESCRIPTION:Chaque vendredi à 19h00 le pasteur Joël Prudent parle librement de la bible et de la vie de Jésus-Christ notre Sauveur.
URL:https://www.addistres.fr/event/reunion-devangelisation-43/
LOCATION:Église FPMA de Marseille\, 258 Bd Romain Rolland\, Marseille\, 13009\, France
CATEGORIES:Evangélisation
ORGANIZER;CN="Assembl%C3%A9e de Dieu d'Istres":MAILTO:addistres@gmail.com
END:VEVENT
BEGIN:VEVENT
DTSTART;TZID=Europe/Paris:20181014T095000
DTEND;TZID=Europe/Paris:20181014T113000
DTSTAMP:20260422T164109
CREATED:20180831T152210Z
LAST-MODIFIED:20180831T152210Z
UID:2948-1539510600-1539516600@www.addistres.fr
SUMMARY:Culte
DESCRIPTION:Culte de louange et d’adoration. Le message de l’évangile sera apporté par le pasteur Joël Prudent. \nPouponnière pour les nourrissons jusqu’à 1 an. \nClub des enfants de 1 à 4 ans\, de 5 à 9 ans et de 10 à 12 ans. \n  \nSondage dans les rues à partir de 15h.
URL:https://www.addistres.fr/event/culte-38/
LOCATION:Église FPMA de Marseille\, 258 Bd Romain Rolland\, Marseille\, 13009\, France
CATEGORIES:Culte
ORGANIZER;CN="Assembl%C3%A9e de Dieu d'Istres":MAILTO:addistres@gmail.com
END:VEVENT
BEGIN:VEVENT
DTSTART;TZID=Europe/Paris:20181014T150000
DTEND;TZID=Europe/Paris:20181014T170000
DTSTAMP:20260422T164109
CREATED:20180916T150754Z
LAST-MODIFIED:20180916T163735Z
UID:3053-1539529200-1539536400@www.addistres.fr
SUMMARY:Évangélisation de rues
DESCRIPTION:Par groupe de 2 ou 3 personnes\, les chrétiens de l’église se promènent dans les rues d’Istres afin de témoigner aux passants de l’amour du Christ au moyen d’un sondage. Témoignages\, évangélisation\, prières et dons de bibles sont au programme. \nLe rendez-vous est fixé à 14h45 à l’église. \nPuis\, après un temps de préparation et de prières\, départ des équipes de 15h00 à 16h00. \nRetour à l’église pour un debriefing qui clôturera l’après-midi.
URL:https://www.addistres.fr/event/evangelisation-de-rues/
LOCATION:Add Istres\, Impasse du Rouquier\, Istres\, Bouches-du-Rhône\, 13800\, France
CATEGORIES:Evangélisation
ORGANIZER;CN="Assembl%C3%A9e de Dieu d'Istres":MAILTO:addistres@gmail.com
END:VEVENT
BEGIN:VEVENT
DTSTART;TZID=Europe/Paris:20181016T190000
DTEND;TZID=Europe/Paris:20181016T203000
DTSTAMP:20260422T164109
CREATED:20180831T155913Z
LAST-MODIFIED:20180831T155913Z
UID:2982-1539716400-1539721800@www.addistres.fr
SUMMARY:Réunion de prières
DESCRIPTION:Tous les mardis à 19h00\, les chrétiens se réunissent dans la prière et l’intercession. Une étude biblique est ensuite apportée afin d’édifier le peuple de Dieu.
URL:https://www.addistres.fr/event/reunion-de-prieres-34/
LOCATION:Église FPMA de Marseille\, 258 Bd Romain Rolland\, Marseille\, 13009\, France
CATEGORIES:Prière
ORGANIZER;CN="Assembl%C3%A9e de Dieu d'Istres":MAILTO:addistres@gmail.com
END:VEVENT
BEGIN:VEVENT
DTSTART;TZID=Europe/Paris:20181018T090000
DTEND;TZID=Europe/Paris:20181018T100000
DTSTAMP:20260422T164109
CREATED:20180916T151332Z
LAST-MODIFIED:20180916T151952Z
UID:3055-1539853200-1539856800@www.addistres.fr
SUMMARY:Réunion de femmes
DESCRIPTION:Le jeudi 18 octobre de 9h à 10h et de 18h30 à 19h30\, les soeurs se réunissent pour une réunion de prières réservée aux femmes.
URL:https://www.addistres.fr/event/reunion-de-femmes-16/
LOCATION:Église FPMA de Marseille\, 258 Bd Romain Rolland\, Marseille\, 13009\, France
CATEGORIES:Femmes,Prière
ATTACH;FMTTYPE=application/pdf:https://www.addistres.fr/wp-content/uploads/2018/09/OCT-18-Réunion-de-femmes-2.pdf
ORGANIZER;CN="Assembl%C3%A9e de Dieu d'Istres":MAILTO:addistres@gmail.com
END:VEVENT
BEGIN:VEVENT
DTSTART;TZID=Europe/Paris:20181018T180000
DTEND;TZID=Europe/Paris:20181018T193000
DTSTAMP:20260422T164109
CREATED:20180916T152407Z
LAST-MODIFIED:20180916T152407Z
UID:3063-1539885600-1539891000@www.addistres.fr
SUMMARY:Instruction cours biblique
DESCRIPTION:Le jeudi 18 octobre\, une instruction tirée de la bible sera apportée par le pasteur Joël Prudent. \nLe thème abordé sera : \n“ Le baptême du Saint Esprit “ \nDébut du cours à 18h.
URL:https://www.addistres.fr/event/instruction-cours-biblique-2/
LOCATION:Église FPMA de Marseille\, 258 Bd Romain Rolland\, Marseille\, 13009\, France
CATEGORIES:Cours biblique
ATTACH;FMTTYPE=application/pdf:https://www.addistres.fr/wp-content/uploads/2018/09/OCT-18-Instruction-cours-biblique-1.pdf
ORGANIZER;CN="Assembl%C3%A9e de Dieu d'Istres":MAILTO:addistres@gmail.com
END:VEVENT
BEGIN:VEVENT
DTSTART;TZID=Europe/Paris:20181018T183000
DTEND;TZID=Europe/Paris:20181018T193000
DTSTAMP:20260422T164109
CREATED:20180916T151530Z
LAST-MODIFIED:20180916T151530Z
UID:3057-1539887400-1539891000@www.addistres.fr
SUMMARY:Réunion de femmes
DESCRIPTION:Le jeudi 18 octobre de 9h à 10h et de 18h30 à 19h30\, les soeurs se réunissent pour une réunion de prières réservée aux femmes.
URL:https://www.addistres.fr/event/reunion-de-femmes-17/
LOCATION:Église FPMA de Marseille\, 258 Bd Romain Rolland\, Marseille\, 13009\, France
CATEGORIES:Femmes,Prière
ATTACH;FMTTYPE=application/pdf:https://www.addistres.fr/wp-content/uploads/2018/09/OCT-18-Réunion-de-femmes.pdf
ORGANIZER;CN="Assembl%C3%A9e de Dieu d'Istres":MAILTO:addistres@gmail.com
END:VEVENT
BEGIN:VEVENT
DTSTART;TZID=Europe/Paris:20181019T190000
DTEND;TZID=Europe/Paris:20181019T203000
DTSTAMP:20260422T164109
CREATED:20180831T153830Z
LAST-MODIFIED:20180831T153830Z
UID:2966-1539975600-1539981000@www.addistres.fr
SUMMARY:Réunion d'évangélisation
DESCRIPTION:Chaque vendredi à 19h00 le pasteur Joël Prudent parle librement de la bible et de la vie de Jésus-Christ notre Sauveur.
URL:https://www.addistres.fr/event/reunion-devangelisation-44/
LOCATION:Église FPMA de Marseille\, 258 Bd Romain Rolland\, Marseille\, 13009\, France
CATEGORIES:Evangélisation
ORGANIZER;CN="Assembl%C3%A9e de Dieu d'Istres":MAILTO:addistres@gmail.com
END:VEVENT
BEGIN:VEVENT
DTSTART;TZID=Europe/Paris:20181020T150000
DTEND;TZID=Europe/Paris:20181020T170000
DTSTAMP:20260422T164109
CREATED:20180916T154241Z
LAST-MODIFIED:20180916T154241Z
UID:3066-1540047600-1540054800@www.addistres.fr
SUMMARY:Sortie jeunesse
DESCRIPTION:Le samedi 20 octobre\, les jeunes de l’église d’Istres sortiront ensemble afin de mieux se retrouver en dehors de l’église\, mais toujours accompagnés de l’Esprit Saint. \nLe lieu et les horaires sont encore à définir.
URL:https://www.addistres.fr/event/sortie-jeunesse/
LOCATION:Église FPMA de Marseille\, 258 Bd Romain Rolland\, Marseille\, 13009\, France
CATEGORIES:Jeunesse
ATTACH;FMTTYPE=application/pdf:https://www.addistres.fr/wp-content/uploads/2018/09/OCT-18-Sortie-jeunesse.pdf
ORGANIZER;CN="Assembl%C3%A9e de Dieu d'Istres":MAILTO:addistres@gmail.com
END:VEVENT
BEGIN:VEVENT
DTSTART;TZID=Europe/Paris:20181021T095000
DTEND;TZID=Europe/Paris:20181021T113000
DTSTAMP:20260422T164109
CREATED:20180831T152434Z
LAST-MODIFIED:20180923T160550Z
UID:2950-1540115400-1540121400@www.addistres.fr
SUMMARY:Culte
DESCRIPTION:Culte de louange et d’adoration. Le message de l’évangile sera apporté par le pasteur Joël Prudent. \nPouponnière pour les nourrissons jusqu’à 1 an. \nClub des enfants de 1 à 4 ans\, de 5 à 9 ans et de 10 à 12 ans. \n  \nAgape à 12h pour toute l’église. Partage avec l’association Djeneba. \n  \nPrésence du pasteur Jean-Marie JULIAN pour la journée.
URL:https://www.addistres.fr/event/culte-39/
LOCATION:Église FPMA de Marseille\, 258 Bd Romain Rolland\, Marseille\, 13009\, France
CATEGORIES:Culte
ORGANIZER;CN="Assembl%C3%A9e de Dieu d'Istres":MAILTO:addistres@gmail.com
END:VEVENT
BEGIN:VEVENT
DTSTART;TZID=Europe/Paris:20181023T190000
DTEND;TZID=Europe/Paris:20181023T203000
DTSTAMP:20260422T164109
CREATED:20180831T160029Z
LAST-MODIFIED:20180831T160029Z
UID:2984-1540321200-1540326600@www.addistres.fr
SUMMARY:Réunion de prières
DESCRIPTION:Tous les mardis à 19h00\, les chrétiens se réunissent dans la prière et l’intercession. Une étude biblique est ensuite apportée afin d’édifier le peuple de Dieu.
URL:https://www.addistres.fr/event/reunion-de-prieres-35/
LOCATION:Église FPMA de Marseille\, 258 Bd Romain Rolland\, Marseille\, 13009\, France
CATEGORIES:Prière
ORGANIZER;CN="Assembl%C3%A9e de Dieu d'Istres":MAILTO:addistres@gmail.com
END:VEVENT
BEGIN:VEVENT
DTSTART;TZID=Europe/Paris:20181026T190000
DTEND;TZID=Europe/Paris:20181026T203000
DTSTAMP:20260422T164109
CREATED:20180831T154014Z
LAST-MODIFIED:20180831T154014Z
UID:2968-1540580400-1540585800@www.addistres.fr
SUMMARY:Réunion d'évangélisation
DESCRIPTION:Chaque vendredi à 19h00 le pasteur Joël Prudent parle librement de la bible et de la vie de Jésus-Christ notre Sauveur.
URL:https://www.addistres.fr/event/reunion-devangelisation-45/
LOCATION:Église FPMA de Marseille\, 258 Bd Romain Rolland\, Marseille\, 13009\, France
CATEGORIES:Evangélisation
ORGANIZER;CN="Assembl%C3%A9e de Dieu d'Istres":MAILTO:addistres@gmail.com
END:VEVENT
BEGIN:VEVENT
DTSTART;TZID=Europe/Paris:20181028T095000
DTEND;TZID=Europe/Paris:20181028T113000
DTSTAMP:20260422T164109
CREATED:20180831T152710Z
LAST-MODIFIED:20180831T152710Z
UID:2952-1540720200-1540726200@www.addistres.fr
SUMMARY:Culte
DESCRIPTION:Culte de louange et d’adoration. Le message de l’évangile sera apporté par le pasteur Joël Prudent. \nPouponnière pour les nourrissons jusqu’à 1 an. \nClub des enfants de 1 à 4 ans\, de 5 à 9 ans et de 10 à 12 ans. \n  \nPas d’activité cet après-midi. \n 
URL:https://www.addistres.fr/event/culte-40/
LOCATION:Église FPMA de Marseille\, 258 Bd Romain Rolland\, Marseille\, 13009\, France
CATEGORIES:Culte
ORGANIZER;CN="Assembl%C3%A9e de Dieu d'Istres":MAILTO:addistres@gmail.com
END:VEVENT
BEGIN:VEVENT
DTSTART;TZID=Europe/Paris:20181030T190000
DTEND;TZID=Europe/Paris:20181030T203000
DTSTAMP:20260422T164109
CREATED:20180831T160431Z
LAST-MODIFIED:20180831T160431Z
UID:2986-1540926000-1540931400@www.addistres.fr
SUMMARY:Réunion de prières
DESCRIPTION:Tous les mardis à 19h00\, les chrétiens se réunissent dans la prière et l’intercession. Une étude biblique est ensuite apportée afin d’édifier le peuple de Dieu.
URL:https://www.addistres.fr/event/reunion-de-prieres-36/
LOCATION:Église FPMA de Marseille\, 258 Bd Romain Rolland\, Marseille\, 13009\, France
CATEGORIES:Prière
ORGANIZER;CN="Assembl%C3%A9e de Dieu d'Istres":MAILTO:addistres@gmail.com
END:VEVENT
END:VCALENDAR