BEGIN:VCALENDAR
VERSION:2.0
PRODID:-//Eglise ADD Istres - ECPv6.15.17//NONSGML v1.0//EN
CALSCALE:GREGORIAN
METHOD:PUBLISH
X-ORIGINAL-URL:https://www.addistres.fr
X-WR-CALDESC:Évènements pour Eglise ADD Istres
REFRESH-INTERVAL;VALUE=DURATION:PT1H
X-Robots-Tag:noindex
X-PUBLISHED-TTL:PT1H
BEGIN:VTIMEZONE
TZID:Europe/Paris
BEGIN:DAYLIGHT
TZOFFSETFROM:+0100
TZOFFSETTO:+0200
TZNAME:CEST
DTSTART:20180325T010000
END:DAYLIGHT
BEGIN:STANDARD
TZOFFSETFROM:+0200
TZOFFSETTO:+0100
TZNAME:CET
DTSTART:20181028T010000
END:STANDARD
BEGIN:DAYLIGHT
TZOFFSETFROM:+0100
TZOFFSETTO:+0200
TZNAME:CEST
DTSTART:20190331T010000
END:DAYLIGHT
BEGIN:STANDARD
TZOFFSETFROM:+0200
TZOFFSETTO:+0100
TZNAME:CET
DTSTART:20191027T010000
END:STANDARD
BEGIN:DAYLIGHT
TZOFFSETFROM:+0100
TZOFFSETTO:+0200
TZNAME:CEST
DTSTART:20200329T010000
END:DAYLIGHT
BEGIN:STANDARD
TZOFFSETFROM:+0200
TZOFFSETTO:+0100
TZNAME:CET
DTSTART:20201025T010000
END:STANDARD
END:VTIMEZONE
BEGIN:VEVENT
DTSTART;TZID=Europe/Paris:20190104T190000
DTEND;TZID=Europe/Paris:20190104T200000
DTSTAMP:20260420T131612
CREATED:20190104T203625Z
LAST-MODIFIED:20190104T203625Z
UID:3408-1546628400-1546632000@www.addistres.fr
SUMMARY:Réunion d'évangélisation
DESCRIPTION:Chaque vendredi à 19h00 le pasteur Joël Prudent parle librement de la bible et de la vie de Jésus-Christ notre Sauveur.
URL:https://www.addistres.fr/event/reunion-devangelisation-58/
LOCATION:Église FPMA de Marseille\, 258 Bd Romain Rolland\, Marseille\, 13009\, France
CATEGORIES:Evangélisation
ATTACH;FMTTYPE=image/jpeg:https://www.addistres.fr/wp-content/uploads/2018/11/Evangélisation.jpg
ORGANIZER;CN="Assembl%C3%A9e de Dieu d'Istres":MAILTO:addistres@gmail.com
END:VEVENT
BEGIN:VEVENT
DTSTART;TZID=Europe/Paris:20190105T100000
DTEND;TZID=Europe/Paris:20190105T113000
DTSTAMP:20260420T131612
CREATED:20190104T192947Z
LAST-MODIFIED:20190104T220339Z
UID:3377-1546682400-1546687800@www.addistres.fr
SUMMARY:Rencontre des mères en prière
DESCRIPTION:Le samedi 5 janvier\, une rencontre des « Mères en prières » est organisée afin que les femmes de l’église puissent échanger sur ce sujet.
URL:https://www.addistres.fr/event/rencontre-mere-en-priere/
LOCATION:Église FPMA de Marseille\, 258 Bd Romain Rolland\, Marseille\, 13009\, France
CATEGORIES:Femmes
ATTACH;FMTTYPE=image/png:https://www.addistres.fr/wp-content/uploads/2019/01/3-Meres-en-Prières.png
ORGANIZER;CN="Assembl%C3%A9e de Dieu d'Istres":MAILTO:addistres@gmail.com
END:VEVENT
BEGIN:VEVENT
DTSTART;TZID=Europe/Paris:20190106T095000
DTEND;TZID=Europe/Paris:20190106T113000
DTSTAMP:20260420T131612
CREATED:20190104T194432Z
LAST-MODIFIED:20190104T194432Z
UID:3385-1546768200-1546774200@www.addistres.fr
SUMMARY:Culte
DESCRIPTION:Culte de louange et d’adoration. Le message de l’évangile sera apporté par le pasteur Joël Prudent. \nPouponnière pour les nourrissons jusqu’à 1 an. \nClub des enfants de 1 à 4 ans\, de 5 à 9 ans et de 10 à 12 ans. \n  \nRéunion de d’évangélisation l’après-midi à 15h30. \n  \nEntrée libre et gratuite
URL:https://www.addistres.fr/event/culte-48/
LOCATION:Église FPMA de Marseille\, 258 Bd Romain Rolland\, Marseille\, 13009\, France
CATEGORIES:Culte
ATTACH;FMTTYPE=image/jpeg:https://www.addistres.fr/wp-content/uploads/2018/11/Culte.jpg
ORGANIZER;CN="Assembl%C3%A9e de Dieu d'Istres":MAILTO:addistres@gmail.com
END:VEVENT
BEGIN:VEVENT
DTSTART;TZID=Europe/Paris:20190106T153000
DTEND;TZID=Europe/Paris:20190106T163000
DTSTAMP:20260420T131612
CREATED:20190104T194721Z
LAST-MODIFIED:20190104T194721Z
UID:3387-1546788600-1546792200@www.addistres.fr
SUMMARY:Réunion d'évangélisation
DESCRIPTION:Tous les premiers dimanche du mois à 15h30 à l’église\, réunion d’évangélisation. \nAmenez vos amis et votre famille afin de leur faire écouter le message de l’évangile\, apporté par le pasteur Joël Prudent. \nEntrée libre.
URL:https://www.addistres.fr/event/reunion-devangelisation-57/
LOCATION:Église FPMA de Marseille\, 258 Bd Romain Rolland\, Marseille\, 13009\, France
CATEGORIES:Evangélisation
ATTACH;FMTTYPE=image/jpeg:https://www.addistres.fr/wp-content/uploads/2018/11/Evangélisation.jpg
ORGANIZER;CN="Assembl%C3%A9e de Dieu d'Istres":MAILTO:addistres@gmail.com
END:VEVENT
BEGIN:VEVENT
DTSTART;TZID=Europe/Paris:20190108T190000
DTEND;TZID=Europe/Paris:20190108T203000
DTSTAMP:20260420T131612
CREATED:20190104T202943Z
LAST-MODIFIED:20190104T202943Z
UID:3400-1546974000-1546979400@www.addistres.fr
SUMMARY:Réunion de prières
DESCRIPTION:Tous les mardis à 19h00\, les chrétiens se réunissent dans la prière et l’intercession. Une étude biblique est ensuite apportée afin d’édifier le peuple de Dieu.
URL:https://www.addistres.fr/event/reunion-de-prieres-43/
LOCATION:Stand Biblique\, avenue Hélène Boucher\, Istres\, Bouches-du-Rhône\, 13800\, France
CATEGORIES:Prière
ATTACH;FMTTYPE=image/jpeg:https://www.addistres.fr/wp-content/uploads/2018/11/Prière.jpg
ORGANIZER;CN="Assembl%C3%A9e de Dieu d'Istres":MAILTO:addistres@gmail.com
END:VEVENT
BEGIN:VEVENT
DTSTART;TZID=Europe/Paris:20190110T180000
DTEND;TZID=Europe/Paris:20190110T200000
DTSTAMP:20260420T131612
CREATED:20190104T202110Z
LAST-MODIFIED:20190104T202110Z
UID:3389-1547143200-1547150400@www.addistres.fr
SUMMARY:Instruction cours biblique
DESCRIPTION:Le jeudi 10 janvier\, une instruction tirée de la bible sera apportée par le pasteur Joël Prudent et Sylvain Bernard. \nLe thème abordé sera : \n” La chute de L’Homme ” \nDébut du cours à 18h.
URL:https://www.addistres.fr/event/instruction-cours-biblique-6/
LOCATION:Église FPMA de Marseille\, 258 Bd Romain Rolland\, Marseille\, 13009\, France
CATEGORIES:Cours biblique
ATTACH;FMTTYPE=image/jpeg:https://www.addistres.fr/wp-content/uploads/2019/01/JAN-19-Instruction-cours-biblique.jpg
ORGANIZER;CN="Assembl%C3%A9e de Dieu d'Istres":MAILTO:addistres@gmail.com
END:VEVENT
BEGIN:VEVENT
DTSTART;TZID=Europe/Paris:20190111T190000
DTEND;TZID=Europe/Paris:20190111T200000
DTSTAMP:20260420T131612
CREATED:20190104T203751Z
LAST-MODIFIED:20190104T203751Z
UID:3410-1547233200-1547236800@www.addistres.fr
SUMMARY:Réunion d'évangélisation
DESCRIPTION:Chaque vendredi à 19h00 le pasteur Joël Prudent parle librement de la bible et de la vie de Jésus-Christ notre Sauveur.
URL:https://www.addistres.fr/event/reunion-devangelisation-59/
LOCATION:Église FPMA de Marseille\, 258 Bd Romain Rolland\, Marseille\, 13009\, France
CATEGORIES:Evangélisation
ATTACH;FMTTYPE=image/jpeg:https://www.addistres.fr/wp-content/uploads/2018/11/Evangélisation.jpg
ORGANIZER;CN="Assembl%C3%A9e de Dieu d'Istres":MAILTO:addistres@gmail.com
END:VEVENT
BEGIN:VEVENT
DTSTART;TZID=Europe/Paris:20190112T150000
DTEND;TZID=Europe/Paris:20190112T200000
DTSTAMP:20260420T131612
CREATED:20190104T212752Z
LAST-MODIFIED:20190104T212752Z
UID:3438-1547305200-1547323200@www.addistres.fr
SUMMARY:Rencontre Essen'Ciel
DESCRIPTION:Rencontre Inter-Église pour les groupes des 30/40 ans. \nInfos et détails à venir. \nRejoignez le groupe facebook avec toutes les informations sur “Essen’ciel”  en cliquant sur le lien ci-dessous : \nhttps://www.facebook.com/essen.ciel.927
URL:https://www.addistres.fr/event/rencontre-essenciel/
LOCATION:Église FPMA de Marseille\, 258 Bd Romain Rolland\, Marseille\, 13009\, France
CATEGORIES:Jeunesse
ATTACH;FMTTYPE=image/jpeg:https://www.addistres.fr/wp-content/uploads/2018/11/EssenCiel.jpg
ORGANIZER;CN="Assembl%C3%A9e de Dieu d'Istres":MAILTO:addistres@gmail.com
END:VEVENT
BEGIN:VEVENT
DTSTART;TZID=Europe/Paris:20190112T173000
DTEND;TZID=Europe/Paris:20190112T193000
DTSTAMP:20260420T131612
CREATED:20190104T213504Z
LAST-MODIFIED:20190105T222209Z
UID:3440-1547314200-1547321400@www.addistres.fr
SUMMARY:Réunion de jeunesse
DESCRIPTION:Pendant les réunions de jeunesse\,  les jeunes de l’église se réunissent afin de passer un moment agréable autour de la parole de Dieu. \nCe sera aussi l’occasion pour eux de mieux se connaître et ainsi créer des liens fraternels et d’amitiés.
URL:https://www.addistres.fr/event/reunion-de-jeunesse-18/
LOCATION:Église FPMA de Marseille\, 258 Bd Romain Rolland\, Marseille\, 13009\, France
CATEGORIES:Jeunesse
ATTACH;FMTTYPE=image/jpeg:https://www.addistres.fr/wp-content/uploads/2019/01/JAN-19-Réunion-de-jeunesse.jpg
ORGANIZER;CN="Assembl%C3%A9e de Dieu d'Istres":MAILTO:addistres@gmail.com
END:VEVENT
BEGIN:VEVENT
DTSTART;TZID=Europe/Paris:20190113T095000
DTEND;TZID=Europe/Paris:20190113T113000
DTSTAMP:20260420T131612
CREATED:20190104T204250Z
LAST-MODIFIED:20190104T204250Z
UID:3416-1547373000-1547379000@www.addistres.fr
SUMMARY:Culte
DESCRIPTION:Culte de louange et d’adoration. Le message de l’évangile sera apporté par le pasteur Joël Prudent. \nPouponnière pour les nourrissons jusqu’à 1 an. \nClub des enfants de 1 à 4 ans\, de 5 à 9 ans et de 10 à 12 ans. \n  \nEntrée libre et gratuite. \n  \nSortie d’évangélisation l’après-midi à 15h par sondage. \n 
URL:https://www.addistres.fr/event/culte-49/
LOCATION:Église FPMA de Marseille\, 258 Bd Romain Rolland\, Marseille\, 13009\, France
CATEGORIES:Culte
ATTACH;FMTTYPE=image/jpeg:https://www.addistres.fr/wp-content/uploads/2018/11/Culte.jpg
ORGANIZER;CN="Assembl%C3%A9e de Dieu d'Istres":MAILTO:addistres@gmail.com
END:VEVENT
BEGIN:VEVENT
DTSTART;TZID=Europe/Paris:20190113T150000
DTEND;TZID=Europe/Paris:20190113T170000
DTSTAMP:20260420T131612
CREATED:20190104T205455Z
LAST-MODIFIED:20190104T205652Z
UID:3424-1547391600-1547398800@www.addistres.fr
SUMMARY:Évangélisation de rues
DESCRIPTION:Par groupe de 2 ou 3 personnes\, les chrétiens de l’église se promènent dans les rues d’Istres afin de témoigner aux passants de l’amour du Christ au moyen d’un sondage. Témoignages\, évangélisation\, prières et dons de bibles sont au programme. \nLe rendez–vous est fixé à 14h45 à l’église. \nPuis\, après un temps de préparation et de prières\, départ des équipes de 15h00 à 16h00. \nRetour à l’église pour un debriefing qui clôturera l’après-midi.
URL:https://www.addistres.fr/event/evangelisation-de-rues-3/
LOCATION:Église FPMA de Marseille\, 258 Bd Romain Rolland\, Marseille\, 13009\, France
CATEGORIES:Evangélisation
ATTACH;FMTTYPE=image/jpeg:https://www.addistres.fr/wp-content/uploads/2018/11/Evangélisation-de-rues.jpg
ORGANIZER;CN="Assembl%C3%A9e de Dieu d'Istres":MAILTO:addistres@gmail.com
END:VEVENT
BEGIN:VEVENT
DTSTART;TZID=Europe/Paris:20190115T190000
DTEND;TZID=Europe/Paris:20190115T203000
DTSTAMP:20260420T131612
CREATED:20190104T203105Z
LAST-MODIFIED:20190112T201452Z
UID:3402-1547578800-1547584200@www.addistres.fr
SUMMARY:Réunion de prières
DESCRIPTION:Tous les mardis à 19h00\, les chrétiens se réunissent dans la prière et l’intercession. Une étude biblique est ensuite apportée afin d’édifier le peuple de Dieu. \nMessage apporté par Sylvain Lévy
URL:https://www.addistres.fr/event/reunion-de-prieres-44/
LOCATION:Église FPMA de Marseille\, 258 Bd Romain Rolland\, Marseille\, 13009\, France
CATEGORIES:Prière
ATTACH;FMTTYPE=image/jpeg:https://www.addistres.fr/wp-content/uploads/2018/11/Prière.jpg
ORGANIZER;CN="Assembl%C3%A9e de Dieu d'Istres":MAILTO:addistres@gmail.com
END:VEVENT
BEGIN:VEVENT
DTSTART;TZID=Europe/Paris:20190117T090000
DTEND;TZID=Europe/Paris:20190117T100000
DTSTAMP:20260420T131612
CREATED:20190104T211336Z
LAST-MODIFIED:20190104T211336Z
UID:3431-1547715600-1547719200@www.addistres.fr
SUMMARY:Réunion de femmes
DESCRIPTION:Un jeudi par mois de 9h à 10h et de 18h30 à 19h30\, les soeurs de l’église se réunissent pour une réunion de prières réservée aux femmes. Intercession\, exhortation et louange sous le regard du Seigneur.
URL:https://www.addistres.fr/event/reunion-de-femmes-22/
LOCATION:Église FPMA de Marseille\, 258 Bd Romain Rolland\, Marseille\, 13009\, France
CATEGORIES:Femmes
ATTACH;FMTTYPE=image/jpeg:https://www.addistres.fr/wp-content/uploads/2018/11/Réunion-de-femmes.jpg
ORGANIZER;CN="Assembl%C3%A9e de Dieu d'Istres":MAILTO:addistres@gmail.com
END:VEVENT
BEGIN:VEVENT
DTSTART;TZID=Europe/Paris:20190117T183000
DTEND;TZID=Europe/Paris:20190117T193000
DTSTAMP:20260420T131612
CREATED:20190104T211459Z
LAST-MODIFIED:20190104T211459Z
UID:3433-1547749800-1547753400@www.addistres.fr
SUMMARY:Réunion de femmes
DESCRIPTION:Un jeudi par mois de 9h à 10h et de 18h30 à 19h30\, les soeurs de l’église se réunissent pour une réunion de prières réservée aux femmes. Intercession\, exhortation et louange sous le regard du Seigneur.
URL:https://www.addistres.fr/event/reunion-de-femmes-23/
LOCATION:Église FPMA de Marseille\, 258 Bd Romain Rolland\, Marseille\, 13009\, France
CATEGORIES:Femmes
ATTACH;FMTTYPE=image/jpeg:https://www.addistres.fr/wp-content/uploads/2018/11/Réunion-de-femmes.jpg
ORGANIZER;CN="Assembl%C3%A9e de Dieu d'Istres":MAILTO:addistres@gmail.com
END:VEVENT
BEGIN:VEVENT
DTSTART;TZID=Europe/Paris:20190118T190000
DTEND;TZID=Europe/Paris:20190118T200000
DTSTAMP:20260420T131612
CREATED:20190104T203845Z
LAST-MODIFIED:20190104T203845Z
UID:3412-1547838000-1547841600@www.addistres.fr
SUMMARY:Réunion d'évangélisation
DESCRIPTION:Chaque vendredi à 19h00 le pasteur Joël Prudent parle librement de la bible et de la vie de Jésus-Christ notre Sauveur.
URL:https://www.addistres.fr/event/reunion-devangelisation-60/
LOCATION:Église FPMA de Marseille\, 258 Bd Romain Rolland\, Marseille\, 13009\, France
CATEGORIES:Evangélisation
ATTACH;FMTTYPE=image/jpeg:https://www.addistres.fr/wp-content/uploads/2018/11/Evangélisation.jpg
ORGANIZER;CN="Assembl%C3%A9e de Dieu d'Istres":MAILTO:addistres@gmail.com
END:VEVENT
BEGIN:VEVENT
DTSTART;TZID=Europe/Paris:20190119T090000
DTEND;TZID=Europe/Paris:20190119T110000
DTSTAMP:20260420T131612
CREATED:20190104T194104Z
LAST-MODIFIED:20190104T220021Z
UID:3382-1547888400-1547895600@www.addistres.fr
SUMMARY:Rencontre O'Féminin
DESCRIPTION:Rencontre de femmes O’Féminin\, à l’église d’Istres le samedi 19 janvier à 9h.\n\nThème abordé :\n« Je n’aurai pas dû vivre »\n\nMot et café de bienvenue à 9h suivi du témoignage vidéo de Maria Durso.\n\n 
URL:https://www.addistres.fr/event/rencontre-ofeminin/
LOCATION:Église FPMA de Marseille\, 258 Bd Romain Rolland\, Marseille\, 13009\, France
CATEGORIES:Femmes
ATTACH;FMTTYPE=image/jpeg:https://www.addistres.fr/wp-content/uploads/2019/01/Maria-Durso.jpg
END:VEVENT
BEGIN:VEVENT
DTSTART;TZID=Europe/Paris:20190119T160000
DTEND;TZID=Europe/Paris:20190119T200000
DTSTAMP:20260420T131612
CREATED:20190104T212228Z
LAST-MODIFIED:20190104T212228Z
UID:3435-1547913600-1547928000@www.addistres.fr
SUMMARY:Rencontre de jeunesse
DESCRIPTION:Rencontre de jeunesse Ouest Provence à l’église d’Aix-en-Provence\, le samedi 19 janvier à 17h. \nLes jeunes se réuniront ensemble afin de créer des liens d’amitiés mais surtout pour partager des moments spirituels avec Jésus comme épicentre. \nDépart groupé en co-voiturage devant l’église pour 16h.
URL:https://www.addistres.fr/event/rencontre-de-jeunesse-4/
LOCATION:ADD Aix-en-Provence\, Centre Evangélique Chemin des Floralies 13100 Aix en Provence\, Aix-en-provence\, Bouches-du-Rhône\, 13100\, France
CATEGORIES:Jeunesse
ATTACH;FMTTYPE=image/jpeg:https://www.addistres.fr/wp-content/uploads/2019/01/JAN-19-Rencontre-jeunesse-Aix.jpg
END:VEVENT
BEGIN:VEVENT
DTSTART;TZID=Europe/Paris:20190120T095000
DTEND;TZID=Europe/Paris:20190120T113000
DTSTAMP:20260420T131612
CREATED:20190104T204510Z
LAST-MODIFIED:20190104T204510Z
UID:3418-1547977800-1547983800@www.addistres.fr
SUMMARY:Culte
DESCRIPTION:Culte de louange et d’adoration. Le message de l’évangile sera apporté par le pasteur Joël Prudent. \nPouponnière pour les nourrissons jusqu’à 1 an. \nClub des enfants de 1 à 4 ans\, de 5 à 9 ans et de 10 à 12 ans. \n  \nEntrée libre et gratuite. \n  \nAgape à 12h pour toute l’église.
URL:https://www.addistres.fr/event/culte-50/
LOCATION:Église FPMA de Marseille\, 258 Bd Romain Rolland\, Marseille\, 13009\, France
CATEGORIES:Culte
ATTACH;FMTTYPE=image/jpeg:https://www.addistres.fr/wp-content/uploads/2018/11/Culte.jpg
ORGANIZER;CN="Assembl%C3%A9e de Dieu d'Istres":MAILTO:addistres@gmail.com
END:VEVENT
BEGIN:VEVENT
DTSTART;TZID=Europe/Paris:20190120T160000
DTEND;TZID=Europe/Paris:20190120T170000
DTSTAMP:20260420T131612
CREATED:20190117T200232Z
LAST-MODIFIED:20190117T200232Z
UID:3459-1548000000-1548003600@www.addistres.fr
SUMMARY:Culte en commun du CNEF13
DESCRIPTION:Thème : L’évangile\, Quel impact pour aujourd’hui ? \nCulte commun des églises protestantes évangéliques\, le dimanche 20 janvier à Marignane. \nPasteur Alain Denizou \nGroupe musical « Connaixion » \nADD Marignane\, avenue de l’europe
URL:https://www.addistres.fr/event/culte-en-commun-du-cnef13/
LOCATION:ADD Marignane\, 4\, avenue de l'Europe\, Marignane\, 13700\, France
CATEGORIES:Evangélisation
ATTACH;FMTTYPE=image/jpeg:https://www.addistres.fr/wp-content/uploads/2019/01/2019-01-ANNONCES-1.jpg
END:VEVENT
BEGIN:VEVENT
DTSTART;TZID=Europe/Paris:20190122T190000
DTEND;TZID=Europe/Paris:20190122T203000
DTSTAMP:20260420T131612
CREATED:20190104T203254Z
LAST-MODIFIED:20190104T203254Z
UID:3404-1548183600-1548189000@www.addistres.fr
SUMMARY:Réunion de prières
DESCRIPTION:Tous les mardis à 19h00\, les chrétiens se réunissent dans la prière et l’intercession. Une étude biblique est ensuite apportée afin d’édifier le peuple de Dieu.
URL:https://www.addistres.fr/event/reunion-de-prieres-45/
LOCATION:Église FPMA de Marseille\, 258 Bd Romain Rolland\, Marseille\, 13009\, France
CATEGORIES:Prière
ATTACH;FMTTYPE=image/jpeg:https://www.addistres.fr/wp-content/uploads/2018/11/Prière.jpg
ORGANIZER;CN="Assembl%C3%A9e de Dieu d'Istres":MAILTO:addistres@gmail.com
END:VEVENT
BEGIN:VEVENT
DTSTART;TZID=Europe/Paris:20190125T190000
DTEND;TZID=Europe/Paris:20190125T200000
DTSTAMP:20260420T131612
CREATED:20190104T203957Z
LAST-MODIFIED:20190104T203957Z
UID:3414-1548442800-1548446400@www.addistres.fr
SUMMARY:Réunion d'évangélisation
DESCRIPTION:Chaque vendredi à 19h00 le pasteur Joël Prudent parle librement de la bible et de la vie de Jésus-Christ notre Sauveur.
URL:https://www.addistres.fr/event/reunion-devangelisation-61/
LOCATION:Église FPMA de Marseille\, 258 Bd Romain Rolland\, Marseille\, 13009\, France
CATEGORIES:Evangélisation
ATTACH;FMTTYPE=image/jpeg:https://www.addistres.fr/wp-content/uploads/2018/11/Evangélisation.jpg
ORGANIZER;CN="Assembl%C3%A9e de Dieu d'Istres":MAILTO:addistres@gmail.com
END:VEVENT
BEGIN:VEVENT
DTSTART;TZID=Europe/Paris:20190127T095000
DTEND;TZID=Europe/Paris:20190127T113000
DTSTAMP:20260420T131612
CREATED:20190104T205216Z
LAST-MODIFIED:20190119T171522Z
UID:3422-1548582600-1548588600@www.addistres.fr
SUMMARY:Culte
DESCRIPTION:Culte de louange et d’adoration. \nLe message de l’évangile sera apporté par le pasteur de Cavaillon Matthieu Gand\, dans le cadre d’un échange de pupitre mensuel. \nPouponnière pour les nourrissons jusqu’à 1 an. \nClub des enfants de 1 à 4 ans\, de 5 à 9 ans et de 10 à 12 ans. \n  \nEntrée libre. \n  \nPas d’activité l’après-midi.
URL:https://www.addistres.fr/event/culte-51/
LOCATION:Église FPMA de Marseille\, 258 Bd Romain Rolland\, Marseille\, 13009\, France
CATEGORIES:Culte
ORGANIZER;CN="Assembl%C3%A9e de Dieu d'Istres":MAILTO:addistres@gmail.com
END:VEVENT
BEGIN:VEVENT
DTSTART;TZID=Europe/Paris:20190129T190000
DTEND;TZID=Europe/Paris:20190129T203000
DTSTAMP:20260420T131612
CREATED:20190104T203354Z
LAST-MODIFIED:20190104T203354Z
UID:3406-1548788400-1548793800@www.addistres.fr
SUMMARY:Réunion de prières
DESCRIPTION:Tous les mardis à 19h00\, les chrétiens se réunissent dans la prière et l’intercession. Une étude biblique est ensuite apportée afin d’édifier le peuple de Dieu.
URL:https://www.addistres.fr/event/reunion-de-prieres-46/
LOCATION:Église FPMA de Marseille\, 258 Bd Romain Rolland\, Marseille\, 13009\, France
CATEGORIES:Prière
ATTACH;FMTTYPE=image/jpeg:https://www.addistres.fr/wp-content/uploads/2018/11/Prière.jpg
ORGANIZER;CN="Assembl%C3%A9e de Dieu d'Istres":MAILTO:addistres@gmail.com
END:VEVENT
BEGIN:VEVENT
DTSTART;TZID=Europe/Paris:20190131T180000
DTEND;TZID=Europe/Paris:20190131T193000
DTSTAMP:20260420T131612
CREATED:20190104T210511Z
LAST-MODIFIED:20190104T210511Z
UID:3426-1548957600-1548963000@www.addistres.fr
SUMMARY:Instruction cours biblique
DESCRIPTION:Le jeudi 31 janvier\, une instruction tirée de la bible sera apportée par le pasteur Joël Prudent et Sylvain Bernard. \nLe thème abordé sera : \n” La sotériologie ” \nDébut du cours à 18h.
URL:https://www.addistres.fr/event/instruction-cours-biblique-7/
LOCATION:Église FPMA de Marseille\, 258 Bd Romain Rolland\, Marseille\, 13009\, France
CATEGORIES:Cours biblique
ATTACH;FMTTYPE=image/jpeg:https://www.addistres.fr/wp-content/uploads/2019/01/JAN-19-Instruction-cours-biblique-La-soteriologie.jpg
ORGANIZER;CN="Assembl%C3%A9e de Dieu d'Istres":MAILTO:addistres@gmail.com
END:VEVENT
END:VCALENDAR