BEGIN:VCALENDAR
VERSION:2.0
PRODID:-//Eglise ADD Istres - ECPv6.15.17//NONSGML v1.0//EN
CALSCALE:GREGORIAN
METHOD:PUBLISH
X-WR-CALNAME:Eglise ADD Istres
X-ORIGINAL-URL:https://www.addistres.fr
X-WR-CALDESC:Évènements pour Eglise ADD Istres
REFRESH-INTERVAL;VALUE=DURATION:PT1H
X-Robots-Tag:noindex
X-PUBLISHED-TTL:PT1H
BEGIN:VTIMEZONE
TZID:Europe/Paris
BEGIN:DAYLIGHT
TZOFFSETFROM:+0100
TZOFFSETTO:+0200
TZNAME:CEST
DTSTART:20180325T010000
END:DAYLIGHT
BEGIN:STANDARD
TZOFFSETFROM:+0200
TZOFFSETTO:+0100
TZNAME:CET
DTSTART:20181028T010000
END:STANDARD
BEGIN:DAYLIGHT
TZOFFSETFROM:+0100
TZOFFSETTO:+0200
TZNAME:CEST
DTSTART:20190331T010000
END:DAYLIGHT
BEGIN:STANDARD
TZOFFSETFROM:+0200
TZOFFSETTO:+0100
TZNAME:CET
DTSTART:20191027T010000
END:STANDARD
BEGIN:DAYLIGHT
TZOFFSETFROM:+0100
TZOFFSETTO:+0200
TZNAME:CEST
DTSTART:20200329T010000
END:DAYLIGHT
BEGIN:STANDARD
TZOFFSETFROM:+0200
TZOFFSETTO:+0100
TZNAME:CET
DTSTART:20201025T010000
END:STANDARD
END:VTIMEZONE
BEGIN:VEVENT
DTSTART;TZID=Europe/Paris:20190503T190000
DTEND;TZID=Europe/Paris:20190503T200000
DTSTAMP:20260420T061126
CREATED:20190502T095218Z
LAST-MODIFIED:20190502T095218Z
UID:11984-1556910000-1556913600@www.addistres.fr
SUMMARY:Réunion d'évangélisation
DESCRIPTION:Chaque vendredi à 19h00 le pasteur Joël Prudent parle librement de la bible et de la vie de Jésus-Christ notre Sauveur.
URL:https://www.addistres.fr/event/reunion-devangelisation-75/
LOCATION:Église FPMA de Marseille\, 258 Bd Romain Rolland\, Marseille\, 13009\, France
CATEGORIES:Evangélisation
ATTACH;FMTTYPE=image/jpeg:https://www.addistres.fr/wp-content/uploads/2018/11/Evangélisation.jpg
ORGANIZER;CN="Assembl%C3%A9e de Dieu d'Istres":MAILTO:addistres@gmail.com
END:VEVENT
BEGIN:VEVENT
DTSTART;TZID=Europe/Paris:20190505T095000
DTEND;TZID=Europe/Paris:20190505T113000
DTSTAMP:20260420T061126
CREATED:20190502T104148Z
LAST-MODIFIED:20190502T104148Z
UID:12011-1557049800-1557055800@www.addistres.fr
SUMMARY:Culte
DESCRIPTION:Culte de louange et d’adoration. Le message de l’évangile est apporté par le pasteur Joël Prudent. \nPouponnière pour les nourrissons jusqu’à 1 an. \nClub des enfants de 1 à 4 ans\, de 5 à 9 ans et de 10 à 12 ans. \n  \nRéunion de d’évangélisation l’après-midi à 15h30. \n  \nEntrée libre et gratuite
URL:https://www.addistres.fr/event/culte-64/
LOCATION:Église FPMA de Marseille\, 258 Bd Romain Rolland\, Marseille\, 13009\, France
CATEGORIES:Culte
ATTACH;FMTTYPE=image/jpeg:https://www.addistres.fr/wp-content/uploads/2018/11/Culte.jpg
ORGANIZER;CN="Assembl%C3%A9e de Dieu d'Istres":MAILTO:addistres@gmail.com
END:VEVENT
BEGIN:VEVENT
DTSTART;TZID=Europe/Paris:20190505T153000
DTEND;TZID=Europe/Paris:20190505T163000
DTSTAMP:20260420T061126
CREATED:20190502T104831Z
LAST-MODIFIED:20190502T104831Z
UID:12019-1557070200-1557073800@www.addistres.fr
SUMMARY:Réunion d'évangélisation
DESCRIPTION:Tous les premiers dimanche du mois à 15h30 à l’église\, réunion d’évangélisation. \nAmenez vos amis et votre famille afin de leur faire écouter le message de l’évangile\, apporté par le pasteur Joël Prudent. \nEntrée libre.
URL:https://www.addistres.fr/event/reunion-devangelisation-80/
LOCATION:Église FPMA de Marseille\, 258 Bd Romain Rolland\, Marseille\, 13009\, France
CATEGORIES:Evangélisation
ATTACH;FMTTYPE=image/jpeg:https://www.addistres.fr/wp-content/uploads/2018/11/Evangélisation.jpg
ORGANIZER;CN="Assembl%C3%A9e de Dieu d'Istres":MAILTO:addistres@gmail.com
END:VEVENT
BEGIN:VEVENT
DTSTART;TZID=Europe/Paris:20190507T190000
DTEND;TZID=Europe/Paris:20190507T203000
DTSTAMP:20260420T061126
CREATED:20190502T100503Z
LAST-MODIFIED:20190502T100503Z
UID:11994-1557255600-1557261000@www.addistres.fr
SUMMARY:Spéciale réunion de prières
DESCRIPTION:Tous les mardis à 19h00\, les chrétiens se réunissent dans la prière et l’intercession. Une étude biblique est ensuite apportée afin d’édifier le peuple de Dieu. \n 
URL:https://www.addistres.fr/event/speciale-reunion-de-prieres/
LOCATION:Église FPMA de Marseille\, 258 Bd Romain Rolland\, Marseille\, 13009\, France
CATEGORIES:Prière
ATTACH;FMTTYPE=image/jpeg:https://www.addistres.fr/wp-content/uploads/2018/11/Prière.jpg
ORGANIZER;CN="Assembl%C3%A9e de Dieu d'Istres":MAILTO:addistres@gmail.com
END:VEVENT
BEGIN:VEVENT
DTSTART;TZID=Europe/Paris:20190510T190000
DTEND;TZID=Europe/Paris:20190510T200000
DTSTAMP:20260420T061126
CREATED:20190502T095522Z
LAST-MODIFIED:20190502T095522Z
UID:11986-1557514800-1557518400@www.addistres.fr
SUMMARY:Réunion d'évangélisation
DESCRIPTION:Chaque vendredi à 19h00 le pasteur Joël Prudent parle librement de la bible et de la vie de Jésus-Christ notre Sauveur.
URL:https://www.addistres.fr/event/reunion-devangelisation-76/
LOCATION:Église FPMA de Marseille\, 258 Bd Romain Rolland\, Marseille\, 13009\, France
CATEGORIES:Evangélisation
ATTACH;FMTTYPE=image/jpeg:https://www.addistres.fr/wp-content/uploads/2018/11/Evangélisation.jpg
ORGANIZER;CN="Assembl%C3%A9e de Dieu d'Istres":MAILTO:addistres@gmail.com
END:VEVENT
BEGIN:VEVENT
DTSTART;TZID=Europe/Paris:20190512T095000
DTEND;TZID=Europe/Paris:20190512T113000
DTSTAMP:20260420T061126
CREATED:20190502T104317Z
LAST-MODIFIED:20190502T104317Z
UID:12013-1557654600-1557660600@www.addistres.fr
SUMMARY:Culte
DESCRIPTION:Culte de louange et d’adoration. Le message de l’évangile sera apporté par le pasteur Joël Prudent. \nPouponnière pour les nourrissons jusqu’à 1 an. \nClub des enfants de 1 à 4 ans\, de 5 à 9 ans et de 10 à 12 ans. \n  \nEntrée libre et gratuite. \n  \nÉvangélisation de rues sous forme de sondage\, l’après-midi à 15h.
URL:https://www.addistres.fr/event/culte-65/
LOCATION:Église FPMA de Marseille\, 258 Bd Romain Rolland\, Marseille\, 13009\, France
CATEGORIES:Culte
ATTACH;FMTTYPE=image/jpeg:https://www.addistres.fr/wp-content/uploads/2018/11/Culte.jpg
ORGANIZER;CN="Assembl%C3%A9e de Dieu d'Istres":MAILTO:addistres@gmail.com
END:VEVENT
BEGIN:VEVENT
DTSTART;TZID=Europe/Paris:20190516T090000
DTEND;TZID=Europe/Paris:20190516T100000
DTSTAMP:20260420T061126
CREATED:20190913T163309Z
LAST-MODIFIED:20190913T163309Z
UID:12744-1557997200-1558000800@www.addistres.fr
SUMMARY:Réunion de femmes
DESCRIPTION:Un jeudi par mois de 9h à 10h et de 18h30 à 19h30\, les soeurs de l’église se réunissent pour une réunion de prières réservée aux femmes. \nIntercession\, exhortation et louange sous le regard du Seigneur.
URL:https://www.addistres.fr/event/reunion-de-femmes-30-2/
LOCATION:Église FPMA de Marseille\, 258 Bd Romain Rolland\, Marseille\, 13009\, France
CATEGORIES:Femmes,Prière
ATTACH;FMTTYPE=image/jpeg:https://www.addistres.fr/wp-content/uploads/2019/05/MAI-19-Réunion-de-femmes.jpg
ORGANIZER;CN="Assembl%C3%A9e de Dieu d'Istres":MAILTO:addistres@gmail.com
END:VEVENT
BEGIN:VEVENT
DTSTART;TZID=Europe/Paris:20190516T183000
DTEND;TZID=Europe/Paris:20190516T193000
DTSTAMP:20260420T061126
CREATED:20190502T103739Z
LAST-MODIFIED:20190502T103739Z
UID:12009-1558031400-1558035000@www.addistres.fr
SUMMARY:Réunion de femmes
DESCRIPTION:Un jeudi par mois de 9h à 10h et de 18h30 à 19h30\, les soeurs de l’église se réunissent pour une réunion de prières réservée aux femmes. \nIntercession\, exhortation et louange sous le regard du Seigneur.
URL:https://www.addistres.fr/event/reunion-de-femmes-31/
LOCATION:Église FPMA de Marseille\, 258 Bd Romain Rolland\, Marseille\, 13009\, France
CATEGORIES:Femmes,Prière
ATTACH;FMTTYPE=image/jpeg:https://www.addistres.fr/wp-content/uploads/2019/05/MAI-19-Réunion-de-femmes.jpg
ORGANIZER;CN="Assembl%C3%A9e de Dieu d'Istres":MAILTO:addistres@gmail.com
END:VEVENT
BEGIN:VEVENT
DTSTART;TZID=Europe/Paris:20190517T190000
DTEND;TZID=Europe/Paris:20190517T200000
DTSTAMP:20260420T061126
CREATED:20190502T095754Z
LAST-MODIFIED:20190502T095754Z
UID:11988-1558119600-1558123200@www.addistres.fr
SUMMARY:Réunion d'évangélisation
DESCRIPTION:Chaque vendredi à 19h00 le pasteur Joël Prudent parle librement de la bible et de la vie de Jésus-Christ notre Sauveur.
URL:https://www.addistres.fr/event/reunion-devangelisation-77/
LOCATION:Église FPMA de Marseille\, 258 Bd Romain Rolland\, Marseille\, 13009\, France
CATEGORIES:Evangélisation
ATTACH;FMTTYPE=image/jpeg:https://www.addistres.fr/wp-content/uploads/2018/11/Evangélisation.jpg
ORGANIZER;CN="Assembl%C3%A9e de Dieu d'Istres":MAILTO:addistres@gmail.com
END:VEVENT
BEGIN:VEVENT
DTSTART;TZID=Europe/Paris:20190518T090000
DTEND;TZID=Europe/Paris:20190518T110000
DTSTAMP:20260420T061126
CREATED:20190502T115330Z
LAST-MODIFIED:20190502T115330Z
UID:12041-1558170000-1558177200@www.addistres.fr
SUMMARY:Petit-déjeuner des femmes
DESCRIPTION:Le samedi 18 mai à 9h\, petit-déjeuner des femmes inter-églises. \nThème : ” L’estime de soi ” avec Justine Robichaud.
URL:https://www.addistres.fr/event/petit-dejeuner-des-femmes-2/
LOCATION:Église FPMA de Marseille\, 258 Bd Romain Rolland\, Marseille\, 13009\, France
CATEGORIES:Petit-Déjeuner
ATTACH;FMTTYPE=image/jpeg:https://www.addistres.fr/wp-content/uploads/2019/05/MAI-19-pdj-femmes.jpg
ORGANIZER;CN="Assembl%C3%A9e de Dieu d'Istres":MAILTO:addistres@gmail.com
END:VEVENT
BEGIN:VEVENT
DTSTART;TZID=Europe/Paris:20190518T173000
DTEND;TZID=Europe/Paris:20190518T200000
DTSTAMP:20260420T061126
CREATED:20190502T115709Z
LAST-MODIFIED:20190502T115709Z
UID:12043-1558200600-1558209600@www.addistres.fr
SUMMARY:Réunion de jeunesse
DESCRIPTION:Pendant les réunions de jeunesse\,  les jeunes de l’église se réunissent afin de passer un moment agréable autour de la parole de Dieu. \nCe sera aussi l’occasion pour eux de mieux se connaître et ainsi créer des liens fraternels et d’amitiés.
URL:https://www.addistres.fr/event/reunion-de-jeunesse-23/
LOCATION:Église FPMA de Marseille\, 258 Bd Romain Rolland\, Marseille\, 13009\, France
CATEGORIES:Jeunesse
ATTACH;FMTTYPE=image/jpeg:https://www.addistres.fr/wp-content/uploads/2019/05/MAI-19-Réunion-jeunesse-du-18.jpg
ORGANIZER;CN="Assembl%C3%A9e de Dieu d'Istres":MAILTO:addistres@gmail.com
END:VEVENT
BEGIN:VEVENT
DTSTART;TZID=Europe/Paris:20190519T095000
DTEND;TZID=Europe/Paris:20190519T113000
DTSTAMP:20260420T061126
CREATED:20190502T104458Z
LAST-MODIFIED:20190502T104458Z
UID:12015-1558259400-1558265400@www.addistres.fr
SUMMARY:Culte
DESCRIPTION:Culte de louange et d’adoration. Le message de l’évangile sera apporté par le pasteur Joël Prudent. \nPouponnière pour les nourrissons jusqu’à 1 an. \nClub des enfants de 1 à 4 ans\, de 5 à 9 ans et de 10 à 12 ans. \n  \nEntrée libre et gratuite. \n  \nLe culte sera suivi d’une agape\, repas préparé par chacun et partagé.
URL:https://www.addistres.fr/event/culte-66/
LOCATION:Église FPMA de Marseille\, 258 Bd Romain Rolland\, Marseille\, 13009\, France
CATEGORIES:Culte
ATTACH;FMTTYPE=image/jpeg:https://www.addistres.fr/wp-content/uploads/2018/11/Culte.jpg
ORGANIZER;CN="Assembl%C3%A9e de Dieu d'Istres":MAILTO:addistres@gmail.com
END:VEVENT
BEGIN:VEVENT
DTSTART;TZID=Europe/Paris:20190521T190000
DTEND;TZID=Europe/Paris:20190521T203000
DTSTAMP:20260420T061126
CREATED:20190502T100809Z
LAST-MODIFIED:20190502T100809Z
UID:11998-1558465200-1558470600@www.addistres.fr
SUMMARY:Réunion de prières
DESCRIPTION:Tous les mardis à 19h00\, les chrétiens se réunissent dans la prière et l’intercession. Une étude biblique est ensuite apportée afin d’édifier le peuple de Dieu.
URL:https://www.addistres.fr/event/reunion-de-prieres-60/
LOCATION:Église FPMA de Marseille\, 258 Bd Romain Rolland\, Marseille\, 13009\, France
CATEGORIES:Prière
ATTACH;FMTTYPE=image/jpeg:https://www.addistres.fr/wp-content/uploads/2018/11/Prière.jpg
ORGANIZER;CN="Assembl%C3%A9e de Dieu d'Istres":MAILTO:addistres@gmail.com
END:VEVENT
BEGIN:VEVENT
DTSTART;TZID=Europe/Paris:20190523T180000
DTEND;TZID=Europe/Paris:20190523T193000
DTSTAMP:20260420T061126
CREATED:20190502T103114Z
LAST-MODIFIED:20190502T103114Z
UID:12003-1558634400-1558639800@www.addistres.fr
SUMMARY:Instruction cours biblique
DESCRIPTION:Le jeudi 23 mai\, une instruction tirée de la bible sera apportée par le pasteur Joël Prudent et Sylvain Bernard. \nLe thème abordé sera : \n” Le retour de Jésus-Christ  ” \nDébut du cours à 18h.
URL:https://www.addistres.fr/event/instruction-cours-biblique-11/
LOCATION:Église FPMA de Marseille\, 258 Bd Romain Rolland\, Marseille\, 13009\, France
CATEGORIES:Cours biblique
ATTACH;FMTTYPE=image/jpeg:https://www.addistres.fr/wp-content/uploads/2019/05/MAI-19-Instruction-biblique.jpg
ORGANIZER;CN="Assembl%C3%A9e de Dieu d'Istres":MAILTO:addistres@gmail.com
END:VEVENT
BEGIN:VEVENT
DTSTART;TZID=Europe/Paris:20190524T190000
DTEND;TZID=Europe/Paris:20190524T200000
DTSTAMP:20260420T061126
CREATED:20190502T100056Z
LAST-MODIFIED:20190502T100056Z
UID:11990-1558724400-1558728000@www.addistres.fr
SUMMARY:Réunion d'évangélisation
DESCRIPTION:Chaque vendredi à 19h00 le pasteur Joël Prudent parle librement de la bible et de la vie de Jésus-Christ notre Sauveur.
URL:https://www.addistres.fr/event/reunion-devangelisation-78/
LOCATION:Église FPMA de Marseille\, 258 Bd Romain Rolland\, Marseille\, 13009\, France
CATEGORIES:Evangélisation
ATTACH;FMTTYPE=image/jpeg:https://www.addistres.fr/wp-content/uploads/2018/11/Evangélisation.jpg
ORGANIZER;CN="Assembl%C3%A9e de Dieu d'Istres":MAILTO:addistres@gmail.com
END:VEVENT
BEGIN:VEVENT
DTSTART;TZID=Europe/Paris:20190525T173000
DTEND;TZID=Europe/Paris:20190525T190000
DTSTAMP:20260420T061126
CREATED:20190502T115927Z
LAST-MODIFIED:20190502T115927Z
UID:12045-1558805400-1558810800@www.addistres.fr
SUMMARY:Réunion de jeunesse
DESCRIPTION:Pendant les réunions de jeunesse\,  les jeunes de l’église se réunissent afin de passer un moment agréable autour de la parole de Dieu. \nCe sera aussi l’occasion pour eux de mieux se connaître et ainsi créer des liens fraternels et d’amitiés.
URL:https://www.addistres.fr/event/reunion-de-jeunesse-24/
LOCATION:Église FPMA de Marseille\, 258 Bd Romain Rolland\, Marseille\, 13009\, France
CATEGORIES:Jeunesse
ATTACH;FMTTYPE=image/jpeg:https://www.addistres.fr/wp-content/uploads/2019/05/MAI-19-Réunion-jeuunesse-du-25.jpg
ORGANIZER;CN="Assembl%C3%A9e de Dieu d'Istres":MAILTO:addistres@gmail.com
END:VEVENT
BEGIN:VEVENT
DTSTART;TZID=Europe/Paris:20190526T095000
DTEND;TZID=Europe/Paris:20190526T113000
DTSTAMP:20260420T061126
CREATED:20190502T104639Z
LAST-MODIFIED:20190502T104639Z
UID:12017-1558864200-1558870200@www.addistres.fr
SUMMARY:Culte
DESCRIPTION:Culte de louange et d’adoration. Le message de l’évangile sera apporté par le pasteur Joël Prudent. \nPouponnière pour les nourrissons jusqu’à 1 an. \nClub des enfants de 1 à 4 ans\, de 5 à 9 ans et de 10 à 12 ans. \n  \nEntrée libre et gratuite.
URL:https://www.addistres.fr/event/culte-67/
LOCATION:Église FPMA de Marseille\, 258 Bd Romain Rolland\, Marseille\, 13009\, France
CATEGORIES:Culte
ATTACH;FMTTYPE=image/jpeg:https://www.addistres.fr/wp-content/uploads/2018/11/Culte.jpg
ORGANIZER;CN="Assembl%C3%A9e de Dieu d'Istres":MAILTO:addistres@gmail.com
END:VEVENT
BEGIN:VEVENT
DTSTART;TZID=Europe/Paris:20190528T190000
DTEND;TZID=Europe/Paris:20190528T203000
DTSTAMP:20260420T061126
CREATED:20190502T100612Z
LAST-MODIFIED:20190502T100945Z
UID:11996-1559070000-1559075400@www.addistres.fr
SUMMARY:Réunion de prières
DESCRIPTION:Tous les mardis à 19h00\, les chrétiens se réunissent dans la prière et l’intercession. Une étude biblique est ensuite apportée afin d’édifier le peuple de Dieu.
URL:https://www.addistres.fr/event/reunion-de-prieres-59/
LOCATION:Église FPMA de Marseille\, 258 Bd Romain Rolland\, Marseille\, 13009\, France
CATEGORIES:Prière
ATTACH;FMTTYPE=image/jpeg:https://www.addistres.fr/wp-content/uploads/2018/11/Prière.jpg
ORGANIZER;CN="Assembl%C3%A9e de Dieu d'Istres":MAILTO:addistres@gmail.com
END:VEVENT
BEGIN:VEVENT
DTSTART;TZID=Europe/Paris:20190531T190000
DTEND;TZID=Europe/Paris:20190531T200000
DTSTAMP:20260420T061126
CREATED:20190502T100218Z
LAST-MODIFIED:20190502T100218Z
UID:11992-1559329200-1559332800@www.addistres.fr
SUMMARY:Réunion d'évangélisation
DESCRIPTION:Chaque vendredi à 19h00 le pasteur Joël Prudent parle librement de la bible et de la vie de Jésus-Christ notre Sauveur.
URL:https://www.addistres.fr/event/reunion-devangelisation-79/
LOCATION:Église FPMA de Marseille\, 258 Bd Romain Rolland\, Marseille\, 13009\, France
CATEGORIES:Evangélisation
ATTACH;FMTTYPE=image/jpeg:https://www.addistres.fr/wp-content/uploads/2018/11/Evangélisation.jpg
ORGANIZER;CN="Assembl%C3%A9e de Dieu d'Istres":MAILTO:addistres@gmail.com
END:VEVENT
END:VCALENDAR