BEGIN:VCALENDAR
VERSION:2.0
PRODID:-//Eglise ADD Istres - ECPv6.15.17//NONSGML v1.0//EN
CALSCALE:GREGORIAN
METHOD:PUBLISH
X-WR-CALNAME:Eglise ADD Istres
X-ORIGINAL-URL:https://www.addistres.fr
X-WR-CALDESC:Évènements pour Eglise ADD Istres
REFRESH-INTERVAL;VALUE=DURATION:PT1H
X-Robots-Tag:noindex
X-PUBLISHED-TTL:PT1H
BEGIN:VTIMEZONE
TZID:Europe/Paris
BEGIN:DAYLIGHT
TZOFFSETFROM:+0100
TZOFFSETTO:+0200
TZNAME:CEST
DTSTART:20180325T010000
END:DAYLIGHT
BEGIN:STANDARD
TZOFFSETFROM:+0200
TZOFFSETTO:+0100
TZNAME:CET
DTSTART:20181028T010000
END:STANDARD
BEGIN:DAYLIGHT
TZOFFSETFROM:+0100
TZOFFSETTO:+0200
TZNAME:CEST
DTSTART:20190331T010000
END:DAYLIGHT
BEGIN:STANDARD
TZOFFSETFROM:+0200
TZOFFSETTO:+0100
TZNAME:CET
DTSTART:20191027T010000
END:STANDARD
BEGIN:DAYLIGHT
TZOFFSETFROM:+0100
TZOFFSETTO:+0200
TZNAME:CEST
DTSTART:20200329T010000
END:DAYLIGHT
BEGIN:STANDARD
TZOFFSETFROM:+0200
TZOFFSETTO:+0100
TZNAME:CET
DTSTART:20201025T010000
END:STANDARD
END:VTIMEZONE
BEGIN:VEVENT
DTSTART;VALUE=DATE:20190923
DTEND;VALUE=DATE:20190927
DTSTAMP:20260420T063620
CREATED:20190913T174435Z
LAST-MODIFIED:20190913T174702Z
UID:12782-1569196800-1569542399@www.addistres.fr
SUMMARY:Jeûne et prières
DESCRIPTION:Du lundi 23 au jeudi 26 septembre 2019\, l’église d’Istres mettra ce temps à part afin de jeûner et prier pour ce début d’année scolaire. \nContrairement à ce que l’on peut penser\, la privation de nourriture régénérera notre corps mais surtout notre esprit lorsque nous serons dans la prière. A l’écoute du Seigneur\, nous pourrons entendre sa voix et intercéder aux nombreux sujets de prières auxquels sont confrontés les chrétiens en ces temps de la fin. \nJeûnons et prions\, ce sont là nos 2 armes à la puissance incommensurable ! \nLes réunions se dérouleront pendant ces 4 jours : \n\nde 7h à 8h\nde 12h à 13h30\nde 19h à 20h30
URL:https://www.addistres.fr/event/jeune-et-prieres-2/
LOCATION:Église FPMA de Marseille\, 258 Bd Romain Rolland\, Marseille\, 13009\, France
CATEGORIES:Jeûne et prière
ATTACH;FMTTYPE=image/jpeg:https://www.addistres.fr/wp-content/uploads/2019/09/SEP-19-Jeûne-et-prières.jpg
ORGANIZER;CN="Assembl%C3%A9e de Dieu d'Istres":MAILTO:addistres@gmail.com
END:VEVENT
END:VCALENDAR