BEGIN:VCALENDAR
VERSION:2.0
PRODID:-//Eglise ADD Istres - ECPv6.15.17//NONSGML v1.0//EN
CALSCALE:GREGORIAN
METHOD:PUBLISH
X-WR-CALNAME:Eglise ADD Istres
X-ORIGINAL-URL:https://www.addistres.fr
X-WR-CALDESC:Évènements pour Eglise ADD Istres
REFRESH-INTERVAL;VALUE=DURATION:PT1H
X-Robots-Tag:noindex
X-PUBLISHED-TTL:PT1H
BEGIN:VTIMEZONE
TZID:Europe/Paris
BEGIN:DAYLIGHT
TZOFFSETFROM:+0100
TZOFFSETTO:+0200
TZNAME:CEST
DTSTART:20160327T010000
END:DAYLIGHT
BEGIN:STANDARD
TZOFFSETFROM:+0200
TZOFFSETTO:+0100
TZNAME:CET
DTSTART:20161030T010000
END:STANDARD
BEGIN:DAYLIGHT
TZOFFSETFROM:+0100
TZOFFSETTO:+0200
TZNAME:CEST
DTSTART:20170326T010000
END:DAYLIGHT
BEGIN:STANDARD
TZOFFSETFROM:+0200
TZOFFSETTO:+0100
TZNAME:CET
DTSTART:20171029T010000
END:STANDARD
BEGIN:DAYLIGHT
TZOFFSETFROM:+0100
TZOFFSETTO:+0200
TZNAME:CEST
DTSTART:20180325T010000
END:DAYLIGHT
BEGIN:STANDARD
TZOFFSETFROM:+0200
TZOFFSETTO:+0100
TZNAME:CET
DTSTART:20181028T010000
END:STANDARD
END:VTIMEZONE
BEGIN:VEVENT
DTSTART;TZID=Europe/Paris:20171104T173000
DTEND;TZID=Europe/Paris:20171104T190000
DTSTAMP:20260422T113545
CREATED:20170916T131943Z
LAST-MODIFIED:20171028T201439Z
UID:2106-1509816600-1509822000@www.addistres.fr
SUMMARY:Réunion de jeunesse
DESCRIPTION:Le samedi 4 novembre\, réunion de jeunesse à l’église. Adoration\, louange\, message de Jésus-Christ seront les ingrédients d’une soirée remplie du Saint-Esprit. Venez l’adorez !
URL:https://www.addistres.fr/event/rencontre-de-jeunesse-2/
LOCATION:Église FPMA de Marseille\, 258 Bd Romain Rolland\, Marseille\, 13009\, France
CATEGORIES:Jeunesse
ATTACH;FMTTYPE=image/jpeg:https://www.addistres.fr/wp-content/uploads/2015/09/JEUNESSE1.jpg
ORGANIZER;CN="Assembl%C3%A9e de Dieu d'Istres":MAILTO:addistres@gmail.com
END:VEVENT
BEGIN:VEVENT
DTSTART;TZID=Europe/Paris:20171110T190000
DTEND;TZID=Europe/Paris:20171111T100000
DTSTAMP:20260422T113545
CREATED:20171028T211151Z
LAST-MODIFIED:20171108T120253Z
UID:2326-1510340400-1510394400@www.addistres.fr
SUMMARY:Soirée de jeunesse
DESCRIPTION:Du vendredi 10 au samedi 11 novembre est organisée une soirée pyjama pour nos ados de l’église. Bien encadrés\, ils passeront du temps ensemble afin de mieux se connaitre\, avec Jésus comme ami.
URL:https://www.addistres.fr/event/soiree-de-jeunesse/
LOCATION:Église FPMA de Marseille\, 258 Bd Romain Rolland\, Marseille\, 13009\, France
CATEGORIES:Jeunesse
ATTACH;FMTTYPE=image/jpeg:https://www.addistres.fr/wp-content/uploads/2015/09/JEUNESSE1.jpg
ORGANIZER;CN="Assembl%C3%A9e de Dieu d'Istres":MAILTO:addistres@gmail.com
END:VEVENT
BEGIN:VEVENT
DTSTART;TZID=Europe/Paris:20171125T173000
DTEND;TZID=Europe/Paris:20171125T200000
DTSTAMP:20260422T113545
CREATED:20170501T082813Z
LAST-MODIFIED:20171028T205834Z
UID:1937-1511631000-1511640000@www.addistres.fr
SUMMARY:Rencontre de jeunesse
DESCRIPTION:Une rencontre de jeunesse est organisée à l’église de Salon-de-Provence\, le samedi 25 Novembre à 17h30. Tous les jeunes chrétiens des églises de la région se réuniront pour passer un moment de partage dans la louange\, la prière et le message de l’évangile. \n  \n 
URL:https://www.addistres.fr/event/rencontre-de-jeunesse/
LOCATION:ADD Salon de Provence\, 76 rue César Bossy\, Salon de provence\, 13300\, France
CATEGORIES:Evangélisation,Jeunesse,Louange,Prière
ATTACH;FMTTYPE=image/jpeg:https://www.addistres.fr/wp-content/uploads/2015/09/JEUNESSE1.jpg
END:VEVENT
END:VCALENDAR