BEGIN:VCALENDAR
VERSION:2.0
PRODID:-//Eglise ADD Istres - ECPv6.15.17//NONSGML v1.0//EN
CALSCALE:GREGORIAN
METHOD:PUBLISH
X-ORIGINAL-URL:https://www.addistres.fr
X-WR-CALDESC:Évènements pour Eglise ADD Istres
REFRESH-INTERVAL;VALUE=DURATION:PT1H
X-Robots-Tag:noindex
X-PUBLISHED-TTL:PT1H
BEGIN:VTIMEZONE
TZID:Europe/Paris
BEGIN:DAYLIGHT
TZOFFSETFROM:+0100
TZOFFSETTO:+0200
TZNAME:CEST
DTSTART:20170326T010000
END:DAYLIGHT
BEGIN:STANDARD
TZOFFSETFROM:+0200
TZOFFSETTO:+0100
TZNAME:CET
DTSTART:20171029T010000
END:STANDARD
BEGIN:DAYLIGHT
TZOFFSETFROM:+0100
TZOFFSETTO:+0200
TZNAME:CEST
DTSTART:20180325T010000
END:DAYLIGHT
BEGIN:STANDARD
TZOFFSETFROM:+0200
TZOFFSETTO:+0100
TZNAME:CET
DTSTART:20181028T010000
END:STANDARD
BEGIN:DAYLIGHT
TZOFFSETFROM:+0100
TZOFFSETTO:+0200
TZNAME:CEST
DTSTART:20190331T010000
END:DAYLIGHT
BEGIN:STANDARD
TZOFFSETFROM:+0200
TZOFFSETTO:+0100
TZNAME:CET
DTSTART:20191027T010000
END:STANDARD
END:VTIMEZONE
BEGIN:VEVENT
DTSTART;TZID=Europe/Paris:20180203T173000
DTEND;TZID=Europe/Paris:20180203T190000
DTSTAMP:20260422T060742
CREATED:20180127T221833Z
LAST-MODIFIED:20180127T221923Z
UID:2564-1517679000-1517684400@www.addistres.fr
SUMMARY:Réunion de jeunesse
DESCRIPTION:Le 3 février\, les jeunes de l’église se réuniront afin de passer un moment agréable autour de la parole de Dieu. \nCe sera aussi l’occasion pour eux de mieux se connaître et ainsi créer des liens fraternels et d’amitiés.
URL:https://www.addistres.fr/event/reunion-de-jeunesse-7/
LOCATION:Église FPMA de Marseille\, 258 Bd Romain Rolland\, Marseille\, 13009\, France
CATEGORIES:Jeunesse
ATTACH;FMTTYPE=image/jpeg:https://www.addistres.fr/wp-content/uploads/2018/01/Réunion-jeunesse-3-février.jpg
ORGANIZER;CN="Assembl%C3%A9e de Dieu d'Istres":MAILTO:addistres@gmail.com
END:VEVENT
BEGIN:VEVENT
DTSTART;TZID=Europe/Paris:20180210T170000
DTEND;TZID=Europe/Paris:20180210T190000
DTSTAMP:20260422T060742
CREATED:20180203T224242Z
LAST-MODIFIED:20180314T001815Z
UID:2618-1518282000-1518289200@www.addistres.fr
SUMMARY:Rencontre régionale de jeunesse
DESCRIPTION:Rencontre régionale de jeunesse à l’église de Marignane\, le samedi 10 février. \nLes jeunes se réuniront ensemble afin de créer des liens d’amitiés mais surtout pour partager des moments spirituels avec Jésus comme épicentre. \nDépart groupé en covoiturage devant l’église. Horaire de départ à définir.
URL:https://www.addistres.fr/event/rencontre-regionale-de-jeunesse/
LOCATION:ADD Marignane\, 4\, avenue de l'Europe\, Marignane\, 13700\, France
CATEGORIES:Jeunesse
ATTACH;FMTTYPE=image/jpeg:https://www.addistres.fr/wp-content/uploads/2018/02/Rencontre-régionale-jeunesse.jpg
ORGANIZER;CN="Assembl%C3%A9e de Dieu d'Istres":MAILTO:addistres@gmail.com
END:VEVENT
BEGIN:VEVENT
DTSTART;TZID=Europe/Paris:20180217T173000
DTEND;TZID=Europe/Paris:20180217T190000
DTSTAMP:20260422T060742
CREATED:20180128T180417Z
LAST-MODIFIED:20180314T001836Z
UID:2603-1518888600-1518894000@www.addistres.fr
SUMMARY:Réunion de jeunesse
DESCRIPTION:Le 17 février\, les jeunes de l’église se réuniront afin de passer un moment agréable autour de la parole de Dieu. \nCe sera aussi l’occasion pour eux de mieux se connaître et ainsi créer des liens fraternels et d’amitiés.
URL:https://www.addistres.fr/event/reunion-de-jeunesse-8/
LOCATION:Église FPMA de Marseille\, 258 Bd Romain Rolland\, Marseille\, 13009\, France
CATEGORIES:Jeunesse
ATTACH;FMTTYPE=image/jpeg:https://www.addistres.fr/wp-content/uploads/2018/01/réunion-de-jeunesse-17-février.jpg
ORGANIZER;CN="Assembl%C3%A9e de Dieu d'Istres":MAILTO:addistres@gmail.com
END:VEVENT
END:VCALENDAR