BEGIN:VCALENDAR
VERSION:2.0
PRODID:-//Eglise ADD Istres - ECPv6.15.17//NONSGML v1.0//EN
CALSCALE:GREGORIAN
METHOD:PUBLISH
X-ORIGINAL-URL:https://www.addistres.fr
X-WR-CALDESC:Évènements pour Eglise ADD Istres
REFRESH-INTERVAL;VALUE=DURATION:PT1H
X-Robots-Tag:noindex
X-PUBLISHED-TTL:PT1H
BEGIN:VTIMEZONE
TZID:Europe/Paris
BEGIN:DAYLIGHT
TZOFFSETFROM:+0100
TZOFFSETTO:+0200
TZNAME:CEST
DTSTART:20170326T010000
END:DAYLIGHT
BEGIN:STANDARD
TZOFFSETFROM:+0200
TZOFFSETTO:+0100
TZNAME:CET
DTSTART:20171029T010000
END:STANDARD
BEGIN:DAYLIGHT
TZOFFSETFROM:+0100
TZOFFSETTO:+0200
TZNAME:CEST
DTSTART:20180325T010000
END:DAYLIGHT
BEGIN:STANDARD
TZOFFSETFROM:+0200
TZOFFSETTO:+0100
TZNAME:CET
DTSTART:20181028T010000
END:STANDARD
BEGIN:DAYLIGHT
TZOFFSETFROM:+0100
TZOFFSETTO:+0200
TZNAME:CEST
DTSTART:20190331T010000
END:DAYLIGHT
BEGIN:STANDARD
TZOFFSETFROM:+0200
TZOFFSETTO:+0100
TZNAME:CET
DTSTART:20191027T010000
END:STANDARD
END:VTIMEZONE
BEGIN:VEVENT
DTSTART;TZID=Europe/Paris:20181103T173000
DTEND;TZID=Europe/Paris:20181103T190000
DTSTAMP:20260421T133812
CREATED:20181102T111452Z
LAST-MODIFIED:20181102T111452Z
UID:3111-1541266200-1541271600@www.addistres.fr
SUMMARY:Réunion de jeunesse
DESCRIPTION:Le 3 novembre\, les jeunes de l’église se réuniront afin de passer un moment agréable autour de la parole de Dieu. \nCe sera aussi l’occasion pour eux de mieux se connaître et ainsi créer des liens fraternels et d’amitiés.
URL:https://www.addistres.fr/event/reunion-de-jeunesse-16/
LOCATION:Église FPMA de Marseille\, 258 Bd Romain Rolland\, Marseille\, 13009\, France
CATEGORIES:Jeunesse
ATTACH;FMTTYPE=image/jpeg:https://www.addistres.fr/wp-content/uploads/2018/11/NOV-19-03-Jeunesse.jpg
ORGANIZER;CN="Assembl%C3%A9e de Dieu d'Istres":MAILTO:addistres@gmail.com
END:VEVENT
BEGIN:VEVENT
DTSTART;TZID=Europe/Paris:20181109T190000
DTEND;TZID=Europe/Paris:20181110T100000
DTSTAMP:20260421T133812
CREATED:20181102T113918Z
LAST-MODIFIED:20181102T113918Z
UID:3118-1541790000-1541844000@www.addistres.fr
SUMMARY:Soirée pyjama
DESCRIPTION:Du vendredi 9 novembre à partir de 19h au samedi 10 novembre à 10h00\, est organisée une soirée pyjama pour nos ados de l’église. \nBien encadrés\, ils passeront du temps ensemble afin de mieux se connaitre\, avec Jésus comme ami.
URL:https://www.addistres.fr/event/soiree-pyjama/
LOCATION:Église FPMA de Marseille\, 258 Bd Romain Rolland\, Marseille\, 13009\, France
CATEGORIES:Jeunesse
ATTACH;FMTTYPE=image/jpeg:https://www.addistres.fr/wp-content/uploads/2018/11/NOV-19-Soirée-pyjama.jpg
ORGANIZER;CN="Assembl%C3%A9e de Dieu d'Istres":MAILTO:addistres@gmail.com
END:VEVENT
BEGIN:VEVENT
DTSTART;TZID=Europe/Paris:20181110T163000
DTEND;TZID=Europe/Paris:20181110T190000
DTSTAMP:20260421T133812
CREATED:20181102T120038Z
LAST-MODIFIED:20181103T192231Z
UID:3127-1541867400-1541876400@www.addistres.fr
SUMMARY:Essen'ciel
DESCRIPTION:Projection d’un film chrétien comme « Jésus\, l’enquête » suivi d’un débat. \nLa soirée se terminera par une collation où chacun est invité à ramener une boisson et un plat salé ou sucré. \n  \nRejoignez le groupe facebook avec toutes les informations sur « essen’ciel »  en cliquant sur le lien ci-dessous : \nhttps://www.facebook.com/essen.ciel.927
URL:https://www.addistres.fr/event/essenciel/
LOCATION:Église FPMA de Marseille\, 258 Bd Romain Rolland\, Marseille\, 13009\, France
CATEGORIES:Jeunesse
ATTACH;FMTTYPE=image/jpeg:https://www.addistres.fr/wp-content/uploads/2018/11/EssenCiel.jpg
ORGANIZER;CN="Assembl%C3%A9e de Dieu d'Istres":MAILTO:addistres@gmail.com
END:VEVENT
BEGIN:VEVENT
DTSTART;TZID=Europe/Paris:20181124T170000
DTEND;TZID=Europe/Paris:20181124T190000
DTSTAMP:20260421T133812
CREATED:20181102T133434Z
LAST-MODIFIED:20181102T133434Z
UID:3171-1543078800-1543086000@www.addistres.fr
SUMMARY:Rencontre de jeunesse Ouest Provence
DESCRIPTION:Rencontre de jeunesse Ouest Provence à l’église de Salon\, le samedi 24 novembre. \nLes jeunes se réuniront ensemble afin de créer des liens d’amitiés mais surtout pour partager des moments spirituels avec Jésus comme épicentre. \nDépart groupé en covoiturage devant l’église. Horaire à définir.
URL:https://www.addistres.fr/event/rencontre-de-jeunesse-ouest-provence/
LOCATION:ADD Salon de Provence\, 76 rue César Bossy\, Salon de provence\, 13300\, France
CATEGORIES:Jeunesse
ATTACH;FMTTYPE=image/jpeg:https://www.addistres.fr/wp-content/uploads/2018/11/NOV-18-Rencontre-jeunesse.jpg
ORGANIZER;CN="Assembl%C3%A9e de Dieu d'Istres":MAILTO:addistres@gmail.com
END:VEVENT
END:VCALENDAR