BEGIN:VCALENDAR
VERSION:2.0
PRODID:-//Eglise ADD Istres - ECPv6.15.17//NONSGML v1.0//EN
CALSCALE:GREGORIAN
METHOD:PUBLISH
X-ORIGINAL-URL:https://www.addistres.fr
X-WR-CALDESC:Évènements pour Eglise ADD Istres
REFRESH-INTERVAL;VALUE=DURATION:PT1H
X-Robots-Tag:noindex
X-PUBLISHED-TTL:PT1H
BEGIN:VTIMEZONE
TZID:Europe/Paris
BEGIN:DAYLIGHT
TZOFFSETFROM:+0100
TZOFFSETTO:+0200
TZNAME:CEST
DTSTART:20170326T010000
END:DAYLIGHT
BEGIN:STANDARD
TZOFFSETFROM:+0200
TZOFFSETTO:+0100
TZNAME:CET
DTSTART:20171029T010000
END:STANDARD
BEGIN:DAYLIGHT
TZOFFSETFROM:+0100
TZOFFSETTO:+0200
TZNAME:CEST
DTSTART:20180325T010000
END:DAYLIGHT
BEGIN:STANDARD
TZOFFSETFROM:+0200
TZOFFSETTO:+0100
TZNAME:CET
DTSTART:20181028T010000
END:STANDARD
BEGIN:DAYLIGHT
TZOFFSETFROM:+0100
TZOFFSETTO:+0200
TZNAME:CEST
DTSTART:20190331T010000
END:DAYLIGHT
BEGIN:STANDARD
TZOFFSETFROM:+0200
TZOFFSETTO:+0100
TZNAME:CET
DTSTART:20191027T010000
END:STANDARD
END:VTIMEZONE
BEGIN:VEVENT
DTSTART;TZID=Europe/Paris:20181201T173000
DTEND;TZID=Europe/Paris:20181201T190000
DTSTAMP:20260421T115000
CREATED:20181103T223603Z
LAST-MODIFIED:20181103T223603Z
UID:3192-1543685400-1543690800@www.addistres.fr
SUMMARY:Réunion de jeunesse
DESCRIPTION:Pendant les réunions de jeunesse\,  les jeunes de l’église se réunissent afin de passer un moment agréable autour de la parole de Dieu. \nCe sera aussi l’occasion pour eux de mieux se connaître et ainsi créer des liens fraternels et d’amitiés.
URL:https://www.addistres.fr/event/reunion-de-jeunesse-17/
LOCATION:Église FPMA de Marseille\, 258 Bd Romain Rolland\, Marseille\, 13009\, France
CATEGORIES:Jeunesse
ATTACH;FMTTYPE=image/jpeg:https://www.addistres.fr/wp-content/uploads/2018/11/DEC-18-Réunion-de-jeunesse.jpg
ORGANIZER;CN="Assembl%C3%A9e de Dieu d'Istres":MAILTO:addistres@gmail.com
END:VEVENT
BEGIN:VEVENT
DTSTART;TZID=Europe/Paris:20181208T173000
DTEND;TZID=Europe/Paris:20181208T190000
DTSTAMP:20260421T115000
CREATED:20181103T224848Z
LAST-MODIFIED:20181201T225701Z
UID:3204-1544290200-1544295600@www.addistres.fr
SUMMARY:Groupe Essen'Ciel
DESCRIPTION:L’église de Kléber Marseille organise le repas de Noël pour le groupe Essen’ciel. Les différents groupes de la région des 30 à 40 ans se réuniront pour cette occasion bien spéciale. \nChacun est invité à amener une boisson\, ainsi qu’un plat salé ou sucré afin de continuer ce moment de partage. \nRDV à 17h30 devant l’église. \nRejoignez le groupe facebook avec toutes les informations sur « essen’ciel »  en cliquant sur le lien ci-dessous : \nhttps://www.facebook.com/essen.ciel.927
URL:https://www.addistres.fr/event/groupe-essenciel/
LOCATION:Église FPMA de Marseille\, 258 Bd Romain Rolland\, Marseille\, 13009\, France
CATEGORIES:Jeunesse
ATTACH;FMTTYPE=image/jpeg:https://www.addistres.fr/wp-content/uploads/2018/11/DEC-18-EssenCiel.jpg
ORGANIZER;CN="Assembl%C3%A9e de Dieu d'Istres":MAILTO:addistres@gmail.com
END:VEVENT
BEGIN:VEVENT
DTSTART;TZID=Europe/Paris:20181215T120000
DTEND;TZID=Europe/Paris:20181215T190000
DTSTAMP:20260421T115000
CREATED:20181103T232907Z
LAST-MODIFIED:20181209T202044Z
UID:3237-1544875200-1544900400@www.addistres.fr
SUMMARY:Sortie jeunesse
DESCRIPTION:Le samedi 15 décembre\, les jeunes de l’église d’Istres sortiront ensemble afin de mieux se retrouver en dehors de l’église\, mais toujours accompagnés de Jésus. Cette sortie servira à renforcer leur lien d’amitié et de camaraderie. \nLe lieu et les horaires sont encore à définir.
URL:https://www.addistres.fr/event/sortie-jeunesse-2/
LOCATION:Add Istres\, Impasse du Rouquier\, Istres\, Bouches-du-Rhône\, 13800\, France
CATEGORIES:Jeunesse,Jeunesse
ATTACH;FMTTYPE=image/jpeg:https://www.addistres.fr/wp-content/uploads/2018/11/DEC-18-Sortie-Jeunesse.jpg
ORGANIZER;CN="Assembl%C3%A9e de Dieu d'Istres":MAILTO:addistres@gmail.com
END:VEVENT
END:VCALENDAR