BEGIN:VCALENDAR
VERSION:2.0
PRODID:-//Eglise ADD Istres - ECPv6.15.17//NONSGML v1.0//EN
CALSCALE:GREGORIAN
METHOD:PUBLISH
X-WR-CALNAME:Eglise ADD Istres
X-ORIGINAL-URL:https://www.addistres.fr
X-WR-CALDESC:Évènements pour Eglise ADD Istres
REFRESH-INTERVAL;VALUE=DURATION:PT1H
X-Robots-Tag:noindex
X-PUBLISHED-TTL:PT1H
BEGIN:VTIMEZONE
TZID:Europe/Paris
BEGIN:DAYLIGHT
TZOFFSETFROM:+0100
TZOFFSETTO:+0200
TZNAME:CEST
DTSTART:20180325T010000
END:DAYLIGHT
BEGIN:STANDARD
TZOFFSETFROM:+0200
TZOFFSETTO:+0100
TZNAME:CET
DTSTART:20181028T010000
END:STANDARD
BEGIN:DAYLIGHT
TZOFFSETFROM:+0100
TZOFFSETTO:+0200
TZNAME:CEST
DTSTART:20190331T010000
END:DAYLIGHT
BEGIN:STANDARD
TZOFFSETFROM:+0200
TZOFFSETTO:+0100
TZNAME:CET
DTSTART:20191027T010000
END:STANDARD
BEGIN:DAYLIGHT
TZOFFSETFROM:+0100
TZOFFSETTO:+0200
TZNAME:CEST
DTSTART:20200329T010000
END:DAYLIGHT
BEGIN:STANDARD
TZOFFSETFROM:+0200
TZOFFSETTO:+0100
TZNAME:CET
DTSTART:20201025T010000
END:STANDARD
END:VTIMEZONE
BEGIN:VEVENT
DTSTART;TZID=Europe/Paris:20190209T173000
DTEND;TZID=Europe/Paris:20190209T210000
DTSTAMP:20260421T075839
CREATED:20190128T221828Z
LAST-MODIFIED:20190204T123937Z
UID:3532-1549733400-1549746000@www.addistres.fr
SUMMARY:Groupe Essen'Ciel
DESCRIPTION:Moment de louange pour le groupe des 30/40 ans Essen’ciel \nSuivi d’une collation où chacun apporte un plat sucré ou salé et une boisson \nInfos et détails à venir. \nRejoignez le groupe facebook avec toutes les informations sur “Essen’ciel”  en cliquant sur le lien ci-dessous : \nhttps://www.facebook.com/essen.ciel.927
URL:https://www.addistres.fr/event/groupe-essenciel-2/
LOCATION:Église FPMA de Marseille\, 258 Bd Romain Rolland\, Marseille\, 13009\, France
CATEGORIES:Jeunesse
ATTACH;FMTTYPE=image/jpeg:https://www.addistres.fr/wp-content/uploads/2019/02/FEV-19-EssenCiel.jpg
ORGANIZER;CN="Assembl%C3%A9e de Dieu d'Istres":MAILTO:addistres@gmail.com
END:VEVENT
BEGIN:VEVENT
DTSTART;TZID=Europe/Paris:20190216T173000
DTEND;TZID=Europe/Paris:20190216T190000
DTSTAMP:20260421T075839
CREATED:20190128T221956Z
LAST-MODIFIED:20190204T123626Z
UID:3534-1550338200-1550343600@www.addistres.fr
SUMMARY:Réunion de jeunesse
DESCRIPTION:Pendant les réunions de jeunesse\,  les jeunes de l’église se réunissent afin de passer un moment agréable autour de la parole de Dieu. \nCe sera aussi l’occasion pour eux de mieux se connaître et ainsi créer des liens fraternels et d’amitiés.
URL:https://www.addistres.fr/event/reunion-de-jeunesse-19/
LOCATION:Église FPMA de Marseille\, 258 Bd Romain Rolland\, Marseille\, 13009\, France
CATEGORIES:Jeunesse
ATTACH;FMTTYPE=image/jpeg:https://www.addistres.fr/wp-content/uploads/2019/02/FEV-19-Réunion-de-jeunesse.jpg
ORGANIZER;CN="Assembl%C3%A9e de Dieu d'Istres":MAILTO:addistres@gmail.com
END:VEVENT
END:VCALENDAR