BEGIN:VCALENDAR
VERSION:2.0
PRODID:-//Eglise ADD Istres - ECPv6.15.17//NONSGML v1.0//EN
CALSCALE:GREGORIAN
METHOD:PUBLISH
X-ORIGINAL-URL:https://www.addistres.fr
X-WR-CALDESC:Évènements pour Eglise ADD Istres
REFRESH-INTERVAL;VALUE=DURATION:PT1H
X-Robots-Tag:noindex
X-PUBLISHED-TTL:PT1H
BEGIN:VTIMEZONE
TZID:Europe/Paris
BEGIN:DAYLIGHT
TZOFFSETFROM:+0100
TZOFFSETTO:+0200
TZNAME:CEST
DTSTART:20180325T010000
END:DAYLIGHT
BEGIN:STANDARD
TZOFFSETFROM:+0200
TZOFFSETTO:+0100
TZNAME:CET
DTSTART:20181028T010000
END:STANDARD
BEGIN:DAYLIGHT
TZOFFSETFROM:+0100
TZOFFSETTO:+0200
TZNAME:CEST
DTSTART:20190331T010000
END:DAYLIGHT
BEGIN:STANDARD
TZOFFSETFROM:+0200
TZOFFSETTO:+0100
TZNAME:CET
DTSTART:20191027T010000
END:STANDARD
BEGIN:DAYLIGHT
TZOFFSETFROM:+0100
TZOFFSETTO:+0200
TZNAME:CEST
DTSTART:20200329T010000
END:DAYLIGHT
BEGIN:STANDARD
TZOFFSETFROM:+0200
TZOFFSETTO:+0100
TZNAME:CET
DTSTART:20201025T010000
END:STANDARD
END:VTIMEZONE
BEGIN:VEVENT
DTSTART;TZID=Europe/Paris:20190413T133000
DTEND;TZID=Europe/Paris:20190413T170000
DTSTAMP:20260421T041133
CREATED:20190403T072647Z
LAST-MODIFIED:20190406T223256Z
UID:3713-1555162200-1555174800@www.addistres.fr
SUMMARY:Sortie de jeunesse
DESCRIPTION:Samedi 13 avril\, une sortie pour les jeunes de l’église est organisée au parcours aventure de Figuerolles. \nLe rdv est fixé à 13h30 devant l’église et une petite participation sera demandée à chaque enfant. \nD’autres détails seront envoyés ultérieurement par SMS.
URL:https://www.addistres.fr/event/sortie-de-jeunesse/
LOCATION:Parc de Figuerolles\, Domaine de Figuerolles\, Martigues\, 13500\, France
CATEGORIES:Jeunesse
ATTACH;FMTTYPE=image/jpeg:https://www.addistres.fr/wp-content/uploads/2019/04/AVR-19-Sortie-jeunesse.jpg
ORGANIZER;CN="Assembl%C3%A9e de Dieu d'Istres":MAILTO:addistres@gmail.com
END:VEVENT
BEGIN:VEVENT
DTSTART;TZID=Europe/Paris:20190427T173000
DTEND;TZID=Europe/Paris:20190427T190000
DTSTAMP:20260421T041133
CREATED:20190403T075226Z
LAST-MODIFIED:20190403T075226Z
UID:3720-1556386200-1556391600@www.addistres.fr
SUMMARY:Réunion de jeunesse
DESCRIPTION:Pendant les réunions de jeunesse\,  les jeunes de l’église se réunissent afin de passer un moment agréable autour de la parole de Dieu. \nCe sera aussi l’occasion pour eux de mieux se connaître et ainsi créer des liens fraternels et d’amitiés.
URL:https://www.addistres.fr/event/reunion-de-jeunesse-22/
LOCATION:Église FPMA de Marseille\, 258 Bd Romain Rolland\, Marseille\, 13009\, France
CATEGORIES:Jeunesse
ATTACH;FMTTYPE=image/jpeg:https://www.addistres.fr/wp-content/uploads/2019/04/AVR-19-réunion-de-jeunesse.jpg
ORGANIZER;CN="Assembl%C3%A9e de Dieu d'Istres":MAILTO:addistres@gmail.com
END:VEVENT
END:VCALENDAR