BEGIN:VCALENDAR
VERSION:2.0
PRODID:-//Eglise ADD Istres - ECPv6.15.17//NONSGML v1.0//EN
CALSCALE:GREGORIAN
METHOD:PUBLISH
X-ORIGINAL-URL:https://www.addistres.fr
X-WR-CALDESC:Évènements pour Eglise ADD Istres
REFRESH-INTERVAL;VALUE=DURATION:PT1H
X-Robots-Tag:noindex
X-PUBLISHED-TTL:PT1H
BEGIN:VTIMEZONE
TZID:Europe/Paris
BEGIN:DAYLIGHT
TZOFFSETFROM:+0100
TZOFFSETTO:+0200
TZNAME:CEST
DTSTART:20180325T010000
END:DAYLIGHT
BEGIN:STANDARD
TZOFFSETFROM:+0200
TZOFFSETTO:+0100
TZNAME:CET
DTSTART:20181028T010000
END:STANDARD
BEGIN:DAYLIGHT
TZOFFSETFROM:+0100
TZOFFSETTO:+0200
TZNAME:CEST
DTSTART:20190331T010000
END:DAYLIGHT
BEGIN:STANDARD
TZOFFSETFROM:+0200
TZOFFSETTO:+0100
TZNAME:CET
DTSTART:20191027T010000
END:STANDARD
BEGIN:DAYLIGHT
TZOFFSETFROM:+0100
TZOFFSETTO:+0200
TZNAME:CEST
DTSTART:20200329T010000
END:DAYLIGHT
BEGIN:STANDARD
TZOFFSETFROM:+0200
TZOFFSETTO:+0100
TZNAME:CET
DTSTART:20201025T010000
END:STANDARD
END:VTIMEZONE
BEGIN:VEVENT
DTSTART;TZID=Europe/Paris:20191012T140000
DTEND;TZID=Europe/Paris:20191012T190000
DTSTAMP:20260420T150750
CREATED:20190913T172319Z
LAST-MODIFIED:20190913T173946Z
UID:12773-1570888800-1570906800@www.addistres.fr
SUMMARY:Sortie jeunesse
DESCRIPTION:Pendant les sorties de jeunesse\,  les jeunes de l’église se réunissent afin de passer un moment agréable entre eux mais toujours sous le regard de Dieu. \nCe sera aussi l’occasion pour eux de mieux se connaître et ainsi créer des liens fraternels et d’amitiés.
URL:https://www.addistres.fr/event/reunion-de-jeunesse-25-2-2-2/
LOCATION:Église FPMA de Marseille\, 258 Bd Romain Rolland\, Marseille\, 13009\, France
CATEGORIES:Jeunesse
ATTACH;FMTTYPE=image/jpeg:https://www.addistres.fr/wp-content/uploads/2019/09/OCT-19-Sortie-jeunesse.jpg
ORGANIZER;CN="Assembl%C3%A9e de Dieu d'Istres":MAILTO:addistres@gmail.com
END:VEVENT
BEGIN:VEVENT
DTSTART;TZID=Europe/Paris:20191026T170000
DTEND;TZID=Europe/Paris:20191026T190000
DTSTAMP:20260420T150750
CREATED:20190913T172337Z
LAST-MODIFIED:20190913T173623Z
UID:12774-1572109200-1572116400@www.addistres.fr
SUMMARY:Réunion de jeunesse
DESCRIPTION:Pendant les réunions de jeunesse\,  les jeunes de l’église se réunissent afin de passer un moment agréable autour de la parole de Dieu. \nCe sera aussi l’occasion pour eux de mieux se connaître et ainsi créer des liens fraternels et d’amitiés.
URL:https://www.addistres.fr/event/reunion-de-jeunesse-25-2-2-2-2/
LOCATION:Église FPMA de Marseille\, 258 Bd Romain Rolland\, Marseille\, 13009\, France
CATEGORIES:Jeunesse
ATTACH;FMTTYPE=image/jpeg:https://www.addistres.fr/wp-content/uploads/2019/09/OCT-19-Réunion-de-jeunesse.jpg
ORGANIZER;CN="Assembl%C3%A9e de Dieu d'Istres":MAILTO:addistres@gmail.com
END:VEVENT
END:VCALENDAR