BEGIN:VCALENDAR
VERSION:2.0
PRODID:-//Eglise ADD Istres - ECPv6.15.17//NONSGML v1.0//EN
CALSCALE:GREGORIAN
METHOD:PUBLISH
X-ORIGINAL-URL:https://www.addistres.fr
X-WR-CALDESC:Évènements pour Eglise ADD Istres
REFRESH-INTERVAL;VALUE=DURATION:PT1H
X-Robots-Tag:noindex
X-PUBLISHED-TTL:PT1H
BEGIN:VTIMEZONE
TZID:Europe/Paris
BEGIN:DAYLIGHT
TZOFFSETFROM:+0100
TZOFFSETTO:+0200
TZNAME:CEST
DTSTART:20160327T010000
END:DAYLIGHT
BEGIN:STANDARD
TZOFFSETFROM:+0200
TZOFFSETTO:+0100
TZNAME:CET
DTSTART:20161030T010000
END:STANDARD
BEGIN:DAYLIGHT
TZOFFSETFROM:+0100
TZOFFSETTO:+0200
TZNAME:CEST
DTSTART:20170326T010000
END:DAYLIGHT
BEGIN:STANDARD
TZOFFSETFROM:+0200
TZOFFSETTO:+0100
TZNAME:CET
DTSTART:20171029T010000
END:STANDARD
BEGIN:DAYLIGHT
TZOFFSETFROM:+0100
TZOFFSETTO:+0200
TZNAME:CEST
DTSTART:20180325T010000
END:DAYLIGHT
BEGIN:STANDARD
TZOFFSETFROM:+0200
TZOFFSETTO:+0100
TZNAME:CET
DTSTART:20181028T010000
END:STANDARD
END:VTIMEZONE
BEGIN:VEVENT
DTSTART;TZID=Europe/Paris:20171003T190000
DTEND;TZID=Europe/Paris:20171003T203000
DTSTAMP:20260422T214637
CREATED:20171001T072539Z
LAST-MODIFIED:20171001T203846Z
UID:2172-1507057200-1507062600@www.addistres.fr
SUMMARY:Réunion de prières
DESCRIPTION:Tous les mardis à 19h00\, les chrétiens se réunissent dans la prière et l’intercession. Une étude biblique est ensuite apportée afin d’édifier le peuple de Dieu.
URL:https://www.addistres.fr/event/reunion-de-prieres/
LOCATION:Église FPMA de Marseille\, 258 Bd Romain Rolland\, Marseille\, 13009\, France
CATEGORIES:Prière
ORGANIZER;CN="Assembl%C3%A9e de Dieu d'Istres":MAILTO:addistres@gmail.com
END:VEVENT
BEGIN:VEVENT
DTSTART;TZID=Europe/Paris:20171010T190000
DTEND;TZID=Europe/Paris:20171010T203000
DTSTAMP:20260422T214637
CREATED:20171001T173918Z
LAST-MODIFIED:20171001T201825Z
UID:2175-1507662000-1507667400@www.addistres.fr
SUMMARY:Réunion de prières
DESCRIPTION:Tous les mardis à 19h00\, les chrétiens se réunissent dans la prière et l’intercession. Une étude biblique est ensuite apportée afin d’édifier le peuple de Dieu.
URL:https://www.addistres.fr/event/reunion-de-prieres-2/
LOCATION:Église FPMA de Marseille\, 258 Bd Romain Rolland\, Marseille\, 13009\, France
CATEGORIES:Prière
ORGANIZER;CN="Assembl%C3%A9e de Dieu d'Istres":MAILTO:addistres@gmail.com
END:VEVENT
BEGIN:VEVENT
DTSTART;TZID=Europe/Paris:20171015T095000
DTEND;TZID=Europe/Paris:20171015T113000
DTSTAMP:20260422T214637
CREATED:20171002T113008Z
LAST-MODIFIED:20171010T084342Z
UID:2206-1508061000-1508067000@www.addistres.fr
SUMMARY:Culte
DESCRIPTION:Venez célébrer le Roi et adorer le Seigneur dans les chants et la prière. Message apporté par le pasteur Joël Prudent. \nGarderie pour les enfants de 0 à 5 ans. \nClub des enfants de 6 à 12 ans. \nBibliothèque de prêt et vente de bibles et livres chrétiens.
URL:https://www.addistres.fr/event/culte-4/
LOCATION:Église FPMA de Marseille\, 258 Bd Romain Rolland\, Marseille\, 13009\, France
CATEGORIES:Culte,Louange,Prière
ORGANIZER;CN="Assembl%C3%A9e de Dieu d'Istres":MAILTO:addistres@gmail.com
END:VEVENT
BEGIN:VEVENT
DTSTART;TZID=Europe/Paris:20171017T190000
DTEND;TZID=Europe/Paris:20171017T203000
DTSTAMP:20260422T214637
CREATED:20171002T111833Z
LAST-MODIFIED:20171002T111833Z
UID:2196-1508266800-1508272200@www.addistres.fr
SUMMARY:Réunion de prières
DESCRIPTION:Tous les mardis à 19h00\, les chrétiens se réunissent dans la prière et l’intercession. Une étude biblique est ensuite apportée afin d’édifier le peuple de Dieu.
URL:https://www.addistres.fr/event/reunion-de-prieres-3/
LOCATION:Église FPMA de Marseille\, 258 Bd Romain Rolland\, Marseille\, 13009\, France
CATEGORIES:Prière
ORGANIZER;CN="Assembl%C3%A9e de Dieu d'Istres":MAILTO:addistres@gmail.com
END:VEVENT
BEGIN:VEVENT
DTSTART;TZID=Europe/Paris:20171019T090000
DTEND;TZID=Europe/Paris:20171019T100000
DTSTAMP:20260422T214637
CREATED:20171002T220912Z
LAST-MODIFIED:20171013T160233Z
UID:2242-1508403600-1508407200@www.addistres.fr
SUMMARY:Réunion de femmes
DESCRIPTION:Le jeudi 19 octobre\, 2 réunions de prières réservées aux femmes sont organisées à l’église. \nLes horaires sont de 9h à 10h et de 18h30 à 19h30
URL:https://www.addistres.fr/event/reunion-de-femmes-2/
LOCATION:Église FPMA de Marseille\, 258 Bd Romain Rolland\, Marseille\, 13009\, France
CATEGORIES:Femmes,Prière
ORGANIZER;CN="Assembl%C3%A9e de Dieu d'Istres":MAILTO:addistres@gmail.com
END:VEVENT
BEGIN:VEVENT
DTSTART;TZID=Europe/Paris:20171022T095000
DTEND;TZID=Europe/Paris:20171022T113000
DTSTAMP:20260422T214637
CREATED:20171002T113158Z
LAST-MODIFIED:20171002T222505Z
UID:2208-1508665800-1508671800@www.addistres.fr
SUMMARY:Culte
DESCRIPTION:Tous les dimanches\, culte à partir de 9h50. Venez célébrer le Roi et adorez le Seigneur dans les chants et la prière. \nPrésence pour la journée de l’ancien stagiaire de notre église\, le pasteur Touhamia Nordine qui apportera ensuite la parole. \nGarderie pour les enfants de 0 à 5 ans. \nClub des enfants de 6 à 12 ans. \nBibliothèque de prêt et vente de bibles et livres chrétiens.
URL:https://www.addistres.fr/event/culte-5/
LOCATION:Église FPMA de Marseille\, 258 Bd Romain Rolland\, Marseille\, 13009\, France
CATEGORIES:Culte,Louange,Prière
ORGANIZER;CN="Assembl%C3%A9e de Dieu d'Istres":MAILTO:addistres@gmail.com
END:VEVENT
BEGIN:VEVENT
DTSTART;TZID=Europe/Paris:20171024T190000
DTEND;TZID=Europe/Paris:20171024T203000
DTSTAMP:20260422T214637
CREATED:20171002T111950Z
LAST-MODIFIED:20171002T111950Z
UID:2198-1508871600-1508877000@www.addistres.fr
SUMMARY:Réunion de prières
DESCRIPTION:Tous les mardis à 19h00\, les chrétiens se réunissent dans la prière et l’intercession. Une étude biblique est ensuite apportée afin d’édifier le peuple de Dieu.
URL:https://www.addistres.fr/event/reunion-de-prieres-4/
LOCATION:Église FPMA de Marseille\, 258 Bd Romain Rolland\, Marseille\, 13009\, France
CATEGORIES:Prière
ORGANIZER;CN="Assembl%C3%A9e de Dieu d'Istres":MAILTO:addistres@gmail.com
END:VEVENT
BEGIN:VEVENT
DTSTART;TZID=Europe/Paris:20171029T095000
DTEND;TZID=Europe/Paris:20171029T113000
DTSTAMP:20260422T214637
CREATED:20171002T113347Z
LAST-MODIFIED:20171028T194016Z
UID:2210-1509270600-1509276600@www.addistres.fr
SUMMARY:Culte
DESCRIPTION:Venez célébrer le Roi et adorez le Seigneur dans les chants et la prière. Message apporté par l’ancien Richard Garcia. \nGarderie pour les enfants de 0 à 5 ans. \nClub des enfants de 6 à 12 ans. \nBibliothèque de prêt et vente de bibles et livres chrétiens.
URL:https://www.addistres.fr/event/culte-6/
LOCATION:Église FPMA de Marseille\, 258 Bd Romain Rolland\, Marseille\, 13009\, France
CATEGORIES:Culte,Louange,Prière
ORGANIZER;CN="Assembl%C3%A9e de Dieu d'Istres":MAILTO:addistres@gmail.com
END:VEVENT
BEGIN:VEVENT
DTSTART;TZID=Europe/Paris:20171031T190000
DTEND;TZID=Europe/Paris:20171031T203000
DTSTAMP:20260422T214637
CREATED:20171002T112234Z
LAST-MODIFIED:20171002T112234Z
UID:2200-1509476400-1509481800@www.addistres.fr
SUMMARY:Réunion de prières
DESCRIPTION:Tous les mardis à 19h00\, les chrétiens se réunissent dans la prière et l’intercession. Une étude biblique est ensuite apportée afin d’édifier le peuple de Dieu.
URL:https://www.addistres.fr/event/reunion-de-prieres-5/
LOCATION:Église FPMA de Marseille\, 258 Bd Romain Rolland\, Marseille\, 13009\, France
CATEGORIES:Prière
ORGANIZER;CN="Assembl%C3%A9e de Dieu d'Istres":MAILTO:addistres@gmail.com
END:VEVENT
END:VCALENDAR