BEGIN:VCALENDAR
VERSION:2.0
PRODID:-//Eglise ADD Istres - ECPv6.15.17//NONSGML v1.0//EN
CALSCALE:GREGORIAN
METHOD:PUBLISH
X-ORIGINAL-URL:https://www.addistres.fr
X-WR-CALDESC:Évènements pour Eglise ADD Istres
REFRESH-INTERVAL;VALUE=DURATION:PT1H
X-Robots-Tag:noindex
X-PUBLISHED-TTL:PT1H
BEGIN:VTIMEZONE
TZID:Europe/Paris
BEGIN:DAYLIGHT
TZOFFSETFROM:+0100
TZOFFSETTO:+0200
TZNAME:CEST
DTSTART:20170326T010000
END:DAYLIGHT
BEGIN:STANDARD
TZOFFSETFROM:+0200
TZOFFSETTO:+0100
TZNAME:CET
DTSTART:20171029T010000
END:STANDARD
BEGIN:DAYLIGHT
TZOFFSETFROM:+0100
TZOFFSETTO:+0200
TZNAME:CEST
DTSTART:20180325T010000
END:DAYLIGHT
BEGIN:STANDARD
TZOFFSETFROM:+0200
TZOFFSETTO:+0100
TZNAME:CET
DTSTART:20181028T010000
END:STANDARD
BEGIN:DAYLIGHT
TZOFFSETFROM:+0100
TZOFFSETTO:+0200
TZNAME:CEST
DTSTART:20190331T010000
END:DAYLIGHT
BEGIN:STANDARD
TZOFFSETFROM:+0200
TZOFFSETTO:+0100
TZNAME:CET
DTSTART:20191027T010000
END:STANDARD
END:VTIMEZONE
BEGIN:VEVENT
DTSTART;TZID=Europe/Paris:20180102T190000
DTEND;TZID=Europe/Paris:20180102T203000
DTSTAMP:20260422T161539
CREATED:20180106T220654Z
LAST-MODIFIED:20180106T220654Z
UID:2498-1514919600-1514925000@www.addistres.fr
SUMMARY:Réunion de prières
DESCRIPTION:Tous les mardis à 19h00\, les chrétiens se réunissent dans la prière et l’intercession. Une étude biblique est ensuite apportée afin d’édifier le peuple de Dieu.
URL:https://www.addistres.fr/event/reunion-de-prieres-12/
LOCATION:Église FPMA de Marseille\, 258 Bd Romain Rolland\, Marseille\, 13009\, France
CATEGORIES:Prière
ORGANIZER;CN="Assembl%C3%A9e de Dieu d'Istres":MAILTO:addistres@gmail.com
END:VEVENT
BEGIN:VEVENT
DTSTART;TZID=Europe/Paris:20180109T190000
DTEND;TZID=Europe/Paris:20180109T203000
DTSTAMP:20260422T161539
CREATED:20180106T220757Z
LAST-MODIFIED:20180106T220757Z
UID:2500-1515524400-1515529800@www.addistres.fr
SUMMARY:Réunion de prières
DESCRIPTION:Tous les mardis à 19h00\, les chrétiens se réunissent dans la prière et l’intercession. Une étude biblique est ensuite apportée afin d’édifier le peuple de Dieu.
URL:https://www.addistres.fr/event/reunion-de-prieres-13/
LOCATION:Église FPMA de Marseille\, 258 Bd Romain Rolland\, Marseille\, 13009\, France
CATEGORIES:Prière
ORGANIZER;CN="Assembl%C3%A9e de Dieu d'Istres":MAILTO:addistres@gmail.com
END:VEVENT
BEGIN:VEVENT
DTSTART;TZID=Europe/Paris:20180116T190000
DTEND;TZID=Europe/Paris:20180116T203000
DTSTAMP:20260422T161539
CREATED:20180106T220856Z
LAST-MODIFIED:20180113T092754Z
UID:2502-1516129200-1516134600@www.addistres.fr
SUMMARY:Réunion de prières
DESCRIPTION:Tous les mardis à 19h00\, les chrétiens se réunissent dans la prière et l’intercession. Une étude biblique est ensuite apportée afin d’édifier le peuple de Dieu. \nEtude apportée par Richard Garcia
URL:https://www.addistres.fr/event/reunion-de-prieres-14/
LOCATION:Église FPMA de Marseille\, 258 Bd Romain Rolland\, Marseille\, 13009\, France
CATEGORIES:Prière
ORGANIZER;CN="Assembl%C3%A9e de Dieu d'Istres":MAILTO:addistres@gmail.com
END:VEVENT
BEGIN:VEVENT
DTSTART;TZID=Europe/Paris:20180123T190000
DTEND;TZID=Europe/Paris:20180123T203000
DTSTAMP:20260422T161539
CREATED:20180106T221001Z
LAST-MODIFIED:20180106T221001Z
UID:2504-1516734000-1516739400@www.addistres.fr
SUMMARY:Réunion de prières
DESCRIPTION:Tous les mardis à 19h00\, les chrétiens se réunissent dans la prière et l’intercession. Une étude biblique est ensuite apportée afin d’édifier le peuple de Dieu.
URL:https://www.addistres.fr/event/reunion-de-prieres-15/
LOCATION:Église FPMA de Marseille\, 258 Bd Romain Rolland\, Marseille\, 13009\, France
CATEGORIES:Prière
ORGANIZER;CN="Assembl%C3%A9e de Dieu d'Istres":MAILTO:addistres@gmail.com
END:VEVENT
BEGIN:VEVENT
DTSTART;TZID=Europe/Paris:20180130T190000
DTEND;TZID=Europe/Paris:20180130T203000
DTSTAMP:20260422T161539
CREATED:20180106T221105Z
LAST-MODIFIED:20180106T221105Z
UID:2506-1517338800-1517344200@www.addistres.fr
SUMMARY:Réunion de prière
DESCRIPTION:Tous les mardis à 19h00\, les chrétiens se réunissent dans la prière et l’intercession. Une étude biblique est ensuite apportée afin d’édifier le peuple de Dieu.
URL:https://www.addistres.fr/event/reunion-de-priere-2/
LOCATION:Église FPMA de Marseille\, 258 Bd Romain Rolland\, Marseille\, 13009\, France
CATEGORIES:Prière
ORGANIZER;CN="Assembl%C3%A9e de Dieu d'Istres":MAILTO:addistres@gmail.com
END:VEVENT
END:VCALENDAR