BEGIN:VCALENDAR
VERSION:2.0
PRODID:-//Eglise ADD Istres - ECPv6.15.17//NONSGML v1.0//EN
CALSCALE:GREGORIAN
METHOD:PUBLISH
X-WR-CALNAME:Eglise ADD Istres
X-ORIGINAL-URL:https://www.addistres.fr
X-WR-CALDESC:Évènements pour Eglise ADD Istres
REFRESH-INTERVAL;VALUE=DURATION:PT1H
X-Robots-Tag:noindex
X-PUBLISHED-TTL:PT1H
BEGIN:VTIMEZONE
TZID:Europe/Paris
BEGIN:DAYLIGHT
TZOFFSETFROM:+0100
TZOFFSETTO:+0200
TZNAME:CEST
DTSTART:20180325T010000
END:DAYLIGHT
BEGIN:STANDARD
TZOFFSETFROM:+0200
TZOFFSETTO:+0100
TZNAME:CET
DTSTART:20181028T010000
END:STANDARD
BEGIN:DAYLIGHT
TZOFFSETFROM:+0100
TZOFFSETTO:+0200
TZNAME:CEST
DTSTART:20190331T010000
END:DAYLIGHT
BEGIN:STANDARD
TZOFFSETFROM:+0200
TZOFFSETTO:+0100
TZNAME:CET
DTSTART:20191027T010000
END:STANDARD
BEGIN:DAYLIGHT
TZOFFSETFROM:+0100
TZOFFSETTO:+0200
TZNAME:CEST
DTSTART:20200329T010000
END:DAYLIGHT
BEGIN:STANDARD
TZOFFSETFROM:+0200
TZOFFSETTO:+0100
TZNAME:CET
DTSTART:20201025T010000
END:STANDARD
END:VTIMEZONE
BEGIN:VEVENT
DTSTART;TZID=Europe/Paris:20190108T190000
DTEND;TZID=Europe/Paris:20190108T203000
DTSTAMP:20260421T185346
CREATED:20190104T202943Z
LAST-MODIFIED:20190104T202943Z
UID:3400-1546974000-1546979400@www.addistres.fr
SUMMARY:Réunion de prières
DESCRIPTION:Tous les mardis à 19h00\, les chrétiens se réunissent dans la prière et l’intercession. Une étude biblique est ensuite apportée afin d’édifier le peuple de Dieu.
URL:https://www.addistres.fr/event/reunion-de-prieres-43/
LOCATION:Stand Biblique\, avenue Hélène Boucher\, Istres\, Bouches-du-Rhône\, 13800\, France
CATEGORIES:Prière
ATTACH;FMTTYPE=image/jpeg:https://www.addistres.fr/wp-content/uploads/2018/11/Prière.jpg
ORGANIZER;CN="Assembl%C3%A9e de Dieu d'Istres":MAILTO:addistres@gmail.com
END:VEVENT
BEGIN:VEVENT
DTSTART;TZID=Europe/Paris:20190115T190000
DTEND;TZID=Europe/Paris:20190115T203000
DTSTAMP:20260421T185346
CREATED:20190104T203105Z
LAST-MODIFIED:20190112T201452Z
UID:3402-1547578800-1547584200@www.addistres.fr
SUMMARY:Réunion de prières
DESCRIPTION:Tous les mardis à 19h00\, les chrétiens se réunissent dans la prière et l’intercession. Une étude biblique est ensuite apportée afin d’édifier le peuple de Dieu. \nMessage apporté par Sylvain Lévy
URL:https://www.addistres.fr/event/reunion-de-prieres-44/
LOCATION:Église FPMA de Marseille\, 258 Bd Romain Rolland\, Marseille\, 13009\, France
CATEGORIES:Prière
ATTACH;FMTTYPE=image/jpeg:https://www.addistres.fr/wp-content/uploads/2018/11/Prière.jpg
ORGANIZER;CN="Assembl%C3%A9e de Dieu d'Istres":MAILTO:addistres@gmail.com
END:VEVENT
BEGIN:VEVENT
DTSTART;TZID=Europe/Paris:20190122T190000
DTEND;TZID=Europe/Paris:20190122T203000
DTSTAMP:20260421T185346
CREATED:20190104T203254Z
LAST-MODIFIED:20190104T203254Z
UID:3404-1548183600-1548189000@www.addistres.fr
SUMMARY:Réunion de prières
DESCRIPTION:Tous les mardis à 19h00\, les chrétiens se réunissent dans la prière et l’intercession. Une étude biblique est ensuite apportée afin d’édifier le peuple de Dieu.
URL:https://www.addistres.fr/event/reunion-de-prieres-45/
LOCATION:Église FPMA de Marseille\, 258 Bd Romain Rolland\, Marseille\, 13009\, France
CATEGORIES:Prière
ATTACH;FMTTYPE=image/jpeg:https://www.addistres.fr/wp-content/uploads/2018/11/Prière.jpg
ORGANIZER;CN="Assembl%C3%A9e de Dieu d'Istres":MAILTO:addistres@gmail.com
END:VEVENT
BEGIN:VEVENT
DTSTART;TZID=Europe/Paris:20190129T190000
DTEND;TZID=Europe/Paris:20190129T203000
DTSTAMP:20260421T185346
CREATED:20190104T203354Z
LAST-MODIFIED:20190104T203354Z
UID:3406-1548788400-1548793800@www.addistres.fr
SUMMARY:Réunion de prières
DESCRIPTION:Tous les mardis à 19h00\, les chrétiens se réunissent dans la prière et l’intercession. Une étude biblique est ensuite apportée afin d’édifier le peuple de Dieu.
URL:https://www.addistres.fr/event/reunion-de-prieres-46/
LOCATION:Église FPMA de Marseille\, 258 Bd Romain Rolland\, Marseille\, 13009\, France
CATEGORIES:Prière
ATTACH;FMTTYPE=image/jpeg:https://www.addistres.fr/wp-content/uploads/2018/11/Prière.jpg
ORGANIZER;CN="Assembl%C3%A9e de Dieu d'Istres":MAILTO:addistres@gmail.com
END:VEVENT
END:VCALENDAR