BEGIN:VCALENDAR
VERSION:2.0
PRODID:-//Eglise ADD Istres - ECPv6.15.17//NONSGML v1.0//EN
CALSCALE:GREGORIAN
METHOD:PUBLISH
X-ORIGINAL-URL:https://www.addistres.fr
X-WR-CALDESC:Évènements pour Eglise ADD Istres
REFRESH-INTERVAL;VALUE=DURATION:PT1H
X-Robots-Tag:noindex
X-PUBLISHED-TTL:PT1H
BEGIN:VTIMEZONE
TZID:Europe/Paris
BEGIN:DAYLIGHT
TZOFFSETFROM:+0100
TZOFFSETTO:+0200
TZNAME:CEST
DTSTART:20170326T010000
END:DAYLIGHT
BEGIN:STANDARD
TZOFFSETFROM:+0200
TZOFFSETTO:+0100
TZNAME:CET
DTSTART:20171029T010000
END:STANDARD
BEGIN:DAYLIGHT
TZOFFSETFROM:+0100
TZOFFSETTO:+0200
TZNAME:CEST
DTSTART:20180325T010000
END:DAYLIGHT
BEGIN:STANDARD
TZOFFSETFROM:+0200
TZOFFSETTO:+0100
TZNAME:CET
DTSTART:20181028T010000
END:STANDARD
BEGIN:DAYLIGHT
TZOFFSETFROM:+0100
TZOFFSETTO:+0200
TZNAME:CEST
DTSTART:20190331T010000
END:DAYLIGHT
BEGIN:STANDARD
TZOFFSETFROM:+0200
TZOFFSETTO:+0100
TZNAME:CET
DTSTART:20191027T010000
END:STANDARD
END:VTIMEZONE
BEGIN:VEVENT
DTSTART;TZID=Europe/Paris:20181013T090000
DTEND;TZID=Europe/Paris:20181013T170000
DTSTAMP:20260420T020952
CREATED:20180916T150216Z
LAST-MODIFIED:20180916T150216Z
UID:3050-1539421200-1539450000@www.addistres.fr
SUMMARY:Sortie Rando-Evasion
DESCRIPTION:Le samedi 13 septembre est organisé une sortie randonnée à Charleval\, à côté de la Durance\, au nord de Salon. \nCette sortie de niveau moyen de 12\,5 kms\, a un dénivelé de 550m et durera environ 3h30. L’occasion pour les randonneurs de découvrir de nouveaux paysages et de se découvrir les uns et les autres. \nLe rdv est fixé à 9h devant l’église. Co-voiturage organisé selon les disponibilités. Repas tiré des sacs. \nInscriptions auprès de René et Francis.
URL:https://www.addistres.fr/event/sortie-rando-evasion-4/
LOCATION:Église FPMA de Marseille\, 258 Bd Romain Rolland\, Marseille\, 13009\, France
CATEGORIES:Randonnée
ATTACH;FMTTYPE=application/pdf:https://www.addistres.fr/wp-content/uploads/2018/09/OCT-18-Sortie-Rando-Evasion.pdf
ORGANIZER;CN="Assembl%C3%A9e de Dieu d'Istres":MAILTO:addistres@gmail.com
END:VEVENT
END:VCALENDAR