BEGIN:VCALENDAR
VERSION:2.0
PRODID:-//Eglise ADD Istres - ECPv6.15.17//NONSGML v1.0//EN
CALSCALE:GREGORIAN
METHOD:PUBLISH
X-ORIGINAL-URL:https://www.addistres.fr
X-WR-CALDESC:Évènements pour Eglise ADD Istres
REFRESH-INTERVAL;VALUE=DURATION:PT1H
X-Robots-Tag:noindex
X-PUBLISHED-TTL:PT1H
BEGIN:VTIMEZONE
TZID:Europe/Paris
BEGIN:DAYLIGHT
TZOFFSETFROM:+0100
TZOFFSETTO:+0200
TZNAME:CEST
DTSTART:20160327T010000
END:DAYLIGHT
BEGIN:STANDARD
TZOFFSETFROM:+0200
TZOFFSETTO:+0100
TZNAME:CET
DTSTART:20161030T010000
END:STANDARD
BEGIN:DAYLIGHT
TZOFFSETFROM:+0100
TZOFFSETTO:+0200
TZNAME:CEST
DTSTART:20170326T010000
END:DAYLIGHT
BEGIN:STANDARD
TZOFFSETFROM:+0200
TZOFFSETTO:+0100
TZNAME:CET
DTSTART:20171029T010000
END:STANDARD
BEGIN:DAYLIGHT
TZOFFSETFROM:+0100
TZOFFSETTO:+0200
TZNAME:CEST
DTSTART:20180325T010000
END:DAYLIGHT
BEGIN:STANDARD
TZOFFSETFROM:+0200
TZOFFSETTO:+0100
TZNAME:CET
DTSTART:20181028T010000
END:STANDARD
END:VTIMEZONE
BEGIN:VEVENT
DTSTART;TZID=Europe/Paris:20171003T090000
DTEND;TZID=Europe/Paris:20171003T120000
DTSTAMP:20260422T165231
CREATED:20171002T110042Z
LAST-MODIFIED:20180309T140728Z
UID:2185-1507021200-1507032000@www.addistres.fr
SUMMARY:Stand Biblique
DESCRIPTION:Tous les mardis matin\, sur le marché d’Istres\, une équipe de chrétiens tient le stand biblique de l’église afin d’échanger autour de la parole\, d’offrir une bible ou de témoigner de la vie de Jésus-Christ.
URL:https://www.addistres.fr/event/stand-biblique/
LOCATION:Stand Biblique\, avenue Hélène Boucher\, Istres\, Bouches-du-Rhône\, 13800\, France
CATEGORIES:Evangélisation,Stand Biblique
ORGANIZER;CN="Assembl%C3%A9e de Dieu d'Istres":MAILTO:addistres@gmail.com
END:VEVENT
BEGIN:VEVENT
DTSTART;TZID=Europe/Paris:20171010T090000
DTEND;TZID=Europe/Paris:20171010T120000
DTSTAMP:20260422T165231
CREATED:20171002T110221Z
LAST-MODIFIED:20180309T140735Z
UID:2188-1507626000-1507636800@www.addistres.fr
SUMMARY:Stand Biblique
DESCRIPTION:Tous les mardis matin\, pendant le marché d’Istres\, une équipe de chrétiens tient le stand biblique de l’église afin d’échanger autour de la parole\, d’offrir une bible ou de témoigner de la vie de Jésus-Christ.
URL:https://www.addistres.fr/event/stand-biblique-2/
LOCATION:Stand Biblique\, avenue Hélène Boucher\, Istres\, Bouches-du-Rhône\, 13800\, France
CATEGORIES:Evangélisation,Stand Biblique
ORGANIZER;CN="Assembl%C3%A9e de Dieu d'Istres":MAILTO:addistres@gmail.com
END:VEVENT
BEGIN:VEVENT
DTSTART;TZID=Europe/Paris:20171017T090000
DTEND;TZID=Europe/Paris:20171017T120000
DTSTAMP:20260422T165231
CREATED:20171002T110708Z
LAST-MODIFIED:20180309T140742Z
UID:2190-1508230800-1508241600@www.addistres.fr
SUMMARY:Stand Biblique
DESCRIPTION:Tous les mardis matins\, pendant le marché d’Istres\, une équipe de chrétiens tient le stand biblique de l’église afin d’échanger autour de la parole\, d’offrir une bible ou de témoigner de la vie de Jésus-Christ.
URL:https://www.addistres.fr/event/stand-biblique-3/
LOCATION:Stand Biblique\, avenue Hélène Boucher\, Istres\, Bouches-du-Rhône\, 13800\, France
CATEGORIES:Evangélisation,Stand Biblique
ORGANIZER;CN="Assembl%C3%A9e de Dieu d'Istres":MAILTO:addistres@gmail.com
END:VEVENT
BEGIN:VEVENT
DTSTART;TZID=Europe/Paris:20171024T090000
DTEND;TZID=Europe/Paris:20171024T120000
DTSTAMP:20260422T165231
CREATED:20171002T110852Z
LAST-MODIFIED:20180309T140749Z
UID:2192-1508835600-1508846400@www.addistres.fr
SUMMARY:Stand Biblique
DESCRIPTION:Tous les mardis matins\, pendant le marché d’Istres\, une équipe de chrétien tient le stand biblique de l’église afin d’échanger autour de la parole\, d’offrir une bible ou une témoigner de la vie de Jésus-Christ.
URL:https://www.addistres.fr/event/stand-biblique-4/
LOCATION:Stand Biblique\, avenue Hélène Boucher\, Istres\, Bouches-du-Rhône\, 13800\, France
CATEGORIES:Evangélisation,Stand Biblique
ORGANIZER;CN="Assembl%C3%A9e de Dieu d'Istres":MAILTO:addistres@gmail.com
END:VEVENT
BEGIN:VEVENT
DTSTART;TZID=Europe/Paris:20171031T090000
DTEND;TZID=Europe/Paris:20171031T120000
DTSTAMP:20260422T165231
CREATED:20171002T111106Z
LAST-MODIFIED:20180309T140521Z
UID:2194-1509440400-1509451200@www.addistres.fr
SUMMARY:Stand Biblique
DESCRIPTION:Tous les mardis matin\, pendant le marché d’Istres\, une équipe de chrétiens tient le stand biblique de l’église afin d’échanger autour de la parole\, d’offrir une bible ou de témoigner de la vie de Jésus-Christ.
URL:https://www.addistres.fr/event/stand-biblique-5/
LOCATION:Stand Biblique\, avenue Hélène Boucher\, Istres\, Bouches-du-Rhône\, 13800\, France
CATEGORIES:Evangélisation,Stand Biblique
ORGANIZER;CN="Assembl%C3%A9e de Dieu d'Istres":MAILTO:addistres@gmail.com
END:VEVENT
END:VCALENDAR