BEGIN:VCALENDAR
VERSION:2.0
PRODID:-//Eglise ADD Istres - ECPv6.15.17//NONSGML v1.0//EN
CALSCALE:GREGORIAN
METHOD:PUBLISH
X-ORIGINAL-URL:https://www.addistres.fr
X-WR-CALDESC:Évènements pour Eglise ADD Istres
REFRESH-INTERVAL;VALUE=DURATION:PT1H
X-Robots-Tag:noindex
X-PUBLISHED-TTL:PT1H
BEGIN:VTIMEZONE
TZID:Europe/Paris
BEGIN:DAYLIGHT
TZOFFSETFROM:+0100
TZOFFSETTO:+0200
TZNAME:CEST
DTSTART:20160327T010000
END:DAYLIGHT
BEGIN:STANDARD
TZOFFSETFROM:+0200
TZOFFSETTO:+0100
TZNAME:CET
DTSTART:20161030T010000
END:STANDARD
BEGIN:DAYLIGHT
TZOFFSETFROM:+0100
TZOFFSETTO:+0200
TZNAME:CEST
DTSTART:20170326T010000
END:DAYLIGHT
BEGIN:STANDARD
TZOFFSETFROM:+0200
TZOFFSETTO:+0100
TZNAME:CET
DTSTART:20171029T010000
END:STANDARD
BEGIN:DAYLIGHT
TZOFFSETFROM:+0100
TZOFFSETTO:+0200
TZNAME:CEST
DTSTART:20180325T010000
END:DAYLIGHT
BEGIN:STANDARD
TZOFFSETFROM:+0200
TZOFFSETTO:+0100
TZNAME:CET
DTSTART:20181028T010000
END:STANDARD
END:VTIMEZONE
BEGIN:VEVENT
DTSTART;TZID=Europe/Paris:20171107T090000
DTEND;TZID=Europe/Paris:20171107T120000
DTSTAMP:20260422T150550
CREATED:20171028T215826Z
LAST-MODIFIED:20171028T215826Z
UID:2341-1510045200-1510056000@www.addistres.fr
SUMMARY:Stand biblique
DESCRIPTION:Tous les mardis matin\, pendant le marché d’Istres\, une équipe de chrétiens tient le stand biblique de l’église afin d’échanger autour de la parole\, d’offrir une bible ou de témoigner de la vie de Jésus-Christ.
URL:https://www.addistres.fr/event/stand-biblique-7/
LOCATION:Add Istres\, Impasse du Rouquier\, Istres\, Bouches-du-Rhône\, 13800\, France
CATEGORIES:Evangélisation,Stand Biblique
ORGANIZER;CN="Assembl%C3%A9e de Dieu d'Istres":MAILTO:addistres@gmail.com
END:VEVENT
BEGIN:VEVENT
DTSTART;TZID=Europe/Paris:20171114T090000
DTEND;TZID=Europe/Paris:20171114T120000
DTSTAMP:20260422T150550
CREATED:20171028T215356Z
LAST-MODIFIED:20171028T215356Z
UID:2339-1510650000-1510660800@www.addistres.fr
SUMMARY:Stand biblique
DESCRIPTION:Tous les mardis matin\, pendant le marché d’Istres\, une équipe de chrétiens tient le stand biblique de l’église afin d’échanger autour de la parole\, d’offrir une bible ou de témoigner de la vie de Jésus-Christ.
URL:https://www.addistres.fr/event/stand-biblique-6/
LOCATION:Add Istres\, Impasse du Rouquier\, Istres\, Bouches-du-Rhône\, 13800\, France
CATEGORIES:Evangélisation,Sortie,Stand Biblique
ORGANIZER;CN="Assembl%C3%A9e de Dieu d'Istres":MAILTO:addistres@gmail.com
END:VEVENT
BEGIN:VEVENT
DTSTART;TZID=Europe/Paris:20171121T090000
DTEND;TZID=Europe/Paris:20171121T120000
DTSTAMP:20260422T150550
CREATED:20171028T220027Z
LAST-MODIFIED:20171028T220027Z
UID:2343-1511254800-1511265600@www.addistres.fr
SUMMARY:Stand biblique
DESCRIPTION:Tous les mardis matin\, pendant le marché d’Istres\, une équipe de chrétiens tient le stand biblique de l’église afin d’échanger autour de la parole\, d’offrir une bible ou de témoigner de la vie de Jésus-Christ.
URL:https://www.addistres.fr/event/stand-biblique-8/
LOCATION:Add Istres\, Impasse du Rouquier\, Istres\, Bouches-du-Rhône\, 13800\, France
CATEGORIES:Evangélisation,Stand Biblique
ORGANIZER;CN="Assembl%C3%A9e de Dieu d'Istres":MAILTO:addistres@gmail.com
END:VEVENT
BEGIN:VEVENT
DTSTART;TZID=Europe/Paris:20171128T090000
DTEND;TZID=Europe/Paris:20171128T120000
DTSTAMP:20260422T150550
CREATED:20171028T220738Z
LAST-MODIFIED:20171028T220738Z
UID:2347-1511859600-1511870400@www.addistres.fr
SUMMARY:Stand biblique
DESCRIPTION:Tous les mardis matin\, pendant le marché d’Istres\, une équipe de chrétiens tient le stand biblique de l’église afin d’échanger autour de la parole\, d’offrir une bible ou de témoigner de la vie de Jésus-Christ.
URL:https://www.addistres.fr/event/stand-biblique-9/
LOCATION:Add Istres\, Impasse du Rouquier\, Istres\, Bouches-du-Rhône\, 13800\, France
CATEGORIES:Evangélisation,Stand Biblique
ORGANIZER;CN="Assembl%C3%A9e de Dieu d'Istres":MAILTO:addistres@gmail.com
END:VEVENT
END:VCALENDAR