BEGIN:VCALENDAR
VERSION:2.0
PRODID:-//Eglise ADD Istres - ECPv6.15.17//NONSGML v1.0//EN
CALSCALE:GREGORIAN
METHOD:PUBLISH
X-WR-CALNAME:Eglise ADD Istres
X-ORIGINAL-URL:https://www.addistres.fr
X-WR-CALDESC:Évènements pour Eglise ADD Istres
REFRESH-INTERVAL;VALUE=DURATION:PT1H
X-Robots-Tag:noindex
X-PUBLISHED-TTL:PT1H
BEGIN:VTIMEZONE
TZID:Europe/Paris
BEGIN:DAYLIGHT
TZOFFSETFROM:+0100
TZOFFSETTO:+0200
TZNAME:CEST
DTSTART:20170326T010000
END:DAYLIGHT
BEGIN:STANDARD
TZOFFSETFROM:+0200
TZOFFSETTO:+0100
TZNAME:CET
DTSTART:20171029T010000
END:STANDARD
BEGIN:DAYLIGHT
TZOFFSETFROM:+0100
TZOFFSETTO:+0200
TZNAME:CEST
DTSTART:20180325T010000
END:DAYLIGHT
BEGIN:STANDARD
TZOFFSETFROM:+0200
TZOFFSETTO:+0100
TZNAME:CET
DTSTART:20181028T010000
END:STANDARD
BEGIN:DAYLIGHT
TZOFFSETFROM:+0100
TZOFFSETTO:+0200
TZNAME:CEST
DTSTART:20190331T010000
END:DAYLIGHT
BEGIN:STANDARD
TZOFFSETFROM:+0200
TZOFFSETTO:+0100
TZNAME:CET
DTSTART:20191027T010000
END:STANDARD
END:VTIMEZONE
BEGIN:VEVENT
DTSTART;TZID=Europe/Paris:20180109T090000
DTEND;TZID=Europe/Paris:20180109T110000
DTSTAMP:20260422T110818
CREATED:20180106T221221Z
LAST-MODIFIED:20180314T002501Z
UID:2508-1515488400-1515495600@www.addistres.fr
SUMMARY:Stand biblique
DESCRIPTION:Tous les mardis matin\, pendant le marché d’Istres\, une équipe de chrétiens tient le stand biblique de l’église afin d’échanger autour de la parole\, d’offrir une bible ou de témoigner de la vie de Jésus-Christ.
URL:https://www.addistres.fr/event/stand-biblique-13/
LOCATION:Add Istres\, Impasse du Rouquier\, Istres\, Bouches-du-Rhône\, 13800\, France
CATEGORIES:Stand Biblique
ORGANIZER;CN="Assembl%C3%A9e de Dieu d'Istres":MAILTO:addistres@gmail.com
END:VEVENT
BEGIN:VEVENT
DTSTART;TZID=Europe/Paris:20180116T090000
DTEND;TZID=Europe/Paris:20180116T110000
DTSTAMP:20260422T110818
CREATED:20180106T221431Z
LAST-MODIFIED:20180314T002430Z
UID:2510-1516093200-1516100400@www.addistres.fr
SUMMARY:Stand biblique
DESCRIPTION:Tous les mardis matin\, pendant le marché d’Istres\, une équipe de chrétiens tient le stand biblique de l’église afin d’échanger autour de la parole\, d’offrir une bible ou de témoigner de la vie de Jésus-Christ.
URL:https://www.addistres.fr/event/stand-biblique-15/
LOCATION:Add Istres\, Impasse du Rouquier\, Istres\, Bouches-du-Rhône\, 13800\, France
CATEGORIES:Stand Biblique
ORGANIZER;CN="Assembl%C3%A9e de Dieu d'Istres":MAILTO:addistres@gmail.com
END:VEVENT
BEGIN:VEVENT
DTSTART;TZID=Europe/Paris:20180130T090000
DTEND;TZID=Europe/Paris:20180130T110000
DTSTAMP:20260422T110818
CREATED:20180106T221630Z
LAST-MODIFIED:20180314T002000Z
UID:2514-1517302800-1517310000@www.addistres.fr
SUMMARY:Stand biblique
DESCRIPTION:Tous les mardis matin\, pendant le marché d’Istres\, une équipe de chrétiens tient le stand biblique de l’église afin d’échanger autour de la parole\, d’offrir une bible ou de témoigner de la vie de Jésus-Christ.
URL:https://www.addistres.fr/event/stand-biblique-17/
LOCATION:Add Istres\, Impasse du Rouquier\, Istres\, Bouches-du-Rhône\, 13800\, France
CATEGORIES:Stand Biblique
ORGANIZER;CN="Assembl%C3%A9e de Dieu d'Istres":MAILTO:addistres@gmail.com
END:VEVENT
END:VCALENDAR