BEGIN:VCALENDAR
VERSION:2.0
PRODID:-//Eglise ADD Istres - ECPv6.15.17//NONSGML v1.0//EN
CALSCALE:GREGORIAN
METHOD:PUBLISH
X-WR-CALNAME:Eglise ADD Istres
X-ORIGINAL-URL:https://www.addistres.fr
X-WR-CALDESC:Évènements pour Eglise ADD Istres
REFRESH-INTERVAL;VALUE=DURATION:PT1H
X-Robots-Tag:noindex
X-PUBLISHED-TTL:PT1H
BEGIN:VTIMEZONE
TZID:Europe/Paris
BEGIN:DAYLIGHT
TZOFFSETFROM:+0100
TZOFFSETTO:+0200
TZNAME:CEST
DTSTART:20170326T010000
END:DAYLIGHT
BEGIN:STANDARD
TZOFFSETFROM:+0200
TZOFFSETTO:+0100
TZNAME:CET
DTSTART:20171029T010000
END:STANDARD
BEGIN:DAYLIGHT
TZOFFSETFROM:+0100
TZOFFSETTO:+0200
TZNAME:CEST
DTSTART:20180325T010000
END:DAYLIGHT
BEGIN:STANDARD
TZOFFSETFROM:+0200
TZOFFSETTO:+0100
TZNAME:CET
DTSTART:20181028T010000
END:STANDARD
BEGIN:DAYLIGHT
TZOFFSETFROM:+0100
TZOFFSETTO:+0200
TZNAME:CEST
DTSTART:20190331T010000
END:DAYLIGHT
BEGIN:STANDARD
TZOFFSETFROM:+0200
TZOFFSETTO:+0100
TZNAME:CET
DTSTART:20191027T010000
END:STANDARD
END:VTIMEZONE
BEGIN:VEVENT
DTSTART;TZID=Europe/Paris:20181204T090000
DTEND;TZID=Europe/Paris:20181204T110000
DTSTAMP:20260421T093630
CREATED:20181103T223919Z
LAST-MODIFIED:20181103T223919Z
UID:3198-1543914000-1543921200@www.addistres.fr
SUMMARY:Stand biblique
DESCRIPTION:Tous les mardis matins\, pendant le marché d’Istres\, une équipe de chrétiens tient le stand biblique de l’église afin d’échanger autour de la parole\, d’offrir une bible ou de témoigner de la vie de Jésus-Christ.
URL:https://www.addistres.fr/event/stand-biblique-39/
LOCATION:Stand Biblique\, avenue Hélène Boucher\, Istres\, Bouches-du-Rhône\, 13800\, France
CATEGORIES:Stand Biblique
ATTACH;FMTTYPE=image/jpeg:https://www.addistres.fr/wp-content/uploads/2018/11/Stand-biblique.jpg
ORGANIZER;CN="Assembl%C3%A9e de Dieu d'Istres":MAILTO:addistres@gmail.com
END:VEVENT
BEGIN:VEVENT
DTSTART;TZID=Europe/Paris:20181211T090000
DTEND;TZID=Europe/Paris:20181211T110000
DTSTAMP:20260421T093630
CREATED:20181103T230201Z
LAST-MODIFIED:20181103T230201Z
UID:3214-1544518800-1544526000@www.addistres.fr
SUMMARY:Stand biblique
DESCRIPTION:Tous les mardis matins\, pendant le marché d’Istres\, une équipe de chrétiens tient le stand biblique de l’église afin d’échanger autour de la parole\, d’offrir une bible ou de témoigner de la vie de Jésus-Christ.
URL:https://www.addistres.fr/event/stand-biblique-40/
LOCATION:Église FPMA de Marseille\, 258 Bd Romain Rolland\, Marseille\, 13009\, France
CATEGORIES:Stand Biblique
ATTACH;FMTTYPE=image/jpeg:https://www.addistres.fr/wp-content/uploads/2018/11/Stand-biblique.jpg
ORGANIZER;CN="Assembl%C3%A9e de Dieu d'Istres":MAILTO:addistres@gmail.com
END:VEVENT
BEGIN:VEVENT
DTSTART;TZID=Europe/Paris:20181218T090000
DTEND;TZID=Europe/Paris:20181218T110000
DTSTAMP:20260421T093630
CREATED:20181103T230252Z
LAST-MODIFIED:20181103T230252Z
UID:3216-1545123600-1545130800@www.addistres.fr
SUMMARY:Stand biblique
DESCRIPTION:Tous les mardis matins\, pendant le marché d’Istres\, une équipe de chrétiens tient le stand biblique de l’église afin d’échanger autour de la parole\, d’offrir une bible ou de témoigner de la vie de Jésus-Christ.
URL:https://www.addistres.fr/event/stand-biblique-41/
LOCATION:Église FPMA de Marseille\, 258 Bd Romain Rolland\, Marseille\, 13009\, France
CATEGORIES:Stand Biblique
ATTACH;FMTTYPE=image/jpeg:https://www.addistres.fr/wp-content/uploads/2018/11/Stand-biblique.jpg
ORGANIZER;CN="Assembl%C3%A9e de Dieu d'Istres":MAILTO:addistres@gmail.com
END:VEVENT
END:VCALENDAR