BEGIN:VCALENDAR
VERSION:2.0
PRODID:-//Eglise ADD Istres - ECPv6.15.17//NONSGML v1.0//EN
CALSCALE:GREGORIAN
METHOD:PUBLISH
X-WR-CALNAME:Eglise ADD Istres
X-ORIGINAL-URL:https://www.addistres.fr
X-WR-CALDESC:Évènements pour Eglise ADD Istres
REFRESH-INTERVAL;VALUE=DURATION:PT1H
X-Robots-Tag:noindex
X-PUBLISHED-TTL:PT1H
BEGIN:VTIMEZONE
TZID:Europe/Paris
BEGIN:DAYLIGHT
TZOFFSETFROM:+0100
TZOFFSETTO:+0200
TZNAME:CEST
DTSTART:20180325T010000
END:DAYLIGHT
BEGIN:STANDARD
TZOFFSETFROM:+0200
TZOFFSETTO:+0100
TZNAME:CET
DTSTART:20181028T010000
END:STANDARD
BEGIN:DAYLIGHT
TZOFFSETFROM:+0100
TZOFFSETTO:+0200
TZNAME:CEST
DTSTART:20190331T010000
END:DAYLIGHT
BEGIN:STANDARD
TZOFFSETFROM:+0200
TZOFFSETTO:+0100
TZNAME:CET
DTSTART:20191027T010000
END:STANDARD
BEGIN:DAYLIGHT
TZOFFSETFROM:+0100
TZOFFSETTO:+0200
TZNAME:CEST
DTSTART:20200329T010000
END:DAYLIGHT
BEGIN:STANDARD
TZOFFSETFROM:+0200
TZOFFSETTO:+0100
TZNAME:CET
DTSTART:20201025T010000
END:STANDARD
END:VTIMEZONE
BEGIN:VEVENT
DTSTART;TZID=Europe/Paris:20190402T090000
DTEND;TZID=Europe/Paris:20190402T110000
DTSTAMP:20260421T022643
CREATED:20190402T143759Z
LAST-MODIFIED:20190402T143759Z
UID:3667-1554195600-1554202800@www.addistres.fr
SUMMARY:Stand biblique
DESCRIPTION:Tous les mardis matins\, pendant le marché d’Istres\, une équipe de chrétiens tient le stand biblique de l’église afin d’échanger autour de la parole\, d’offrir une bible ou de témoigner de la vie de Jésus-Christ.
URL:https://www.addistres.fr/event/stand-biblique-53/
LOCATION:Stand Biblique\, avenue Hélène Boucher\, Istres\, Bouches-du-Rhône\, 13800\, France
CATEGORIES:Stand Biblique
ATTACH;FMTTYPE=image/jpeg:https://www.addistres.fr/wp-content/uploads/2018/11/Stand-biblique.jpg
ORGANIZER;CN="Assembl%C3%A9e de Dieu d'Istres":MAILTO:addistres@gmail.com
END:VEVENT
BEGIN:VEVENT
DTSTART;TZID=Europe/Paris:20190409T090000
DTEND;TZID=Europe/Paris:20190409T110000
DTSTAMP:20260421T022643
CREATED:20190402T143938Z
LAST-MODIFIED:20190402T143938Z
UID:3669-1554800400-1554807600@www.addistres.fr
SUMMARY:Stand biblique
DESCRIPTION:Tous les mardis matins\, pendant le marché d’Istres\, une équipe de chrétiens tient le stand biblique de l’église afin d’échanger autour de la parole\, d’offrir une bible ou de témoigner de la vie de Jésus-Christ.
URL:https://www.addistres.fr/event/stand-biblique-54/
LOCATION:Stand Biblique\, avenue Hélène Boucher\, Istres\, Bouches-du-Rhône\, 13800\, France
CATEGORIES:Stand Biblique
ATTACH;FMTTYPE=image/jpeg:https://www.addistres.fr/wp-content/uploads/2018/11/Stand-biblique.jpg
ORGANIZER;CN="Assembl%C3%A9e de Dieu d'Istres":MAILTO:addistres@gmail.com
END:VEVENT
BEGIN:VEVENT
DTSTART;TZID=Europe/Paris:20190416T090000
DTEND;TZID=Europe/Paris:20190416T110000
DTSTAMP:20260421T022643
CREATED:20190402T144035Z
LAST-MODIFIED:20190402T144035Z
UID:3671-1555405200-1555412400@www.addistres.fr
SUMMARY:Stand biblique
DESCRIPTION:Tous les mardis matins\, pendant le marché d’Istres\, une équipe de chrétiens tient le stand biblique de l’église afin d’échanger autour de la parole\, d’offrir une bible ou de témoigner de la vie de Jésus-Christ.
URL:https://www.addistres.fr/event/stand-biblique-55/
LOCATION:Stand Biblique\, avenue Hélène Boucher\, Istres\, Bouches-du-Rhône\, 13800\, France
CATEGORIES:Stand Biblique
ATTACH;FMTTYPE=image/jpeg:https://www.addistres.fr/wp-content/uploads/2018/11/Stand-biblique.jpg
ORGANIZER;CN="Assembl%C3%A9e de Dieu d'Istres":MAILTO:addistres@gmail.com
END:VEVENT
BEGIN:VEVENT
DTSTART;TZID=Europe/Paris:20190423T090000
DTEND;TZID=Europe/Paris:20190423T110000
DTSTAMP:20260421T022643
CREATED:20190402T144246Z
LAST-MODIFIED:20190402T144246Z
UID:3673-1556010000-1556017200@www.addistres.fr
SUMMARY:Stand biblique
DESCRIPTION:Tous les mardis matins\, pendant le marché d’Istres\, une équipe de chrétiens tient le stand biblique de l’église afin d’échanger autour de la parole\, d’offrir une bible ou de témoigner de la vie de Jésus-Christ.
URL:https://www.addistres.fr/event/stand-biblique-56/
LOCATION:Stand Biblique\, avenue Hélène Boucher\, Istres\, Bouches-du-Rhône\, 13800\, France
CATEGORIES:Stand Biblique
ATTACH;FMTTYPE=image/jpeg:https://www.addistres.fr/wp-content/uploads/2018/11/Stand-biblique.jpg
ORGANIZER;CN="Assembl%C3%A9e de Dieu d'Istres":MAILTO:addistres@gmail.com
END:VEVENT
BEGIN:VEVENT
DTSTART;TZID=Europe/Paris:20190430T090000
DTEND;TZID=Europe/Paris:20190430T110000
DTSTAMP:20260421T022643
CREATED:20190402T144412Z
LAST-MODIFIED:20190402T144412Z
UID:3675-1556614800-1556622000@www.addistres.fr
SUMMARY:Stand biblique
DESCRIPTION:Tous les mardis matins\, pendant le marché d’Istres\, une équipe de chrétiens tient le stand biblique de l’église afin d’échanger autour de la parole\, d’offrir une bible ou de témoigner de la vie de Jésus-Christ.
URL:https://www.addistres.fr/event/stand-biblique-57/
LOCATION:Stand Biblique\, avenue Hélène Boucher\, Istres\, Bouches-du-Rhône\, 13800\, France
CATEGORIES:Stand Biblique
ATTACH;FMTTYPE=image/jpeg:https://www.addistres.fr/wp-content/uploads/2018/11/Stand-biblique.jpg
ORGANIZER;CN="Assembl%C3%A9e de Dieu d'Istres":MAILTO:addistres@gmail.com
END:VEVENT
END:VCALENDAR