BEGIN:VCALENDAR
VERSION:2.0
PRODID:-//Eglise ADD Istres - ECPv6.15.17//NONSGML v1.0//EN
CALSCALE:GREGORIAN
METHOD:PUBLISH
X-ORIGINAL-URL:https://www.addistres.fr
X-WR-CALDESC:Évènements pour Eglise ADD Istres
REFRESH-INTERVAL;VALUE=DURATION:PT1H
X-Robots-Tag:noindex
X-PUBLISHED-TTL:PT1H
BEGIN:VTIMEZONE
TZID:Europe/Paris
BEGIN:DAYLIGHT
TZOFFSETFROM:+0100
TZOFFSETTO:+0200
TZNAME:CEST
DTSTART:20170326T010000
END:DAYLIGHT
BEGIN:STANDARD
TZOFFSETFROM:+0200
TZOFFSETTO:+0100
TZNAME:CET
DTSTART:20171029T010000
END:STANDARD
BEGIN:DAYLIGHT
TZOFFSETFROM:+0100
TZOFFSETTO:+0200
TZNAME:CEST
DTSTART:20180325T010000
END:DAYLIGHT
BEGIN:STANDARD
TZOFFSETFROM:+0200
TZOFFSETTO:+0100
TZNAME:CET
DTSTART:20181028T010000
END:STANDARD
BEGIN:DAYLIGHT
TZOFFSETFROM:+0100
TZOFFSETTO:+0200
TZNAME:CEST
DTSTART:20190331T010000
END:DAYLIGHT
BEGIN:STANDARD
TZOFFSETFROM:+0200
TZOFFSETTO:+0100
TZNAME:CET
DTSTART:20191027T010000
END:STANDARD
END:VTIMEZONE
BEGIN:VEVENT
DTSTART;TZID=Europe/Paris:20180331T200000
DTEND;TZID=Europe/Paris:20180331T230000
DTSTAMP:20260424T093602
CREATED:20180329T113827Z
LAST-MODIFIED:20180329T113928Z
UID:2894-1522526400-1522537200@www.addistres.fr
SUMMARY:Concert
DESCRIPTION:Concert à l’église ADD de Marignane du groupe « LOUKAS » à 20h00\, le samedi 31 mars. \nLoukas (« lumière » en grec) est un groupe pop-rock du Sud de la France\, composé du chanteur/claviériste Luc Verdier et du batteur Karim Abdelali. Leur complicité musicale les amène à enregistrer leur premier album « De l’ombre à la lumière ». A la croisée des chemins entre pop-rock anglo-saxonne et rock américain\, Loukas résiste aux standards du genre pour créer sa propre identité et surprend en faisant la part belle aux mélodies entrainantes. Par des textes simples et authentiques chantés en français\, ils expriment leur foi et leurs cheminements de vie au travers de thèmes captivants.
URL:https://www.addistres.fr/event/2894/
LOCATION:ADD Marignane\, 4\, avenue de l'Europe\, Marignane\, 13700\, France
CATEGORIES:Concert,Sortie
ATTACH;FMTTYPE=image/jpeg:https://www.addistres.fr/wp-content/uploads/2018/03/Loukas.jpg
END:VEVENT
END:VCALENDAR