BEGIN:VCALENDAR
VERSION:2.0
PRODID:-//Eglise ADD Istres - ECPv6.15.17//NONSGML v1.0//EN
CALSCALE:GREGORIAN
METHOD:PUBLISH
X-WR-CALNAME:Eglise ADD Istres
X-ORIGINAL-URL:https://www.addistres.fr
X-WR-CALDESC:Évènements pour Eglise ADD Istres
REFRESH-INTERVAL;VALUE=DURATION:PT1H
X-Robots-Tag:noindex
X-PUBLISHED-TTL:PT1H
BEGIN:VTIMEZONE
TZID:Europe/Paris
BEGIN:DAYLIGHT
TZOFFSETFROM:+0100
TZOFFSETTO:+0200
TZNAME:CEST
DTSTART:20170326T010000
END:DAYLIGHT
BEGIN:STANDARD
TZOFFSETFROM:+0200
TZOFFSETTO:+0100
TZNAME:CET
DTSTART:20171029T010000
END:STANDARD
BEGIN:DAYLIGHT
TZOFFSETFROM:+0100
TZOFFSETTO:+0200
TZNAME:CEST
DTSTART:20180325T010000
END:DAYLIGHT
BEGIN:STANDARD
TZOFFSETFROM:+0200
TZOFFSETTO:+0100
TZNAME:CET
DTSTART:20181028T010000
END:STANDARD
BEGIN:DAYLIGHT
TZOFFSETFROM:+0100
TZOFFSETTO:+0200
TZNAME:CEST
DTSTART:20190331T010000
END:DAYLIGHT
BEGIN:STANDARD
TZOFFSETFROM:+0200
TZOFFSETTO:+0100
TZNAME:CET
DTSTART:20191027T010000
END:STANDARD
END:VTIMEZONE
BEGIN:VEVENT
DTSTART;TZID=Europe/Paris:20180304T095000
DTEND;TZID=Europe/Paris:20180304T113000
DTSTAMP:20260422T094825
CREATED:20180306T210309Z
LAST-MODIFIED:20180306T210746Z
UID:2630-1520157000-1520163000@www.addistres.fr
SUMMARY:Culte
DESCRIPTION:Venez célébrer le Roi et adorez le Seigneur. Message apporté par le pasteur Jean-Luc Zolesio pour la journée. \nPouponnière pour les nourrissons jusqu’à 1 an. \nClub des enfants de 1 à 4 ans\, de 5 à 9 ans et de 10 à 12 ans.
URL:https://www.addistres.fr/event/culte-23/
LOCATION:Église FPMA de Marseille\, 258 Bd Romain Rolland\, Marseille\, 13009\, France
CATEGORIES:Culte
ORGANIZER;CN="Assembl%C3%A9e de Dieu d'Istres":MAILTO:addistres@gmail.com
END:VEVENT
BEGIN:VEVENT
DTSTART;TZID=Europe/Paris:20180311T095000
DTEND;TZID=Europe/Paris:20180311T113000
DTSTAMP:20260422T094825
CREATED:20180306T210653Z
LAST-MODIFIED:20180306T210653Z
UID:2632-1520761800-1520767800@www.addistres.fr
SUMMARY:Culte
DESCRIPTION:Culte de louange et d’adoration. Message apporté par le pasteur Joël Prudent. \nPouponnière pour les nourrissons jusqu’à 1 an. \nClub des enfants de 1 à 4 ans\, de 5 à 9 ans et de 10 à 12 ans.
URL:https://www.addistres.fr/event/culte-24/
LOCATION:Église FPMA de Marseille\, 258 Bd Romain Rolland\, Marseille\, 13009\, France
CATEGORIES:Culte
ORGANIZER;CN="Assembl%C3%A9e de Dieu d'Istres":MAILTO:addistres@gmail.com
END:VEVENT
BEGIN:VEVENT
DTSTART;TZID=Europe/Paris:20180318T095000
DTEND;TZID=Europe/Paris:20180318T113000
DTSTAMP:20260422T094825
CREATED:20180306T211022Z
LAST-MODIFIED:20180306T211022Z
UID:2635-1521366600-1521372600@www.addistres.fr
SUMMARY:Culte
DESCRIPTION:Culte de louange et d’adoration. Message apporté par le pasteur Joël Prudent. \nPouponnière pour les nourrissons jusqu’à 1 an. \nClub des enfants de 1 à 4 ans\, de 5 à 9 ans et de 10 à 12 ans.
URL:https://www.addistres.fr/event/culte-25/
LOCATION:Église FPMA de Marseille\, 258 Bd Romain Rolland\, Marseille\, 13009\, France
CATEGORIES:Culte
ORGANIZER;CN="Assembl%C3%A9e de Dieu d'Istres":MAILTO:addistres@gmail.com
END:VEVENT
BEGIN:VEVENT
DTSTART;TZID=Europe/Paris:20180325T095000
DTEND;TZID=Europe/Paris:20180325T113000
DTSTAMP:20260422T094825
CREATED:20180306T211414Z
LAST-MODIFIED:20180306T211414Z
UID:2637-1521971400-1521977400@www.addistres.fr
SUMMARY:Culte
DESCRIPTION:Culte de louange et d’adoration. Message apporté par le pasteur Joël Prudent. \nPouponnière pour les nourrissons jusqu’à 1 an. \nClub des enfants de 1 à 4 ans\, de 5 à 9 ans et de 10 à 12 ans.
URL:https://www.addistres.fr/event/culte-26/
LOCATION:Église FPMA de Marseille\, 258 Bd Romain Rolland\, Marseille\, 13009\, France
CATEGORIES:Culte
ORGANIZER;CN="Assembl%C3%A9e de Dieu d'Istres":MAILTO:addistres@gmail.com
END:VEVENT
END:VCALENDAR