BEGIN:VCALENDAR
VERSION:2.0
PRODID:-//Eglise ADD Istres - ECPv6.15.17//NONSGML v1.0//EN
CALSCALE:GREGORIAN
METHOD:PUBLISH
X-ORIGINAL-URL:https://www.addistres.fr
X-WR-CALDESC:Évènements pour Eglise ADD Istres
REFRESH-INTERVAL;VALUE=DURATION:PT1H
X-Robots-Tag:noindex
X-PUBLISHED-TTL:PT1H
BEGIN:VTIMEZONE
TZID:Europe/Paris
BEGIN:DAYLIGHT
TZOFFSETFROM:+0100
TZOFFSETTO:+0200
TZNAME:CEST
DTSTART:20160327T010000
END:DAYLIGHT
BEGIN:STANDARD
TZOFFSETFROM:+0200
TZOFFSETTO:+0100
TZNAME:CET
DTSTART:20161030T010000
END:STANDARD
BEGIN:DAYLIGHT
TZOFFSETFROM:+0100
TZOFFSETTO:+0200
TZNAME:CEST
DTSTART:20170326T010000
END:DAYLIGHT
BEGIN:STANDARD
TZOFFSETFROM:+0200
TZOFFSETTO:+0100
TZNAME:CET
DTSTART:20171029T010000
END:STANDARD
BEGIN:DAYLIGHT
TZOFFSETFROM:+0100
TZOFFSETTO:+0200
TZNAME:CEST
DTSTART:20180325T010000
END:DAYLIGHT
BEGIN:STANDARD
TZOFFSETFROM:+0200
TZOFFSETTO:+0100
TZNAME:CET
DTSTART:20181028T010000
END:STANDARD
END:VTIMEZONE
BEGIN:VEVENT
DTSTART;TZID=Europe/Paris:20171105T095000
DTEND;TZID=Europe/Paris:20171105T113000
DTSTAMP:20260420T125306
CREATED:20170903T140053Z
LAST-MODIFIED:20171028T195714Z
UID:2070-1509875400-1509881400@www.addistres.fr
SUMMARY:Culte
DESCRIPTION:Venez célébrer le Roi et adorez le Seigneur. \nMessage apporté par le pasteur Laurent Boschi de l’église de Marignane. Il est aussi le secrétaire général des ADD de France et membre du Bureau de l’Action Missionnaire. \nGarderie pour les enfants de 0 à 5 ans. \nClub des enfants de 6 à 12 ans.
URL:https://www.addistres.fr/event/culte-8/
LOCATION:Église FPMA de Marseille\, 258 Bd Romain Rolland\, Marseille\, 13009\, France
CATEGORIES:Culte
ORGANIZER;CN="Assembl%C3%A9e de Dieu d'Istres":MAILTO:addistres@gmail.com
END:VEVENT
BEGIN:VEVENT
DTSTART;TZID=Europe/Paris:20171119T095000
DTEND;TZID=Europe/Paris:20171119T113000
DTSTAMP:20260420T125306
CREATED:20170916T095342Z
LAST-MODIFIED:20171028T195347Z
UID:2093-1511085000-1511091000@www.addistres.fr
SUMMARY:Culte
DESCRIPTION:Venez célébrer le Roi et adorez le Seigneur. Message apporté par le pasteur Joël Prudent. \nGarderie pour les enfants de 0 à 5 ans. \nClub des enfants de 6 à 12 ans.
URL:https://www.addistres.fr/event/culte/
LOCATION:Église FPMA de Marseille\, 258 Bd Romain Rolland\, Marseille\, 13009\, France
CATEGORIES:Culte,Louange,Prière
ORGANIZER;CN="Assembl%C3%A9e de Dieu d'Istres":MAILTO:addistres@gmail.com
END:VEVENT
END:VCALENDAR