BEGIN:VCALENDAR
VERSION:2.0
PRODID:-//Eglise ADD Istres - ECPv6.15.17//NONSGML v1.0//EN
CALSCALE:GREGORIAN
METHOD:PUBLISH
X-WR-CALNAME:Eglise ADD Istres
X-ORIGINAL-URL:https://www.addistres.fr
X-WR-CALDESC:Évènements pour Eglise ADD Istres
REFRESH-INTERVAL;VALUE=DURATION:PT1H
X-Robots-Tag:noindex
X-PUBLISHED-TTL:PT1H
BEGIN:VTIMEZONE
TZID:Europe/Paris
BEGIN:DAYLIGHT
TZOFFSETFROM:+0100
TZOFFSETTO:+0200
TZNAME:CEST
DTSTART:20160327T010000
END:DAYLIGHT
BEGIN:STANDARD
TZOFFSETFROM:+0200
TZOFFSETTO:+0100
TZNAME:CET
DTSTART:20161030T010000
END:STANDARD
BEGIN:DAYLIGHT
TZOFFSETFROM:+0100
TZOFFSETTO:+0200
TZNAME:CEST
DTSTART:20170326T010000
END:DAYLIGHT
BEGIN:STANDARD
TZOFFSETFROM:+0200
TZOFFSETTO:+0100
TZNAME:CET
DTSTART:20171029T010000
END:STANDARD
BEGIN:DAYLIGHT
TZOFFSETFROM:+0100
TZOFFSETTO:+0200
TZNAME:CEST
DTSTART:20180325T010000
END:DAYLIGHT
BEGIN:STANDARD
TZOFFSETFROM:+0200
TZOFFSETTO:+0100
TZNAME:CET
DTSTART:20181028T010000
END:STANDARD
END:VTIMEZONE
BEGIN:VEVENT
DTSTART;VALUE=DATE:20171026
DTEND;VALUE=DATE:20171027
DTSTAMP:20260422T234842
CREATED:20171002T223824Z
LAST-MODIFIED:20171014T220738Z
UID:2249-1508976000-1509062399@www.addistres.fr
SUMMARY:Sortie des aînés
DESCRIPTION:L’église d’Istres organise le jeudi 26 octobre une sortie pour les aînés. \nDans un premier temps\, une visite est organisée à la savonnerie Marius Fabre de Salon-de-Provence. Puis\, le repas sera pris en commun dans un restaurant gastronomique (à définir). \nLe prix par personne est fixé à 14€ par personne pour toute la journée. \n  \nLes inscriptions se feront auprès de Joseph Guillot et de Joël Prudent à partir du 8 octobre.
URL:https://www.addistres.fr/event/sortie-des-aines/
LOCATION:Savonnerie de Salon de Provence\, 148\, avenue Paul Bourret\, Salon-de-Provence\, Bouches-du-Rhône\, 13300\, France
CATEGORIES:Aînés,Sortie
ORGANIZER;CN="Assembl%C3%A9e de Dieu d'Istres":MAILTO:addistres@gmail.com
END:VEVENT
END:VCALENDAR