BEGIN:VCALENDAR
VERSION:2.0
PRODID:-//Eglise ADD Istres - ECPv6.15.17//NONSGML v1.0//EN
CALSCALE:GREGORIAN
METHOD:PUBLISH
X-ORIGINAL-URL:https://www.addistres.fr
X-WR-CALDESC:Évènements pour Eglise ADD Istres
REFRESH-INTERVAL;VALUE=DURATION:PT1H
X-Robots-Tag:noindex
X-PUBLISHED-TTL:PT1H
BEGIN:VTIMEZONE
TZID:Europe/Paris
BEGIN:DAYLIGHT
TZOFFSETFROM:+0100
TZOFFSETTO:+0200
TZNAME:CEST
DTSTART:20170326T010000
END:DAYLIGHT
BEGIN:STANDARD
TZOFFSETFROM:+0200
TZOFFSETTO:+0100
TZNAME:CET
DTSTART:20171029T010000
END:STANDARD
BEGIN:DAYLIGHT
TZOFFSETFROM:+0100
TZOFFSETTO:+0200
TZNAME:CEST
DTSTART:20180325T010000
END:DAYLIGHT
BEGIN:STANDARD
TZOFFSETFROM:+0200
TZOFFSETTO:+0100
TZNAME:CET
DTSTART:20181028T010000
END:STANDARD
BEGIN:DAYLIGHT
TZOFFSETFROM:+0100
TZOFFSETTO:+0200
TZNAME:CEST
DTSTART:20190331T010000
END:DAYLIGHT
BEGIN:STANDARD
TZOFFSETFROM:+0200
TZOFFSETTO:+0100
TZNAME:CET
DTSTART:20191027T010000
END:STANDARD
END:VTIMEZONE
BEGIN:VEVENT
DTSTART;TZID=Europe/Paris:20180322T143000
DTEND;TZID=Europe/Paris:20180322T173000
DTSTAMP:20260422T132507
CREATED:20180307T003351Z
LAST-MODIFIED:20180314T001556Z
UID:2686-1521729000-1521739800@www.addistres.fr
SUMMARY:Rencontre régionale des aînés
DESCRIPTION:Rencontre régionale des aînés ADD Ouest Provence avec le pasteur Jean Verdier. \nRendez-vous donné à 14h30 au restaurant le Madinina à Istres pour un moment de partage autour de la bible. Puis un temps ludique sera proposé autour de jeux et d’un goûter. \n  \nUne participation de 7€ par personne sera demandée. Inscriptions auprès d’Emmanuel Casano.
URL:https://www.addistres.fr/event/rencontre-regionale-des-aines/
LOCATION:Restaurant le Madinina\, 11\, avenue du tubé\, Istres\, 13800\, France
CATEGORIES:Aînés
ATTACH;FMTTYPE=image/jpeg:https://www.addistres.fr/wp-content/uploads/2018/03/Rencontre-Régionale-des-Aînés-22-mars.jpg
ORGANIZER;CN="Assembl%C3%A9e de Dieu d'Istres":MAILTO:addistres@gmail.com
END:VEVENT
BEGIN:VEVENT
DTSTART;TZID=Europe/Paris:20180324T090000
DTEND;TZID=Europe/Paris:20180324T150000
DTSTAMP:20260422T132507
CREATED:20180309T144640Z
LAST-MODIFIED:20180314T001518Z
UID:2715-1521882000-1521903600@www.addistres.fr
SUMMARY:Sortie Randonnée-Evasion
DESCRIPTION:Le samedi 24 mars est organisé une sortie randonnée à Notre -Dame d’Astors\, près de Peyrolles. \nCette sortie facile de 9\,5 kms\, a un dénivelé de 160m et durera environ 2h30. L’occasion pour les randonneurs de découvrir de nouveaux paysages et de se découvrir les uns et les autres. \nCo-voiturage organisé selon les disponibilités. Repas tiré des sacs. \nInscriptions auprès de René et Francis.
URL:https://www.addistres.fr/event/sortie-randonnee-evasion/
LOCATION:Notre dame D’astors\, Notre-Dame d'Astors\, Peyrolles-en-provence\, Bouches-du-Rhône\, 13\, France
CATEGORIES:Randonnée
ATTACH;FMTTYPE=image/jpeg:https://www.addistres.fr/wp-content/uploads/2018/03/Sortie-Rando-Evasion-24-mars.jpg
ORGANIZER;CN="Assembl%C3%A9e de Dieu d'Istres":MAILTO:addistres@gmail.com
END:VEVENT
END:VCALENDAR