BEGIN:VCALENDAR
VERSION:2.0
PRODID:-//Eglise ADD Istres - ECPv6.15.17//NONSGML v1.0//EN
CALSCALE:GREGORIAN
METHOD:PUBLISH
X-WR-CALNAME:Eglise ADD Istres
X-ORIGINAL-URL:https://www.addistres.fr
X-WR-CALDESC:Évènements pour Eglise ADD Istres
REFRESH-INTERVAL;VALUE=DURATION:PT1H
X-Robots-Tag:noindex
X-PUBLISHED-TTL:PT1H
BEGIN:VTIMEZONE
TZID:Europe/Paris
BEGIN:DAYLIGHT
TZOFFSETFROM:+0100
TZOFFSETTO:+0200
TZNAME:CEST
DTSTART:20160327T010000
END:DAYLIGHT
BEGIN:STANDARD
TZOFFSETFROM:+0200
TZOFFSETTO:+0100
TZNAME:CET
DTSTART:20161030T010000
END:STANDARD
BEGIN:DAYLIGHT
TZOFFSETFROM:+0100
TZOFFSETTO:+0200
TZNAME:CEST
DTSTART:20170326T010000
END:DAYLIGHT
BEGIN:STANDARD
TZOFFSETFROM:+0200
TZOFFSETTO:+0100
TZNAME:CET
DTSTART:20171029T010000
END:STANDARD
BEGIN:DAYLIGHT
TZOFFSETFROM:+0100
TZOFFSETTO:+0200
TZNAME:CEST
DTSTART:20180325T010000
END:DAYLIGHT
BEGIN:STANDARD
TZOFFSETFROM:+0200
TZOFFSETTO:+0100
TZNAME:CET
DTSTART:20181028T010000
END:STANDARD
BEGIN:DAYLIGHT
TZOFFSETFROM:+0100
TZOFFSETTO:+0200
TZNAME:CEST
DTSTART:20190331T010000
END:DAYLIGHT
BEGIN:STANDARD
TZOFFSETFROM:+0200
TZOFFSETTO:+0100
TZNAME:CET
DTSTART:20191027T010000
END:STANDARD
END:VTIMEZONE
BEGIN:VEVENT
DTSTART;TZID=Europe/Paris:20171201T080000
DTEND;TZID=Europe/Paris:20171201T170000
DTSTAMP:20260420T220734
CREATED:20171201T181505Z
LAST-MODIFIED:20180309T140223Z
UID:2414-1512115200-1512147600@www.addistres.fr
SUMMARY:Stand biblique
DESCRIPTION:Tous les mardis matin\, pendant le marché d’Istres\, une équipe de chrétiens tient le stand biblique de l’église afin d’échanger autour de la parole\, d’offrir une bible ou de témoigner de la vie de Jésus-Christ.
URL:https://www.addistres.fr/event/stand-biblique-11/
LOCATION:Add Istres\, Impasse du Rouquier\, Istres\, Bouches-du-Rhône\, 13800\, France
CATEGORIES:Evangélisation,Stand Biblique
ORGANIZER;CN="Assembl%C3%A9e de Dieu d'Istres":MAILTO:addistres@gmail.com
END:VEVENT
BEGIN:VEVENT
DTSTART;TZID=Europe/Paris:20171201T190000
DTEND;TZID=Europe/Paris:20171201T203000
DTSTAMP:20260420T220734
CREATED:20171201T175642Z
LAST-MODIFIED:20171201T175642Z
UID:2393-1512154800-1512160200@www.addistres.fr
SUMMARY:Réunion d'évangélisation
DESCRIPTION:Chaque vendredi à 19h00 le pasteur Joël Prudent parle librement de la bible et de la vie de Jésus-Christ notre Sauveur.
URL:https://www.addistres.fr/event/reunion-devangelisation-11/
LOCATION:Église FPMA de Marseille\, 258 Bd Romain Rolland\, Marseille\, 13009\, France
CATEGORIES:Evangélisation
ORGANIZER;CN="Assembl%C3%A9e de Dieu d'Istres":MAILTO:addistres@gmail.com
END:VEVENT
BEGIN:VEVENT
DTSTART;TZID=Europe/Paris:20171203T100000
DTEND;TZID=Europe/Paris:20171203T113000
DTSTAMP:20260420T220734
CREATED:20171201T182304Z
LAST-MODIFIED:20171202T210714Z
UID:2422-1512295200-1512300600@www.addistres.fr
SUMMARY:Culte
DESCRIPTION:Venez célébrer le Roi et adorez le Seigneur. Message apporté par le pasteur Jean Verdier de l’église de Marseille Kléber. \nGarderie pour les enfants de 0 à 5 ans. \nClub des enfants de 6 à 12 ans.
URL:https://www.addistres.fr/event/culte-10/
LOCATION:Église FPMA de Marseille\, 258 Bd Romain Rolland\, Marseille\, 13009\, France
CATEGORIES:Culte
ORGANIZER;CN="Assembl%C3%A9e de Dieu d'Istres":MAILTO:addistres@gmail.com
END:VEVENT
BEGIN:VEVENT
DTSTART;TZID=Europe/Paris:20171203T153000
DTEND;TZID=Europe/Paris:20171203T163000
DTSTAMP:20260420T220734
CREATED:20171201T182438Z
LAST-MODIFIED:20171202T211848Z
UID:2424-1512315000-1512318600@www.addistres.fr
SUMMARY:Réunion d'évangélisation
DESCRIPTION:Réunion d’évangélisation le dimanche 3 décembre à 15h30 à l’église. Amenez vos amis et votre famille afin de leur faire écouter le message de l’évangile\, apporté par le pasteur Jean Verdier\, de l’église de Marseille Kléber.
URL:https://www.addistres.fr/event/reunion-devangelisation-16/
LOCATION:Église FPMA de Marseille\, 258 Bd Romain Rolland\, Marseille\, 13009\, France
CATEGORIES:Evangélisation
ORGANIZER;CN="Assembl%C3%A9e de Dieu d'Istres":MAILTO:addistres@gmail.com
END:VEVENT
BEGIN:VEVENT
DTSTART;TZID=Europe/Paris:20171205T090000
DTEND;TZID=Europe/Paris:20171205T120000
DTSTAMP:20260420T220734
CREATED:20171201T181358Z
LAST-MODIFIED:20180309T140230Z
UID:2412-1512464400-1512475200@www.addistres.fr
SUMMARY:Stand biblique
DESCRIPTION:Tous les mardis matin\, pendant le marché d’Istres\, une équipe de chrétiens tient le stand biblique de l’église afin d’échanger autour de la parole\, d’offrir une bible ou de témoigner de la vie de Jésus-Christ.
URL:https://www.addistres.fr/event/stand-biblique-10/
LOCATION:Add Istres\, Impasse du Rouquier\, Istres\, Bouches-du-Rhône\, 13800\, France
CATEGORIES:Evangélisation,Stand Biblique
ORGANIZER;CN="Assembl%C3%A9e de Dieu d'Istres":MAILTO:addistres@gmail.com
END:VEVENT
BEGIN:VEVENT
DTSTART;TZID=Europe/Paris:20171205T190000
DTEND;TZID=Europe/Paris:20171205T203000
DTSTAMP:20260420T220734
CREATED:20171201T180453Z
LAST-MODIFIED:20171201T180453Z
UID:2404-1512500400-1512505800@www.addistres.fr
SUMMARY:Réunion de prières
DESCRIPTION:Tous les mardis à 19h00\, les chrétiens se réunissent dans la prière et l’intercession. Une étude biblique est ensuite apportée afin d’édifier le peuple de Dieu.
URL:https://www.addistres.fr/event/reunion-de-prieres-9/
LOCATION:Église FPMA de Marseille\, 258 Bd Romain Rolland\, Marseille\, 13009\, France
CATEGORIES:Prière
ORGANIZER;CN="Assembl%C3%A9e de Dieu d'Istres":MAILTO:addistres@gmail.com
END:VEVENT
BEGIN:VEVENT
DTSTART;TZID=Europe/Paris:20171208T190000
DTEND;TZID=Europe/Paris:20171208T203000
DTSTAMP:20260420T220734
CREATED:20171201T175905Z
LAST-MODIFIED:20171201T175905Z
UID:2395-1512759600-1512765000@www.addistres.fr
SUMMARY:Réunion d'évangélisation
DESCRIPTION:Chaque vendredi à 19h00 le pasteur Joël Prudent parle librement de la bible et de la vie de Jésus-Christ notre Sauveur.
URL:https://www.addistres.fr/event/reunion-devangelisation-12/
LOCATION:Église FPMA de Marseille\, 258 Bd Romain Rolland\, Marseille\, 13009\, France
CATEGORIES:Evangélisation
ORGANIZER;CN="Assembl%C3%A9e de Dieu d'Istres":MAILTO:addistres@gmail.com
END:VEVENT
BEGIN:VEVENT
DTSTART;TZID=Europe/Paris:20171209T120000
DTEND;TZID=Europe/Paris:20171209T150000
DTSTAMP:20260420T220734
CREATED:20171202T222636Z
LAST-MODIFIED:20171202T222636Z
UID:2444-1512820800-1512831600@www.addistres.fr
SUMMARY:Rencontre de femmes
DESCRIPTION:Le samedi 9 décembre à midi\, les femmes de l’église se rencontreront au restaurant « le Madinina » à Istres\, afin de partager un moment de détente. \nFin des inscriptions\, dimanche midi sur le tableau d’affichage de l’église.
URL:https://www.addistres.fr/event/rencontre-de-femmes/
LOCATION:Restaurant le Madinina\, 11\, avenue du tubé\, Istres\, 13800\, France
CATEGORIES:Femmes
ORGANIZER;CN="Assembl%C3%A9e de Dieu d'Istres":MAILTO:addistres@gmail.com
END:VEVENT
BEGIN:VEVENT
DTSTART;TZID=Europe/Paris:20171209T173000
DTEND;TZID=Europe/Paris:20171209T190000
DTSTAMP:20260420T220734
CREATED:20171202T221439Z
LAST-MODIFIED:20171202T221439Z
UID:2441-1512840600-1512846000@www.addistres.fr
SUMMARY:Réunion de jeunesse
DESCRIPTION:Le 9 décembre\, les jeunes de l’église se réuniront afin de passer un moment agréable autour de la parole de Dieu. Ce sera aussi l’occasion pour eux de mieux se connaître et ainsi créer des liens fraternels et d’amitiés. \nL’horaire et les détails seront transmis ultérieurement par SMS directement aux jeunes.
URL:https://www.addistres.fr/event/reunion-de-jeunesse-2/
LOCATION:Église FPMA de Marseille\, 258 Bd Romain Rolland\, Marseille\, 13009\, France
CATEGORIES:Evangélisation,Jeunesse,Réunion
ORGANIZER;CN="Assembl%C3%A9e de Dieu d'Istres":MAILTO:addistres@gmail.com
END:VEVENT
BEGIN:VEVENT
DTSTART;TZID=Europe/Paris:20171210T100000
DTEND;TZID=Europe/Paris:20171210T113000
DTSTAMP:20260420T220734
CREATED:20171202T193518Z
LAST-MODIFIED:20171202T193518Z
UID:2426-1512900000-1512905400@www.addistres.fr
SUMMARY:Culte
DESCRIPTION:Venez célébrer le Roi et adorez le Seigneur. Message apporté par le pasteur Joël Prudent. \nGarderie pour les enfants de 0 à 5 ans. \nClub des enfants de 6 à 12 ans.
URL:https://www.addistres.fr/event/culte-11/
LOCATION:Église FPMA de Marseille\, 258 Bd Romain Rolland\, Marseille\, 13009\, France
CATEGORIES:Culte,Louange
ORGANIZER;CN="Assembl%C3%A9e de Dieu d'Istres":MAILTO:addistres@gmail.com
END:VEVENT
BEGIN:VEVENT
DTSTART;TZID=Europe/Paris:20171210T144500
DTEND;TZID=Europe/Paris:20171210T163000
DTSTAMP:20260420T220734
CREATED:20171202T203414Z
LAST-MODIFIED:20171202T203414Z
UID:2428-1512917100-1512923400@www.addistres.fr
SUMMARY:Evangélisation de rue
DESCRIPTION:Le 10 décembre\, par groupe de 2 ou 3 personnes\, les chrétiens de l’église se promènent dans les rues d’Istres afin de témoigner aux passants de l’amour du Christ. Témoignages\, évangélisation\, prières et dons de bibles sont au programme. Le groupe essen’ciel participera. \nLe rendez-vous est fixé à 14h45 à l’église. \nPuis après un temps de préparation et de prières\, départ des équipes de 15h00 à 16h00. \nRetour à l’église pour un debriefing qui clôturera l’après-midi.
URL:https://www.addistres.fr/event/evangelisation-de-rue-3/
LOCATION:Add Istres\, Impasse du Rouquier\, Istres\, Bouches-du-Rhône\, 13800\, France
CATEGORIES:Evangélisation
ORGANIZER;CN="Assembl%C3%A9e de Dieu d'Istres":MAILTO:addistres@gmail.com
END:VEVENT
BEGIN:VEVENT
DTSTART;TZID=Europe/Paris:20171212T090000
DTEND;TZID=Europe/Paris:20171212T120000
DTSTAMP:20260420T220734
CREATED:20171201T181958Z
LAST-MODIFIED:20180309T140236Z
UID:2420-1513069200-1513080000@www.addistres.fr
SUMMARY:Stand biblique
DESCRIPTION:Tous les mardis matin\, pendant le marché d’Istres\, une équipe de chrétiens tient le stand biblique de l’église afin d’échanger autour de la parole\, d’offrir une bible ou de témoigner de la vie de Jésus-Christ.
URL:https://www.addistres.fr/event/stand-biblique-14/
LOCATION:Add Istres\, Impasse du Rouquier\, Istres\, Bouches-du-Rhône\, 13800\, France
CATEGORIES:Evangélisation,Stand Biblique
ORGANIZER;CN="Assembl%C3%A9e de Dieu d'Istres":MAILTO:addistres@gmail.com
END:VEVENT
BEGIN:VEVENT
DTSTART;TZID=Europe/Paris:20171212T190000
DTEND;TZID=Europe/Paris:20171212T203000
DTSTAMP:20260420T220734
CREATED:20171201T180711Z
LAST-MODIFIED:20180314T002759Z
UID:2406-1513105200-1513110600@www.addistres.fr
SUMMARY:Réunion de prières
DESCRIPTION:Tous les mardis à 19h00\, les chrétiens se réunissent dans la prière et l’intercession. Une étude biblique est ensuite apportée afin d’édifier le peuple de Dieu.
URL:https://www.addistres.fr/event/reunion-de-prieres-10/
LOCATION:Église FPMA de Marseille\, 258 Bd Romain Rolland\, Marseille\, 13009\, France
CATEGORIES:Prière
ORGANIZER;CN="Assembl%C3%A9e de Dieu d'Istres":MAILTO:addistres@gmail.com
END:VEVENT
BEGIN:VEVENT
DTSTART;TZID=Europe/Paris:20171214T090000
DTEND;TZID=Europe/Paris:20171214T100000
DTSTAMP:20260420T220734
CREATED:20171202T223119Z
LAST-MODIFIED:20180314T002733Z
UID:2449-1513242000-1513245600@www.addistres.fr
SUMMARY:Réunion de femmes
DESCRIPTION:Le jeudi 14 décembre de 9h à 10h et de 18h30 à 19h30\, réunion de prières réservée aux femmes.
URL:https://www.addistres.fr/event/reunion-de-femmes-4/
LOCATION:Église FPMA de Marseille\, 258 Bd Romain Rolland\, Marseille\, 13009\, France
CATEGORIES:Femmes
ORGANIZER;CN="Assembl%C3%A9e de Dieu d'Istres":MAILTO:addistres@gmail.com
END:VEVENT
BEGIN:VEVENT
DTSTART;TZID=Europe/Paris:20171214T183000
DTEND;TZID=Europe/Paris:20171214T193000
DTSTAMP:20260420T220734
CREATED:20171202T223322Z
LAST-MODIFIED:20171202T223322Z
UID:2451-1513276200-1513279800@www.addistres.fr
SUMMARY:Réunion de femmes
DESCRIPTION:Le jeudi 14 décembre de 9h à 10h et de 18h30 à 19h30\, réunion de prières réservée aux femmes.
URL:https://www.addistres.fr/event/reunion-de-femmes-5/
LOCATION:Église FPMA de Marseille\, 258 Bd Romain Rolland\, Marseille\, 13009\, France
CATEGORIES:Femmes,Prière
ORGANIZER;CN="Assembl%C3%A9e de Dieu d'Istres":MAILTO:addistres@gmail.com
END:VEVENT
BEGIN:VEVENT
DTSTART;TZID=Europe/Paris:20171215T190000
DTEND;TZID=Europe/Paris:20171215T203000
DTSTAMP:20260420T220734
CREATED:20171201T180029Z
LAST-MODIFIED:20171201T180029Z
UID:2397-1513364400-1513369800@www.addistres.fr
SUMMARY:Réunion d'évangélisation
DESCRIPTION:Chaque vendredi à 19h00 le pasteur Joël Prudent parle librement de la bible et de la vie de Jésus-Christ notre Sauveur.
URL:https://www.addistres.fr/event/reunion-devangelisation-13/
LOCATION:Église FPMA de Marseille\, 258 Bd Romain Rolland\, Marseille\, 13009\, France
CATEGORIES:Evangélisation
ORGANIZER;CN="Assembl%C3%A9e de Dieu d'Istres":MAILTO:addistres@gmail.com
END:VEVENT
BEGIN:VEVENT
DTSTART;TZID=Europe/Paris:20171216T173000
DTEND;TZID=Europe/Paris:20171216T190000
DTSTAMP:20260420T220734
CREATED:20171202T225635Z
LAST-MODIFIED:20180314T002657Z
UID:2456-1513445400-1513450800@www.addistres.fr
SUMMARY:Réunion de jeunesse
DESCRIPTION:Le 16 décembre\, les jeunes de l’église se réuniront afin de passer un moment agréable autour de la parole de Dieu. Ce sera aussi l’occasion pour eux de mieux se connaître et ainsi créer des liens fraternels et d’amitiés.
URL:https://www.addistres.fr/event/reunion-de-jeunesse-4/
LOCATION:Église FPMA de Marseille\, 258 Bd Romain Rolland\, Marseille\, 13009\, France
CATEGORIES:Jeunesse
ORGANIZER;CN="Assembl%C3%A9e de Dieu d'Istres":MAILTO:addistres@gmail.com
END:VEVENT
BEGIN:VEVENT
DTSTART;TZID=Europe/Paris:20171217T100000
DTEND;TZID=Europe/Paris:20171217T113000
DTSTAMP:20260420T220734
CREATED:20171202T203826Z
LAST-MODIFIED:20180314T002639Z
UID:2430-1513504800-1513510200@www.addistres.fr
SUMMARY:Culte de Noël
DESCRIPTION:Le culte de ce dimanche sera placé sous le signe de la famille. Il sera animé par les enfants du club du dimanche avec des chants de Noël\, ainsi que le groupe d’ados de l’église. \nLe pasteur Joël Prudent apportera ensuite un message d’amour de notre Seigneur Jésus-Christ.
URL:https://www.addistres.fr/event/culte-12/
LOCATION:Église FPMA de Marseille\, 258 Bd Romain Rolland\, Marseille\, 13009\, France
CATEGORIES:Culte
ORGANIZER;CN="Assembl%C3%A9e de Dieu d'Istres":MAILTO:addistres@gmail.com
END:VEVENT
BEGIN:VEVENT
DTSTART;TZID=Europe/Paris:20171217T120000
DTEND;TZID=Europe/Paris:20171217T150000
DTSTAMP:20260420T220734
CREATED:20171202T204043Z
LAST-MODIFIED:20171202T204043Z
UID:2432-1513512000-1513522800@www.addistres.fr
SUMMARY:Agape
DESCRIPTION:Dans l’église primitive\, l’agape était un repas fraternel pris en commun entre amis chrétiens. A chacun de nous donc\, de ramener un plat salé ou sucré et une boisson . \nNous partagerons ce repas entre amis et frères et sœurs dans l’église\, vers midi\, juste après le culte. La seule participation demandée sera votre présence ainsi qu’un petit coup de main à placer et ranger les tables.
URL:https://www.addistres.fr/event/agape-3/
LOCATION:Église FPMA de Marseille\, 258 Bd Romain Rolland\, Marseille\, 13009\, France
CATEGORIES:Agape
ORGANIZER;CN="Assembl%C3%A9e de Dieu d'Istres":MAILTO:addistres@gmail.com
END:VEVENT
BEGIN:VEVENT
DTSTART;TZID=Europe/Paris:20171219T090000
DTEND;TZID=Europe/Paris:20171219T120000
DTSTAMP:20260420T220734
CREATED:20171201T181712Z
LAST-MODIFIED:20180314T002626Z
UID:2416-1513674000-1513684800@www.addistres.fr
SUMMARY:Stand biblique
DESCRIPTION:Tous les mardis matin\, pendant le marché d’Istres\, une équipe de chrétiens tient le stand biblique de l’église afin d’échanger autour de la parole\, d’offrir une bible ou de témoigner de la vie de Jésus-Christ.
URL:https://www.addistres.fr/event/stand-biblique-12/
LOCATION:Add Istres\, Impasse du Rouquier\, Istres\, Bouches-du-Rhône\, 13800\, France
CATEGORIES:Stand Biblique
ORGANIZER;CN="Assembl%C3%A9e de Dieu d'Istres":MAILTO:addistres@gmail.com
END:VEVENT
BEGIN:VEVENT
DTSTART;TZID=Europe/Paris:20171219T190000
DTEND;TZID=Europe/Paris:20171219T203000
DTSTAMP:20260420T220734
CREATED:20171201T180842Z
LAST-MODIFIED:20180314T002617Z
UID:2408-1513710000-1513715400@www.addistres.fr
SUMMARY:Réunion de prières
DESCRIPTION:Tous les mardis à 19h00\, les chrétiens se réunissent dans la prière et l’intercession. Une étude biblique est ensuite apportée afin d’édifier le peuple de Dieu.
URL:https://www.addistres.fr/event/reunion-de-prieres-11/
LOCATION:Église FPMA de Marseille\, 258 Bd Romain Rolland\, Marseille\, 13009\, France
CATEGORIES:Prière
ORGANIZER;CN="Assembl%C3%A9e de Dieu d'Istres":MAILTO:addistres@gmail.com
END:VEVENT
BEGIN:VEVENT
DTSTART;TZID=Europe/Paris:20171222T190000
DTEND;TZID=Europe/Paris:20171222T203000
DTSTAMP:20260420T220734
CREATED:20171201T180135Z
LAST-MODIFIED:20171201T180135Z
UID:2399-1513969200-1513974600@www.addistres.fr
SUMMARY:Réunion d'évangélisation
DESCRIPTION:Chaque vendredi à 19h00 le pasteur Joël Prudent parle librement de la bible et de la vie de Jésus-Christ notre Sauveur.
URL:https://www.addistres.fr/event/reunion-devangelisation-14/
LOCATION:Église FPMA de Marseille\, 258 Bd Romain Rolland\, Marseille\, 13009\, France
CATEGORIES:Evangélisation
ORGANIZER;CN="Assembl%C3%A9e de Dieu d'Istres":MAILTO:addistres@gmail.com
END:VEVENT
BEGIN:VEVENT
DTSTART;TZID=Europe/Paris:20171224T100000
DTEND;TZID=Europe/Paris:20171224T113000
DTSTAMP:20260420T220734
CREATED:20171202T204224Z
LAST-MODIFIED:20180314T002555Z
UID:2434-1514109600-1514115000@www.addistres.fr
SUMMARY:Culte
DESCRIPTION:Venez célébrer le Roi et adorez le Seigneur. Message apporté par Sylvain Lévy. \nGarderie pour les enfants de 0 à 5 ans. \nClub des enfants de 6 à 12 ans.
URL:https://www.addistres.fr/event/culte-13/
LOCATION:Église FPMA de Marseille\, 258 Bd Romain Rolland\, Marseille\, 13009\, France
CATEGORIES:Culte
ORGANIZER;CN="Assembl%C3%A9e de Dieu d'Istres":MAILTO:addistres@gmail.com
END:VEVENT
BEGIN:VEVENT
DTSTART;TZID=Europe/Paris:20171229T190000
DTEND;TZID=Europe/Paris:20171229T203000
DTSTAMP:20260420T220734
CREATED:20171201T180306Z
LAST-MODIFIED:20171201T180306Z
UID:2401-1514574000-1514579400@www.addistres.fr
SUMMARY:Réunion d'évangélisation
DESCRIPTION:Chaque vendredi à 19h00 le pasteur Joël Prudent parle librement de la bible et de la vie de Jésus-Christ notre Sauveur.
URL:https://www.addistres.fr/event/reunion-devangelisation-15/
LOCATION:Église FPMA de Marseille\, 258 Bd Romain Rolland\, Marseille\, 13009\, France
CATEGORIES:Evangélisation
ORGANIZER;CN="Assembl%C3%A9e de Dieu d'Istres":MAILTO:addistres@gmail.com
END:VEVENT
BEGIN:VEVENT
DTSTART;TZID=Europe/Paris:20171231T100000
DTEND;TZID=Europe/Paris:20171231T113000
DTSTAMP:20260420T220734
CREATED:20171202T204330Z
LAST-MODIFIED:20180314T002544Z
UID:2436-1514714400-1514719800@www.addistres.fr
SUMMARY:Culte
DESCRIPTION:Venez célébrer le Roi et adorez le Seigneur. Message apporté par le pasteur Joël Prudent. \nGarderie pour les enfants de 0 à 5 ans. \nClub des enfants de 6 à 12 ans.
URL:https://www.addistres.fr/event/culte-14/
LOCATION:Église FPMA de Marseille\, 258 Bd Romain Rolland\, Marseille\, 13009\, France
CATEGORIES:Culte
ORGANIZER;CN="Assembl%C3%A9e de Dieu d'Istres":MAILTO:addistres@gmail.com
END:VEVENT
BEGIN:VEVENT
DTSTART;TZID=Europe/Paris:20171231T200000
DTEND;TZID=Europe/Paris:20180101T020000
DTSTAMP:20260420T220734
CREATED:20171202T234819Z
LAST-MODIFIED:20180314T002534Z
UID:2459-1514750400-1514772000@www.addistres.fr
SUMMARY:Réveillon de la St Sylvestre
DESCRIPTION:Le soir du 31 décembre 2017\, l’église se rassemble afin de passer les dernières heures de 2107 et les premières de 2018. \nAu programme\, un moment de partage autour de la bible\, des chants\, des poèmes\, des jeux et surtout un repas fraternel. Chacun aura soin d’apporter des mets délicats sucrés et salés et une boisson alcoolisée ou non. \nUn agréable moment sous le regard de notre Seigneur.
URL:https://www.addistres.fr/event/reveillon-de-la-st-sylvestre/
LOCATION:Église FPMA de Marseille\, 258 Bd Romain Rolland\, Marseille\, 13009\, France
CATEGORIES:Réunion
ORGANIZER;CN="Assembl%C3%A9e de Dieu d'Istres":MAILTO:addistres@gmail.com
END:VEVENT
END:VCALENDAR