BEGIN:VCALENDAR
VERSION:2.0
PRODID:-//Eglise ADD Istres - ECPv6.15.17//NONSGML v1.0//EN
CALSCALE:GREGORIAN
METHOD:PUBLISH
X-WR-CALNAME:Eglise ADD Istres
X-ORIGINAL-URL:https://www.addistres.fr
X-WR-CALDESC:Évènements pour Eglise ADD Istres
REFRESH-INTERVAL;VALUE=DURATION:PT1H
X-Robots-Tag:noindex
X-PUBLISHED-TTL:PT1H
BEGIN:VTIMEZONE
TZID:Europe/Paris
BEGIN:DAYLIGHT
TZOFFSETFROM:+0100
TZOFFSETTO:+0200
TZNAME:CEST
DTSTART:20170326T010000
END:DAYLIGHT
BEGIN:STANDARD
TZOFFSETFROM:+0200
TZOFFSETTO:+0100
TZNAME:CET
DTSTART:20171029T010000
END:STANDARD
BEGIN:DAYLIGHT
TZOFFSETFROM:+0100
TZOFFSETTO:+0200
TZNAME:CEST
DTSTART:20180325T010000
END:DAYLIGHT
BEGIN:STANDARD
TZOFFSETFROM:+0200
TZOFFSETTO:+0100
TZNAME:CET
DTSTART:20181028T010000
END:STANDARD
BEGIN:DAYLIGHT
TZOFFSETFROM:+0100
TZOFFSETTO:+0200
TZNAME:CEST
DTSTART:20190331T010000
END:DAYLIGHT
BEGIN:STANDARD
TZOFFSETFROM:+0200
TZOFFSETTO:+0100
TZNAME:CET
DTSTART:20191027T010000
END:STANDARD
END:VTIMEZONE
BEGIN:VEVENT
DTSTART;TZID=Europe/Paris:20180202T190000
DTEND;TZID=Europe/Paris:20180202T203000
DTSTAMP:20260420T130022
CREATED:20180127T221616Z
LAST-MODIFIED:20180127T221616Z
UID:2562-1517598000-1517603400@www.addistres.fr
SUMMARY:Réunion d'évangélisation
DESCRIPTION:Chaque vendredi à 19h00 le pasteur Joël Prudent parle librement de la bible et de la vie de Jésus-Christ notre Sauveur.
URL:https://www.addistres.fr/event/reunion-devangelisation-22/
LOCATION:Église FPMA de Marseille\, 258 Bd Romain Rolland\, Marseille\, 13009\, France
CATEGORIES:Evangélisation
ORGANIZER;CN="Assembl%C3%A9e de Dieu d'Istres":MAILTO:addistres@gmail.com
END:VEVENT
BEGIN:VEVENT
DTSTART;TZID=Europe/Paris:20180203T173000
DTEND;TZID=Europe/Paris:20180203T190000
DTSTAMP:20260420T130022
CREATED:20180127T221833Z
LAST-MODIFIED:20180127T221923Z
UID:2564-1517679000-1517684400@www.addistres.fr
SUMMARY:Réunion de jeunesse
DESCRIPTION:Le 3 février\, les jeunes de l’église se réuniront afin de passer un moment agréable autour de la parole de Dieu. \nCe sera aussi l’occasion pour eux de mieux se connaître et ainsi créer des liens fraternels et d’amitiés.
URL:https://www.addistres.fr/event/reunion-de-jeunesse-7/
LOCATION:Église FPMA de Marseille\, 258 Bd Romain Rolland\, Marseille\, 13009\, France
CATEGORIES:Jeunesse
ATTACH;FMTTYPE=image/jpeg:https://www.addistres.fr/wp-content/uploads/2018/01/Réunion-jeunesse-3-février.jpg
ORGANIZER;CN="Assembl%C3%A9e de Dieu d'Istres":MAILTO:addistres@gmail.com
END:VEVENT
BEGIN:VEVENT
DTSTART;TZID=Europe/Paris:20180204T095000
DTEND;TZID=Europe/Paris:20180204T113000
DTSTAMP:20260420T130022
CREATED:20180127T222112Z
LAST-MODIFIED:20180127T222112Z
UID:2568-1517737800-1517743800@www.addistres.fr
SUMMARY:Culte
DESCRIPTION:Venez célébrer le Roi et adorez le Seigneur. Message apporté par le pasteur Jean-Claude VILLA pour la journée. \nGarderie pour les enfants de 0 à 5 ans. \nClub des enfants de 6 à 12 ans.
URL:https://www.addistres.fr/event/culte-19/
LOCATION:Église FPMA de Marseille\, 258 Bd Romain Rolland\, Marseille\, 13009\, France
CATEGORIES:Culte
ORGANIZER;CN="Assembl%C3%A9e de Dieu d'Istres":MAILTO:addistres@gmail.com
END:VEVENT
BEGIN:VEVENT
DTSTART;TZID=Europe/Paris:20180204T153000
DTEND;TZID=Europe/Paris:20180204T163000
DTSTAMP:20260420T130022
CREATED:20180127T222307Z
LAST-MODIFIED:20180306T214844Z
UID:2570-1517758200-1517761800@www.addistres.fr
SUMMARY:Réunion d'évangélisation
DESCRIPTION:Réunion d’évangélisation le dimanche 4 février à 15h30 à l’église. \nAmenez vos amis et votre famille afin de leur faire écouter le message de l’évangile\, apporté par le pasteur Jean-Claude VILLA.
URL:https://www.addistres.fr/event/reunion-devangelisation-23/
LOCATION:Église FPMA de Marseille\, 258 Bd Romain Rolland\, Marseille\, 13009\, France
CATEGORIES:Evangélisation
ORGANIZER;CN="Assembl%C3%A9e de Dieu d'Istres":MAILTO:addistres@gmail.com
END:VEVENT
BEGIN:VEVENT
DTSTART;TZID=Europe/Paris:20180206T090000
DTEND;TZID=Europe/Paris:20180206T110000
DTSTAMP:20260420T130022
CREATED:20180127T224808Z
LAST-MODIFIED:20180314T001801Z
UID:2577-1517907600-1517914800@www.addistres.fr
SUMMARY:Stand biblique
DESCRIPTION:Tous les mardis matins\, pendant le marché d’Istres\, une équipe de chrétiens tient le stand biblique de l’église afin d’échanger autour de la parole\, d’offrir une bible ou de témoigner de la vie de Jésus-Christ.
URL:https://www.addistres.fr/event/stand-biblique-16/
LOCATION:Add Istres\, Impasse du Rouquier\, Istres\, Bouches-du-Rhône\, 13800\, France
CATEGORIES:Stand Biblique
ORGANIZER;CN="Assembl%C3%A9e de Dieu d'Istres":MAILTO:addistres@gmail.com
END:VEVENT
BEGIN:VEVENT
DTSTART;TZID=Europe/Paris:20180206T190000
DTEND;TZID=Europe/Paris:20180206T203000
DTSTAMP:20260420T130022
CREATED:20180127T224937Z
LAST-MODIFIED:20180127T224937Z
UID:2579-1517943600-1517949000@www.addistres.fr
SUMMARY:Réunion de prières
DESCRIPTION:Tous les mardis à 19h00\, les chrétiens se réunissent dans la prière et l’intercession. Une étude biblique est ensuite apportée afin d’édifier le peuple de Dieu.
URL:https://www.addistres.fr/event/reunion-de-prieres-16/
LOCATION:Église FPMA de Marseille\, 258 Bd Romain Rolland\, Marseille\, 13009\, France
CATEGORIES:Prière
ORGANIZER;CN="Assembl%C3%A9e de Dieu d'Istres":MAILTO:addistres@gmail.com
END:VEVENT
BEGIN:VEVENT
DTSTART;TZID=Europe/Paris:20180209T190000
DTEND;TZID=Europe/Paris:20180209T203000
DTSTAMP:20260420T130022
CREATED:20180127T225119Z
LAST-MODIFIED:20180127T225119Z
UID:2581-1518202800-1518208200@www.addistres.fr
SUMMARY:Réunion d'évangélisation
DESCRIPTION:Chaque vendredi à 19h00 le pasteur Joël Prudent parle librement de la bible et de la vie de Jésus-Christ notre Sauveur.
URL:https://www.addistres.fr/event/reunion-devangelisation-24/
LOCATION:Église FPMA de Marseille\, 258 Bd Romain Rolland\, Marseille\, 13009\, France
CATEGORIES:Evangélisation
ORGANIZER;CN="Assembl%C3%A9e de Dieu d'Istres":MAILTO:addistres@gmail.com
END:VEVENT
BEGIN:VEVENT
DTSTART;TZID=Europe/Paris:20180210T170000
DTEND;TZID=Europe/Paris:20180210T190000
DTSTAMP:20260420T130022
CREATED:20180203T224242Z
LAST-MODIFIED:20180314T001815Z
UID:2618-1518282000-1518289200@www.addistres.fr
SUMMARY:Rencontre régionale de jeunesse
DESCRIPTION:Rencontre régionale de jeunesse à l’église de Marignane\, le samedi 10 février. \nLes jeunes se réuniront ensemble afin de créer des liens d’amitiés mais surtout pour partager des moments spirituels avec Jésus comme épicentre. \nDépart groupé en covoiturage devant l’église. Horaire de départ à définir.
URL:https://www.addistres.fr/event/rencontre-regionale-de-jeunesse/
LOCATION:ADD Marignane\, 4\, avenue de l'Europe\, Marignane\, 13700\, France
CATEGORIES:Jeunesse
ATTACH;FMTTYPE=image/jpeg:https://www.addistres.fr/wp-content/uploads/2018/02/Rencontre-régionale-jeunesse.jpg
ORGANIZER;CN="Assembl%C3%A9e de Dieu d'Istres":MAILTO:addistres@gmail.com
END:VEVENT
BEGIN:VEVENT
DTSTART;TZID=Europe/Paris:20180211T095000
DTEND;TZID=Europe/Paris:20180211T113000
DTSTAMP:20260420T130022
CREATED:20180127T223159Z
LAST-MODIFIED:20180127T223159Z
UID:2572-1518342600-1518348600@www.addistres.fr
SUMMARY:Culte
DESCRIPTION:Venez célébrer le Roi et adorez le Seigneur. Message apporté par le pasteur Joël Prudent. \nGarderie pour les enfants de 0 à 5 ans. \nClub des enfants de 6 à 12 ans.
URL:https://www.addistres.fr/event/culte-20/
LOCATION:Église FPMA de Marseille\, 258 Bd Romain Rolland\, Marseille\, 13009\, France
CATEGORIES:Culte
ORGANIZER;CN="Assembl%C3%A9e de Dieu d'Istres":MAILTO:addistres@gmail.com
END:VEVENT
BEGIN:VEVENT
DTSTART;TZID=Europe/Paris:20180211T150000
DTEND;TZID=Europe/Paris:20180211T170000
DTSTAMP:20260420T130022
CREATED:20180127T224545Z
LAST-MODIFIED:20180127T224545Z
UID:2574-1518361200-1518368400@www.addistres.fr
SUMMARY:Evangélisation
DESCRIPTION:Formation d’évangélisation. \nDimanche 11 février à 15h. Savoir témoigner aux musulmans.
URL:https://www.addistres.fr/event/evangelisation/
LOCATION:Église FPMA de Marseille\, 258 Bd Romain Rolland\, Marseille\, 13009\, France
CATEGORIES:Evangélisation
ATTACH;FMTTYPE=image/jpeg:https://www.addistres.fr/wp-content/uploads/2018/01/Témoigner-musulmans.jpg
ORGANIZER;CN="Assembl%C3%A9e de Dieu d'Istres":MAILTO:addistres@gmail.com
END:VEVENT
BEGIN:VEVENT
DTSTART;TZID=Europe/Paris:20180213T090000
DTEND;TZID=Europe/Paris:20180213T110000
DTSTAMP:20260420T130022
CREATED:20180128T181037Z
LAST-MODIFIED:20180314T001828Z
UID:2610-1518512400-1518519600@www.addistres.fr
SUMMARY:Stand biblique
DESCRIPTION:Tous les mardis matins\, pendant le marché d’Istres\, une équipe de chrétiens tient le stand biblique de l’église afin d’échanger autour de la parole\, d’offrir une bible ou de témoigner de la vie de Jésus-Christ.
URL:https://www.addistres.fr/event/stand-biblique-19/
LOCATION:Add Istres\, Impasse du Rouquier\, Istres\, Bouches-du-Rhône\, 13800\, France
CATEGORIES:Stand Biblique
ORGANIZER;CN="Assembl%C3%A9e de Dieu d'Istres":MAILTO:addistres@gmail.com
END:VEVENT
BEGIN:VEVENT
DTSTART;TZID=Europe/Paris:20180213T190000
DTEND;TZID=Europe/Paris:20180213T203000
DTSTAMP:20260420T130022
CREATED:20180128T173917Z
LAST-MODIFIED:20180128T173917Z
UID:2588-1518548400-1518553800@www.addistres.fr
SUMMARY:Réunion de prières
DESCRIPTION:Tous les mardis à 19h00\, les chrétiens se réunissent dans la prière et l’intercession. Une étude biblique est ensuite apportée afin d’édifier le peuple de Dieu.
URL:https://www.addistres.fr/event/reunion-de-prieres-17/
LOCATION:Église FPMA de Marseille\, 258 Bd Romain Rolland\, Marseille\, 13009\, France
CATEGORIES:Prière
ORGANIZER;CN="Assembl%C3%A9e de Dieu d'Istres":MAILTO:addistres@gmail.com
END:VEVENT
BEGIN:VEVENT
DTSTART;TZID=Europe/Paris:20180215T090000
DTEND;TZID=Europe/Paris:20180215T100000
DTSTAMP:20260420T130022
CREATED:20180127T231001Z
LAST-MODIFIED:20180314T001927Z
UID:2583-1518685200-1518688800@www.addistres.fr
SUMMARY:Réunion de femmes
DESCRIPTION:Le jeudi 15 février de 9h à 10h et de 18h30 à 19h30\, les soeurs se réunissent pour une réunion de prières réservée aux femmes.
URL:https://www.addistres.fr/event/reunion-de-femmes-8/
LOCATION:Église FPMA de Marseille\, 258 Bd Romain Rolland\, Marseille\, 13009\, France
CATEGORIES:Femmes
ATTACH;FMTTYPE=image/jpeg:https://www.addistres.fr/wp-content/uploads/2018/01/Réunion-de-femmes.jpg
ORGANIZER;CN="Assembl%C3%A9e de Dieu d'Istres":MAILTO:addistres@gmail.com
END:VEVENT
BEGIN:VEVENT
DTSTART;TZID=Europe/Paris:20180215T183000
DTEND;TZID=Europe/Paris:20180215T193000
DTSTAMP:20260420T130022
CREATED:20180127T231119Z
LAST-MODIFIED:20180314T001853Z
UID:2586-1518719400-1518723000@www.addistres.fr
SUMMARY:Réunion de femmes
DESCRIPTION:Le jeudi 15 févriier de 9h à 10h et de 18h30 à 19h30\, les soeurs se réunissent pour une réunion de prières réservée aux femmes.
URL:https://www.addistres.fr/event/reunion-de-femmes-9/
LOCATION:Église FPMA de Marseille\, 258 Bd Romain Rolland\, Marseille\, 13009\, France
CATEGORIES:Femmes
ATTACH;FMTTYPE=image/jpeg:https://www.addistres.fr/wp-content/uploads/2018/01/Réunion-de-femmes.jpg
ORGANIZER;CN="Assembl%C3%A9e de Dieu d'Istres":MAILTO:addistres@gmail.com
END:VEVENT
BEGIN:VEVENT
DTSTART;TZID=Europe/Paris:20180216T190000
DTEND;TZID=Europe/Paris:20180216T203000
DTSTAMP:20260420T130022
CREATED:20180128T174559Z
LAST-MODIFIED:20180128T174559Z
UID:2595-1518807600-1518813000@www.addistres.fr
SUMMARY:Réunion d'évangélisation
DESCRIPTION:Chaque vendredi à 19h00 le pasteur Joël Prudent parle librement de la bible et de la vie de Jésus-Christ notre Sauveur.
URL:https://www.addistres.fr/event/reunion-devangelisation-25/
LOCATION:Église FPMA de Marseille\, 258 Bd Romain Rolland\, Marseille\, 13009\, France
CATEGORIES:Evangélisation
ORGANIZER;CN="Assembl%C3%A9e de Dieu d'Istres":MAILTO:addistres@gmail.com
END:VEVENT
BEGIN:VEVENT
DTSTART;TZID=Europe/Paris:20180217T173000
DTEND;TZID=Europe/Paris:20180217T190000
DTSTAMP:20260420T130022
CREATED:20180128T180417Z
LAST-MODIFIED:20180314T001836Z
UID:2603-1518888600-1518894000@www.addistres.fr
SUMMARY:Réunion de jeunesse
DESCRIPTION:Le 17 février\, les jeunes de l’église se réuniront afin de passer un moment agréable autour de la parole de Dieu. \nCe sera aussi l’occasion pour eux de mieux se connaître et ainsi créer des liens fraternels et d’amitiés.
URL:https://www.addistres.fr/event/reunion-de-jeunesse-8/
LOCATION:Église FPMA de Marseille\, 258 Bd Romain Rolland\, Marseille\, 13009\, France
CATEGORIES:Jeunesse
ATTACH;FMTTYPE=image/jpeg:https://www.addistres.fr/wp-content/uploads/2018/01/réunion-de-jeunesse-17-février.jpg
ORGANIZER;CN="Assembl%C3%A9e de Dieu d'Istres":MAILTO:addistres@gmail.com
END:VEVENT
BEGIN:VEVENT
DTSTART;TZID=Europe/Paris:20180218T095000
DTEND;TZID=Europe/Paris:20180218T113000
DTSTAMP:20260420T130022
CREATED:20180128T180138Z
LAST-MODIFIED:20180128T180138Z
UID:2601-1518947400-1518953400@www.addistres.fr
SUMMARY:Culte
DESCRIPTION:Venez célébrer le Roi et adorez le Seigneur. Message apporté par le pasteur Pascal Lajoux. \nGarderie pour les enfants de 0 à 5 ans. \nClub des enfants de 6 à 12 ans.
URL:https://www.addistres.fr/event/culte-21/
LOCATION:Église FPMA de Marseille\, 258 Bd Romain Rolland\, Marseille\, 13009\, France
CATEGORIES:Culte
ORGANIZER;CN="Assembl%C3%A9e de Dieu d'Istres":MAILTO:addistres@gmail.com
END:VEVENT
BEGIN:VEVENT
DTSTART;TZID=Europe/Paris:20180220T090000
DTEND;TZID=Europe/Paris:20180220T110000
DTSTAMP:20260420T130022
CREATED:20180128T180858Z
LAST-MODIFIED:20180314T001844Z
UID:2608-1519117200-1519124400@www.addistres.fr
SUMMARY:Stand biblique
DESCRIPTION:Tous les mardis matins\, pendant le marché d’Istres\, une équipe de chrétiens tient le stand biblique de l’église afin d’échanger autour de la parole\, d’offrir une bible ou de témoigner de la vie de Jésus-Christ.
URL:https://www.addistres.fr/event/stand-biblique-18/
LOCATION:Stand Biblique\, avenue Hélène Boucher\, Istres\, Bouches-du-Rhône\, 13800\, France
CATEGORIES:Stand Biblique
ORGANIZER;CN="Assembl%C3%A9e de Dieu d'Istres":MAILTO:addistres@gmail.com
END:VEVENT
BEGIN:VEVENT
DTSTART;TZID=Europe/Paris:20180220T190000
DTEND;TZID=Europe/Paris:20180220T203000
DTSTAMP:20260420T130022
CREATED:20180128T174145Z
LAST-MODIFIED:20180128T174145Z
UID:2591-1519153200-1519158600@www.addistres.fr
SUMMARY:Réunion de prières
DESCRIPTION:Tous les mardis à 19h00\, les chrétiens se réunissent dans la prière et l’intercession. Une étude biblique est ensuite apportée afin d’édifier le peuple de Dieu
URL:https://www.addistres.fr/event/reunion-de-prieres-18/
LOCATION:Église FPMA de Marseille\, 258 Bd Romain Rolland\, Marseille\, 13009\, France
CATEGORIES:Prière
ORGANIZER;CN="Assembl%C3%A9e de Dieu d'Istres":MAILTO:addistres@gmail.com
END:VEVENT
BEGIN:VEVENT
DTSTART;TZID=Europe/Paris:20180223T190000
DTEND;TZID=Europe/Paris:20180223T200000
DTSTAMP:20260420T130022
CREATED:20180128T174736Z
LAST-MODIFIED:20180217T204758Z
UID:2597-1519412400-1519416000@www.addistres.fr
SUMMARY:Réunion d'évangélisation
DESCRIPTION:Chaque vendredi à 19h00 le pasteur Joël Prudent parle librement de la bible et de la vie de Jésus-Christ notre Sauveur.
URL:https://www.addistres.fr/event/reunion-devangelisation-26/
LOCATION:Église FPMA de Marseille\, 258 Bd Romain Rolland\, Marseille\, 13009\, France
CATEGORIES:Evangélisation
ORGANIZER;CN="Assembl%C3%A9e de Dieu d'Istres":MAILTO:addistres@gmail.com
END:VEVENT
BEGIN:VEVENT
DTSTART;TZID=Europe/Paris:20180225T095000
DTEND;TZID=Europe/Paris:20180225T113000
DTSTAMP:20260420T130022
CREATED:20180128T180655Z
LAST-MODIFIED:20180217T205218Z
UID:2606-1519552200-1519558200@www.addistres.fr
SUMMARY:Culte
DESCRIPTION:Venez célébrer le Roi et adorez le Seigneur. Le pasteur Joël Prudent sera invité à l’église de Marseille La Rose. \nPrédication par notre frère Dominique Lormier. \nGarderie pour les enfants de 0 à 5 ans. \nClub des enfants de 6 à 12 ans.
URL:https://www.addistres.fr/event/culte-22/
LOCATION:Église FPMA de Marseille\, 258 Bd Romain Rolland\, Marseille\, 13009\, France
CATEGORIES:Culte
ORGANIZER;CN="Assembl%C3%A9e de Dieu d'Istres":MAILTO:addistres@gmail.com
END:VEVENT
BEGIN:VEVENT
DTSTART;TZID=Europe/Paris:20180227T090000
DTEND;TZID=Europe/Paris:20180227T110000
DTSTAMP:20260420T130022
CREATED:20180128T181222Z
LAST-MODIFIED:20180314T001745Z
UID:2612-1519722000-1519729200@www.addistres.fr
SUMMARY:Stand biblique
DESCRIPTION:Tous les mardis matins\, pendant le marché d’Istres\, une équipe de chrétiens tient le stand biblique de l’église afin d’échanger autour de la parole\, d’offrir une bible ou de témoigner de la vie de Jésus-Christ.
URL:https://www.addistres.fr/event/stand-biblique-20/
LOCATION:Add Istres\, Impasse du Rouquier\, Istres\, Bouches-du-Rhône\, 13800\, France
CATEGORIES:Stand Biblique
ORGANIZER;CN="Assembl%C3%A9e de Dieu d'Istres":MAILTO:addistres@gmail.com
END:VEVENT
BEGIN:VEVENT
DTSTART;TZID=Europe/Paris:20180227T190000
DTEND;TZID=Europe/Paris:20180227T203000
DTSTAMP:20260420T130022
CREATED:20180128T174340Z
LAST-MODIFIED:20180128T174430Z
UID:2593-1519758000-1519763400@www.addistres.fr
SUMMARY:Réunion de prières
DESCRIPTION:Tous les mardis à 19h00\, les chrétiens se réunissent dans la prière et l’intercession. Une étude biblique est ensuite apportée afin d’édifier le peuple de Dieu
URL:https://www.addistres.fr/event/reunion-de-prieres-19/
LOCATION:Église FPMA de Marseille\, 258 Bd Romain Rolland\, Marseille\, 13009\, France
CATEGORIES:Prière
ORGANIZER;CN="Assembl%C3%A9e de Dieu d'Istres":MAILTO:addistres@gmail.com
END:VEVENT
END:VCALENDAR